BEGIN:VCALENDAR
VERSION:2.0
PRODID:-//Meals on Wheels Community Center - ECPv6.15.20//NONSGML v1.0//EN
CALSCALE:GREGORIAN
METHOD:PUBLISH
X-ORIGINAL-URL:https://mowcommunitycenter.org
X-WR-CALDESC:Events for Meals on Wheels Community Center
REFRESH-INTERVAL;VALUE=DURATION:PT1H
X-Robots-Tag:noindex
X-PUBLISHED-TTL:PT1H
BEGIN:VTIMEZONE
TZID:America/Denver
BEGIN:DAYLIGHT
TZOFFSETFROM:-0700
TZOFFSETTO:-0600
TZNAME:MDT
DTSTART:20240310T090000
END:DAYLIGHT
BEGIN:STANDARD
TZOFFSETFROM:-0600
TZOFFSETTO:-0700
TZNAME:MST
DTSTART:20241103T080000
END:STANDARD
BEGIN:DAYLIGHT
TZOFFSETFROM:-0700
TZOFFSETTO:-0600
TZNAME:MDT
DTSTART:20250309T090000
END:DAYLIGHT
BEGIN:STANDARD
TZOFFSETFROM:-0600
TZOFFSETTO:-0700
TZNAME:MST
DTSTART:20251102T080000
END:STANDARD
BEGIN:DAYLIGHT
TZOFFSETFROM:-0700
TZOFFSETTO:-0600
TZNAME:MDT
DTSTART:20260308T090000
END:DAYLIGHT
BEGIN:STANDARD
TZOFFSETFROM:-0600
TZOFFSETTO:-0700
TZNAME:MST
DTSTART:20261101T080000
END:STANDARD
END:VTIMEZONE
BEGIN:VEVENT
DTSTART;TZID=America/Denver:20250612T110000
DTEND;TZID=America/Denver:20250612T123000
DTSTAMP:20260419T114734
CREATED:20250611T142753Z
LAST-MODIFIED:20251103T211049Z
UID:10012579-1749726000-1749731400@mowcommunitycenter.org
SUMMARY:Group Dining Luncheon
DESCRIPTION:Daily Lunch Service\nMonday through Friday | 11:00 AM – 1:00 PM \n\nSeating begins: 11:00 AM\nBeverage service: 11:30 AM\nTable service: 11:45 AM – 12:30 PM\nSuggested donation: $3.00 for seniors\, $7.50 for others\n\nEnjoy a delicious three-course luncheon that meets Federal nutrition standards in a warm\, welcoming atmosphere. Make new friends\, catch up with neighbors\, and savor chef-prepared meals featuring fresh\, local ingredients. \nWhy Join Us?\n✨ Nutritious & Delicious: Chef-prepared meals meeting Federal nutrition guidelines\n✨ Affordable: Voluntary donations help keep our doors open\n✨ Social Connection: End isolation and build lasting friendships\n✨ Entertainment: Live music and special events throughout the week\n✨ Welcoming: All enrolled seniors can enjoy meals regardless of ability to donate\n✨ Convenient: Reservations encouraged but walk-ins welcome \nReady to join our table family? Call us to make a reservation or simply come by – we’d love to meet you! Experience the joy of sharing good food and great company in the heart of our community.
URL:https://mowcommunitycenter.org/event/group-dining-luncheon/2025-06-12/
LOCATION:Dining Room @ Meals on Wheels Community Center\, 700 Jewell Avenue\, Pacific Grove\, CA\, 93950\, United States
CATEGORIES:Group Dining
ATTACH;FMTTYPE=image/webp:https://mowcommunitycenter.org/wp-content/uploads/2025/06/groupdining_setting.webp
END:VEVENT
BEGIN:VEVENT
DTSTART;TZID=America/Denver:20250612T143000
DTEND;TZID=America/Denver:20250612T153000
DTSTAMP:20260419T114734
CREATED:20250611T151844Z
LAST-MODIFIED:20251103T215830Z
UID:10019609-1749738600-1749742200@mowcommunitycenter.org
SUMMARY:Tai Chi 24 Forms
DESCRIPTION:Join a supportive group of Tai Chi enthusiasts for weekly practice of the 24 Forms. This graceful\, low-impact exercise promotes balance\, flexibility\, strength\, and overall wellness. All experience levels welcome—come move\, breathe\, and flow with us. \nCenter membership required.
URL:https://mowcommunitycenter.org/event/tai-chi-24-forms/2025-06-12/
LOCATION:Health & Fitness Room @ Meals on Wheels Community Center\, 700 Jewell Avenue\, Pacific Grove\, CA\, 93950\, United States
CATEGORIES:Programs & Classes
ATTACH;FMTTYPE=image/webp:https://mowcommunitycenter.org/wp-content/uploads/2025/06/Tai-Chi-24-Forms.webp
END:VEVENT
END:VCALENDAR