BEGIN:VCALENDAR
VERSION:2.0
PRODID:-//Meals on Wheels Community Center - ECPv6.15.20//NONSGML v1.0//EN
CALSCALE:GREGORIAN
METHOD:PUBLISH
X-ORIGINAL-URL:https://mowcommunitycenter.org
X-WR-CALDESC:Events for Meals on Wheels Community Center
REFRESH-INTERVAL;VALUE=DURATION:PT1H
X-Robots-Tag:noindex
X-PUBLISHED-TTL:PT1H
BEGIN:VTIMEZONE
TZID:America/Denver
BEGIN:DAYLIGHT
TZOFFSETFROM:-0700
TZOFFSETTO:-0600
TZNAME:MDT
DTSTART:20240310T090000
END:DAYLIGHT
BEGIN:STANDARD
TZOFFSETFROM:-0600
TZOFFSETTO:-0700
TZNAME:MST
DTSTART:20241103T080000
END:STANDARD
BEGIN:DAYLIGHT
TZOFFSETFROM:-0700
TZOFFSETTO:-0600
TZNAME:MDT
DTSTART:20250309T090000
END:DAYLIGHT
BEGIN:STANDARD
TZOFFSETFROM:-0600
TZOFFSETTO:-0700
TZNAME:MST
DTSTART:20251102T080000
END:STANDARD
BEGIN:DAYLIGHT
TZOFFSETFROM:-0700
TZOFFSETTO:-0600
TZNAME:MDT
DTSTART:20260308T090000
END:DAYLIGHT
BEGIN:STANDARD
TZOFFSETFROM:-0600
TZOFFSETTO:-0700
TZNAME:MST
DTSTART:20261101T080000
END:STANDARD
END:VTIMEZONE
BEGIN:VEVENT
DTSTART;TZID=America/Denver:20250701T110000
DTEND;TZID=America/Denver:20250701T123000
DTSTAMP:20260425T072654
CREATED:20250624T211513Z
LAST-MODIFIED:20250624T211513Z
UID:10009198-1751367600-1751373000@mowcommunitycenter.org
SUMMARY:Group Dining - Bratwurst Special
DESCRIPTION:🍽️ German-Style Lunch at the Community Center! 🍽️ \nJoin us for a hearty\, delicious meal featuring authentic bratwurst served with creamy mashed potatoes and tangy red cabbage – a classic comfort food combination that’s sure to warm your heart and satisfy your appetite! \nWhen: [Date]\nTime: Seating begins at 11:00 AM | Beverages at 11:30 AM | Table service 11:45 AM – 12:30 PM\nWhere: Meals on Wheels Community Center Dining Room \nCome hungry and leave happy! This three-course luncheon meets Federal nutrition standards while delivering the hearty flavors you crave. It’s more than just a meal – it’s your chance to catch up with friends\, make new connections\, and enjoy great conversation in our welcoming dining room. \nSuggested Donation: $3.00 for seniors | $7.50 for others\nDonation is voluntary – all enrolled seniors welcome regardless of ability to donate \nGood food\, great company\, guaranteed good time!
URL:https://mowcommunitycenter.org/event/group-dining-bratwurst-special/
LOCATION:Dining Room @ Meals on Wheels Community Center\, 700 Jewell Avenue\, Pacific Grove\, CA\, 93950\, United States
CATEGORIES:Center Events,Group Dining
ATTACH;FMTTYPE=image/webp:https://mowcommunitycenter.org/wp-content/uploads/2025/06/GroupDining_Menu_BratwurstRedCabbage.webp
END:VEVENT
BEGIN:VEVENT
DTSTART;TZID=America/Denver:20250702T083000
DTEND;TZID=America/Denver:20250702T220000
DTSTAMP:20260425T072654
CREATED:20250611T172828Z
LAST-MODIFIED:20251103T211155Z
UID:10013988-1751445000-1751493600@mowcommunitycenter.org
SUMMARY:Food Bank Distribution
DESCRIPTION:Stop by for fresh\, nutritious produce and bread—free of charge. Open to all Center members\, this weekly distribution helps support healthy eating and food security in our community. \n🥖 Supplies are limited\, so please take only what you need to ensure everyone has a chance to benefit. \n📍 First come\, first served.Let’s nourish our community—together.
URL:https://mowcommunitycenter.org/event/food-bank-distribution/2025-07-02/
LOCATION:Jewell Room @ Meals on Wheels Community Center\, 700 Jewell Avenue\, Pacific Grove\, CA\, 93950\, United States
CATEGORIES:Center Events
ATTACH;FMTTYPE=image/webp:https://mowcommunitycenter.org/wp-content/uploads/2025/06/Food-Distribution2.webp
END:VEVENT
BEGIN:VEVENT
DTSTART;TZID=America/Denver:20250702T083000
DTEND;TZID=America/Denver:20250702T220000
DTSTAMP:20260425T072654
CREATED:20250611T173102Z
LAST-MODIFIED:20251103T205347Z
UID:10010217-1751445000-1751493600@mowcommunitycenter.org
SUMMARY:Market Day Wednesdays
DESCRIPTION:Don’t miss our Market Day exclusive offers featuring the best in seasonal produce straight from local farms! It’s the perfect opportunity to stock your pantry with healthy\, farm-fresh goods for you and your loved ones. \nSupport local agriculture\, eat well\, and savor the flavors of the season—only on Wednesdays at the Center!
URL:https://mowcommunitycenter.org/event/market-day-wednesdays/2025-07-02/
LOCATION:Jewell Room @ Meals on Wheels Community Center\, 700 Jewell Avenue\, Pacific Grove\, CA\, 93950\, United States
CATEGORIES:Center Events
ATTACH;FMTTYPE=image/webp:https://mowcommunitycenter.org/wp-content/uploads/2025/06/market-day.webp
END:VEVENT
BEGIN:VEVENT
DTSTART;TZID=America/Denver:20250703T110000
DTEND;TZID=America/Denver:20250703T123000
DTSTAMP:20260425T072654
CREATED:20250624T211917Z
LAST-MODIFIED:20250625T173606Z
UID:10009200-1751540400-1751545800@mowcommunitycenter.org
SUMMARY:Group Dining - Spaghetti Primavera with Garlic Bread
DESCRIPTION:Join us for a delicious three-course lunch featuring fresh Spaghetti Primavera with warm\, buttery Garlic Bread! \nGather around our community table for good food and even better company. Our chef-prepared Spaghetti Primavera bursts with seasonal vegetables and perfectly cooked pasta\, paired with aromatic garlic bread that’s baked fresh daily. This complete meal meets Federal nutrition standards while delivering comfort food satisfaction. \nSchedule: \n\nSeating begins: 11:00 AM\nBeverage service: 11:30 AM\nTable service: 11:45 AM – 12:30 PM\n\nWhat to Expect: \n\nThree-course nutritious meal\nWarm\, welcoming atmosphere\nChance to meet new friends and reconnect with familiar faces\nPossible entertainment from local musicians\n\nCost: $3.00 suggested donation for seniors\, $7.50 for others (voluntary – all enrolled seniors welcome regardless of ability to donate) \nCome hungry\, leave happy\, and discover why our community dining is the highlight of so many people’s day.
URL:https://mowcommunitycenter.org/event/group-dining-spaghetti-primavera-with-garlic-bread/
LOCATION:Dining Room @ Meals on Wheels Community Center\, 700 Jewell Avenue\, Pacific Grove\, CA\, 93950\, United States
CATEGORIES:Center Events,Group Dining
ATTACH;FMTTYPE=image/webp:https://mowcommunitycenter.org/wp-content/uploads/2025/06/GroupDining_Menu_SpaghettiPrimavera.webp
END:VEVENT
BEGIN:VEVENT
DTSTART;VALUE=DATE:20250704
DTEND;VALUE=DATE:20250705
DTSTAMP:20260425T072654
CREATED:20250625T183044Z
LAST-MODIFIED:20250625T183044Z
UID:10009227-1751587200-1751673599@mowcommunitycenter.org
SUMMARY:CLOSED - Independence Day Holiday
DESCRIPTION:Date: Friday\, July 4th\nAll Day Event \n🇺🇸 Meals on Wheels Community Center will be CLOSED Friday\, July 4th in observance of Independence Day. \nWhat this means: \n\nNo Group Dining service on Friday\, July 4th\nCommunity Center programs and activities suspended for the day\nRegular Home Delivered Meals recipients will receive their weekend meal on Thursday\, July 3rd\n\nWe’ll be back: Regular services resume Monday\, July 7th with normal hours and programming. \nHave a safe and happy Independence Day celebration with family and friends! We look forward to welcoming you back to the Community Center next week. \nFor any questions or concerns\, please contact us at [phone number] or email [email address]
URL:https://mowcommunitycenter.org/event/closed-independence-day-holiday/
LOCATION:Meals on Wheels Community Center\, 700 Jewell Avenue\, Pacific Grove\, CA\, 93950\, United States
CATEGORIES:Center Events,Group Dining,Programs & Classes
END:VEVENT
BEGIN:VEVENT
DTSTART;TZID=America/Denver:20250707T110000
DTEND;TZID=America/Denver:20250707T123000
DTSTAMP:20260425T072654
CREATED:20250625T171301Z
LAST-MODIFIED:20250625T171301Z
UID:10009201-1751886000-1751891400@mowcommunitycenter.org
SUMMARY:Group Dining - Fish Fillet Au Vierge
DESCRIPTION:Three-Course Luncheon Seating begins at 11:00 AM | Beverage service at 11:30 AM | Table service 11:45 AM – 12:30 PM \nEscape the ordinary and treat yourself to an extraordinary dining experience! Our chef has prepared a delicious Fish Fillet Au Vierge – tender\, flaky fish in a light\, fresh herb sauce that’s simply divine. Paired with creamy mashed potatoes and our colorful Morning Harvest Vegetables\, this restaurant-quality meal meets all Federal nutrition standards while delighting your taste buds. \nBut the real feast is the company! Share stories\, make new friends\, and enjoy the warmth of community conversation in our welcoming dining room. Whether you’re a regular or joining us for the first time\, you’ll find yourself surrounded by friendly faces and engaging conversation. \nSuggested donation: $3.00 for seniors\, $7.50 for others (voluntary – all enrolled seniors welcome regardless of ability to donate) \nCome hungry\, leave happy\, and discover why our group dining is the highlight of so many people’s week.
URL:https://mowcommunitycenter.org/event/group-dining-fish-fillet-au-vierge/
LOCATION:Dining Room @ Meals on Wheels Community Center\, 700 Jewell Avenue\, Pacific Grove\, CA\, 93950\, United States
CATEGORIES:Center Events,Group Dining
ATTACH;FMTTYPE=image/webp:https://mowcommunitycenter.org/wp-content/uploads/2025/06/GroupDining_Menu_FishMash.webp
END:VEVENT
BEGIN:VEVENT
DTSTART;TZID=America/Denver:20250709T083000
DTEND;TZID=America/Denver:20250709T220000
DTSTAMP:20260425T072654
CREATED:20250611T172828Z
LAST-MODIFIED:20251103T211155Z
UID:10013989-1752049800-1752098400@mowcommunitycenter.org
SUMMARY:Food Bank Distribution
DESCRIPTION:Stop by for fresh\, nutritious produce and bread—free of charge. Open to all Center members\, this weekly distribution helps support healthy eating and food security in our community. \n🥖 Supplies are limited\, so please take only what you need to ensure everyone has a chance to benefit. \n📍 First come\, first served.Let’s nourish our community—together.
URL:https://mowcommunitycenter.org/event/food-bank-distribution/2025-07-09/
LOCATION:Jewell Room @ Meals on Wheels Community Center\, 700 Jewell Avenue\, Pacific Grove\, CA\, 93950\, United States
CATEGORIES:Center Events
ATTACH;FMTTYPE=image/webp:https://mowcommunitycenter.org/wp-content/uploads/2025/06/Food-Distribution2.webp
END:VEVENT
BEGIN:VEVENT
DTSTART;TZID=America/Denver:20250709T083000
DTEND;TZID=America/Denver:20250709T220000
DTSTAMP:20260425T072654
CREATED:20250611T173102Z
LAST-MODIFIED:20251103T205347Z
UID:10010218-1752049800-1752098400@mowcommunitycenter.org
SUMMARY:Market Day Wednesdays
DESCRIPTION:Don’t miss our Market Day exclusive offers featuring the best in seasonal produce straight from local farms! It’s the perfect opportunity to stock your pantry with healthy\, farm-fresh goods for you and your loved ones. \nSupport local agriculture\, eat well\, and savor the flavors of the season—only on Wednesdays at the Center!
URL:https://mowcommunitycenter.org/event/market-day-wednesdays/2025-07-09/
LOCATION:Jewell Room @ Meals on Wheels Community Center\, 700 Jewell Avenue\, Pacific Grove\, CA\, 93950\, United States
CATEGORIES:Center Events
ATTACH;FMTTYPE=image/webp:https://mowcommunitycenter.org/wp-content/uploads/2025/06/market-day.webp
END:VEVENT
BEGIN:VEVENT
DTSTART;TZID=America/Denver:20250716T083000
DTEND;TZID=America/Denver:20250716T220000
DTSTAMP:20260425T072654
CREATED:20250611T172828Z
LAST-MODIFIED:20251103T211155Z
UID:10013990-1752654600-1752703200@mowcommunitycenter.org
SUMMARY:Food Bank Distribution
DESCRIPTION:Stop by for fresh\, nutritious produce and bread—free of charge. Open to all Center members\, this weekly distribution helps support healthy eating and food security in our community. \n🥖 Supplies are limited\, so please take only what you need to ensure everyone has a chance to benefit. \n📍 First come\, first served.Let’s nourish our community—together.
URL:https://mowcommunitycenter.org/event/food-bank-distribution/2025-07-16/
LOCATION:Jewell Room @ Meals on Wheels Community Center\, 700 Jewell Avenue\, Pacific Grove\, CA\, 93950\, United States
CATEGORIES:Center Events
ATTACH;FMTTYPE=image/webp:https://mowcommunitycenter.org/wp-content/uploads/2025/06/Food-Distribution2.webp
END:VEVENT
BEGIN:VEVENT
DTSTART;TZID=America/Denver:20250716T083000
DTEND;TZID=America/Denver:20250716T220000
DTSTAMP:20260425T072654
CREATED:20250611T173102Z
LAST-MODIFIED:20251103T205347Z
UID:10010219-1752654600-1752703200@mowcommunitycenter.org
SUMMARY:Market Day Wednesdays
DESCRIPTION:Don’t miss our Market Day exclusive offers featuring the best in seasonal produce straight from local farms! It’s the perfect opportunity to stock your pantry with healthy\, farm-fresh goods for you and your loved ones. \nSupport local agriculture\, eat well\, and savor the flavors of the season—only on Wednesdays at the Center!
URL:https://mowcommunitycenter.org/event/market-day-wednesdays/2025-07-16/
LOCATION:Jewell Room @ Meals on Wheels Community Center\, 700 Jewell Avenue\, Pacific Grove\, CA\, 93950\, United States
CATEGORIES:Center Events
ATTACH;FMTTYPE=image/webp:https://mowcommunitycenter.org/wp-content/uploads/2025/06/market-day.webp
END:VEVENT
BEGIN:VEVENT
DTSTART;TZID=America/Denver:20250721T110000
DTEND;TZID=America/Denver:20250721T123000
DTSTAMP:20260425T072654
CREATED:20250625T181358Z
LAST-MODIFIED:20250625T181358Z
UID:10009219-1753095600-1753101000@mowcommunitycenter.org
SUMMARY:Group Dining - Salmon Fillet & Lemon. RSVP Required.
DESCRIPTION:Join Us for Community Lunch! \nFeatured Menu: Delicious Salmon Fillet & Lemon with savory orzo pilaf and fresh seasonal vegetables \nWhen: Daily Lunch Service \n\nSeating begins: 11:00 AM\nBeverage service: 11:30 AM\nTable service: 11:45 AM – 12:30 PM\nDining room closes: 1:00 PM\n\nWhy Join Us? Enjoy a nutritious three-course meal that meets Federal nutrition standards while connecting with friends and neighbors in our warm\, welcoming dining room. Share stories\, make new connections\, and be part of our vibrant community family. \nSuggested Donation: $3.00 for seniors\, $7.50 for others (voluntary – all enrolled seniors welcome regardless of ability to donate) \nReservations Required – Call to reserve your spot for this delicious\, heart-healthy meal and wonderful company! \nCome hungry\, leave happy\, and feel nourished in body and spirit.
URL:https://mowcommunitycenter.org/event/group-dining-salmon-fillet-lemon-rsvp-required/
LOCATION:Dining Room @ Meals on Wheels Community Center\, 700 Jewell Avenue\, Pacific Grove\, CA\, 93950\, United States
CATEGORIES:Center Events,Group Dining
ATTACH;FMTTYPE=image/webp:https://mowcommunitycenter.org/wp-content/uploads/2025/06/GroupDining_Menu_Salmon-Fillet-With-Lemon.webp
END:VEVENT
BEGIN:VEVENT
DTSTART;TZID=America/Denver:20250723T083000
DTEND;TZID=America/Denver:20250723T220000
DTSTAMP:20260425T072654
CREATED:20250611T172828Z
LAST-MODIFIED:20251103T211155Z
UID:10013991-1753259400-1753308000@mowcommunitycenter.org
SUMMARY:Food Bank Distribution
DESCRIPTION:Stop by for fresh\, nutritious produce and bread—free of charge. Open to all Center members\, this weekly distribution helps support healthy eating and food security in our community. \n🥖 Supplies are limited\, so please take only what you need to ensure everyone has a chance to benefit. \n📍 First come\, first served.Let’s nourish our community—together.
URL:https://mowcommunitycenter.org/event/food-bank-distribution/2025-07-23/
LOCATION:Jewell Room @ Meals on Wheels Community Center\, 700 Jewell Avenue\, Pacific Grove\, CA\, 93950\, United States
CATEGORIES:Center Events
ATTACH;FMTTYPE=image/webp:https://mowcommunitycenter.org/wp-content/uploads/2025/06/Food-Distribution2.webp
END:VEVENT
BEGIN:VEVENT
DTSTART;TZID=America/Denver:20250723T083000
DTEND;TZID=America/Denver:20250723T220000
DTSTAMP:20260425T072654
CREATED:20250611T173102Z
LAST-MODIFIED:20251103T205347Z
UID:10010220-1753259400-1753308000@mowcommunitycenter.org
SUMMARY:Market Day Wednesdays
DESCRIPTION:Don’t miss our Market Day exclusive offers featuring the best in seasonal produce straight from local farms! It’s the perfect opportunity to stock your pantry with healthy\, farm-fresh goods for you and your loved ones. \nSupport local agriculture\, eat well\, and savor the flavors of the season—only on Wednesdays at the Center!
URL:https://mowcommunitycenter.org/event/market-day-wednesdays/2025-07-23/
LOCATION:Jewell Room @ Meals on Wheels Community Center\, 700 Jewell Avenue\, Pacific Grove\, CA\, 93950\, United States
CATEGORIES:Center Events
ATTACH;FMTTYPE=image/webp:https://mowcommunitycenter.org/wp-content/uploads/2025/06/market-day.webp
END:VEVENT
BEGIN:VEVENT
DTSTART;TZID=America/Denver:20250723T110000
DTEND;TZID=America/Denver:20250723T123000
DTSTAMP:20260425T072654
CREATED:20250625T181617Z
LAST-MODIFIED:20250625T181617Z
UID:10009221-1753268400-1753273800@mowcommunitycenter.org
SUMMARY:Group Dining - Chicken Enchilada Casserole
DESCRIPTION:Join us for a delicious three-course lunch featuring our mouth-watering Chicken Enchilada Casserole! \n🌶️ What’s on the menu? Our kitchen team has prepared a hearty\, flavorful casserole layered with tender chicken\, melted cheese\, and authentic seasonings that will warm your heart and satisfy your appetite. This complete meal meets Federal nutrition standards while delivering the comfort food flavors you crave. \n🤝 More than just a meal – Come for the food\, stay for the friendship! Our community dining room buzzes with laughter\, conversation\, and new connections. Whether you’re meeting old friends or making new ones\, there’s always a seat at our table. \nSchedule: \n\nSeating begins: 11:00 AM\nBeverage service: 11:30 AM\nTable service: 11:45 AM – 12:30 PM\n\nSuggested donation: $3.00 for seniors\, $7.50 for others (voluntary – all enrolled seniors welcome regardless of ability to donate) \nCome hungry\, leave happy\, and discover why our community table is the place to be on the Monterey Peninsula.
URL:https://mowcommunitycenter.org/event/group-dining-chicken-enchilada-casserole-2/
LOCATION:Dining Room @ Meals on Wheels Community Center\, 700 Jewell Avenue\, Pacific Grove\, CA\, 93950\, United States
CATEGORIES:Center Events,Group Dining
ATTACH;FMTTYPE=image/webp:https://mowcommunitycenter.org/wp-content/uploads/2025/06/GroupDining_Menu_Chicken-Enchilada.webp
END:VEVENT
BEGIN:VEVENT
DTSTART;TZID=America/Denver:20250729T110000
DTEND;TZID=America/Denver:20250729T123000
DTSTAMP:20260425T072654
CREATED:20250625T182540Z
LAST-MODIFIED:20250625T182540Z
UID:10009224-1753786800-1753792200@mowcommunitycenter.org
SUMMARY:Group Dining -BBQ Pork
DESCRIPTION:BBQ Pork with Roasted Potatoes & Morning Harvest Vegetables \nCome enjoy a hearty\, three-course lunch that meets Federal nutrition standards while connecting with friends old and new! Our talented kitchen staff has prepared tender BBQ pork paired with perfectly roasted potatoes and fresh morning harvest vegetables – a satisfying meal that nourishes both body and spirit. \nSchedule: \n\nSeating begins: 11:00 AM\nBeverage service: 11:30 AM\nTable service: 11:45 AM – 12:30 PM\nDining room closes: 1:00 PM\n\nSuggested Donation: $3.00 for seniors\, $7.50 for others Voluntary donation helps keep our program open. All enrolled seniors welcome regardless of ability to donate. \nMore than just a meal – it’s community! Share stories\, make new friends\, and enjoy the warmth of gathering together. Reservations encouraged but walk-ins welcome.
URL:https://mowcommunitycenter.org/event/group-dining-bbq-pork/
LOCATION:Dining Room @ Meals on Wheels Community Center\, 700 Jewell Avenue\, Pacific Grove\, CA\, 93950\, United States
CATEGORIES:Center Events,Group Dining
ATTACH;FMTTYPE=image/webp:https://mowcommunitycenter.org/wp-content/uploads/2025/06/GroupDining_Menu_BBQ-Pulled-Pork.webp
END:VEVENT
BEGIN:VEVENT
DTSTART;TZID=America/Denver:20250730T083000
DTEND;TZID=America/Denver:20250730T220000
DTSTAMP:20260425T072654
CREATED:20250611T172828Z
LAST-MODIFIED:20251103T211155Z
UID:10013992-1753864200-1753912800@mowcommunitycenter.org
SUMMARY:Food Bank Distribution
DESCRIPTION:Stop by for fresh\, nutritious produce and bread—free of charge. Open to all Center members\, this weekly distribution helps support healthy eating and food security in our community. \n🥖 Supplies are limited\, so please take only what you need to ensure everyone has a chance to benefit. \n📍 First come\, first served.Let’s nourish our community—together.
URL:https://mowcommunitycenter.org/event/food-bank-distribution/2025-07-30/
LOCATION:Jewell Room @ Meals on Wheels Community Center\, 700 Jewell Avenue\, Pacific Grove\, CA\, 93950\, United States
CATEGORIES:Center Events
ATTACH;FMTTYPE=image/webp:https://mowcommunitycenter.org/wp-content/uploads/2025/06/Food-Distribution2.webp
END:VEVENT
BEGIN:VEVENT
DTSTART;TZID=America/Denver:20250730T083000
DTEND;TZID=America/Denver:20250730T220000
DTSTAMP:20260425T072654
CREATED:20250611T173102Z
LAST-MODIFIED:20251103T205347Z
UID:10010221-1753864200-1753912800@mowcommunitycenter.org
SUMMARY:Market Day Wednesdays
DESCRIPTION:Don’t miss our Market Day exclusive offers featuring the best in seasonal produce straight from local farms! It’s the perfect opportunity to stock your pantry with healthy\, farm-fresh goods for you and your loved ones. \nSupport local agriculture\, eat well\, and savor the flavors of the season—only on Wednesdays at the Center!
URL:https://mowcommunitycenter.org/event/market-day-wednesdays/2025-07-30/
LOCATION:Jewell Room @ Meals on Wheels Community Center\, 700 Jewell Avenue\, Pacific Grove\, CA\, 93950\, United States
CATEGORIES:Center Events
ATTACH;FMTTYPE=image/webp:https://mowcommunitycenter.org/wp-content/uploads/2025/06/market-day.webp
END:VEVENT
BEGIN:VEVENT
DTSTART;TZID=America/Denver:20250730T110000
DTEND;TZID=America/Denver:20250730T123000
DTSTAMP:20260425T072654
CREATED:20250625T182738Z
LAST-MODIFIED:20250625T182738Z
UID:10009225-1753873200-1753878600@mowcommunitycenter.org
SUMMARY:Group Dining - Shrimp Fried Rice
DESCRIPTION:Featured Menu: Shrimp Fried Rice & Morning Harvest Vegetables \nCome hungry\, leave happy! Join your neighbors and friends for a delightful three-course luncheon featuring savory shrimp fried rice paired with fresh morning harvest vegetables. Our chef-prepared meals meet Federal nutrition standards\, so you can enjoy every bite knowing you’re nourishing your body well. \nSchedule: \n\nSeating begins: 11:00 AM\nBeverage service: 11:30 AM\nTable service: 11:45 AM – 12:30 PM\n\nMore than just a meal – it’s a chance to connect\, laugh\, and share stories with wonderful people in our community. Whether you’re a regular or joining us for the first time\, you’ll find warm hospitality and great conversation around every table. \nSuggested donation: $3.00 for seniors\, $7.50 for others (voluntary) Reservations encouraged – Call to secure your spot! \nAll enrolled seniors welcome regardless of ability to donate. Come as you are – we’re excited to see you!
URL:https://mowcommunitycenter.org/event/group-dining-shrimp-fried-rice/
LOCATION:Dining Room @ Meals on Wheels Community Center\, 700 Jewell Avenue\, Pacific Grove\, CA\, 93950\, United States
CATEGORIES:Center Events,Group Dining
ATTACH;FMTTYPE=image/webp:https://mowcommunitycenter.org/wp-content/uploads/2025/06/GroupDining_Menu_Shrimp-Fried-Rice.webp
END:VEVENT
END:VCALENDAR