BEGIN:VCALENDAR
VERSION:2.0
PRODID:-//Meals on Wheels Community Center - ECPv6.15.20//NONSGML v1.0//EN
CALSCALE:GREGORIAN
METHOD:PUBLISH
X-WR-CALNAME:Meals on Wheels Community Center
X-ORIGINAL-URL:https://mowcommunitycenter.org
X-WR-CALDESC:Events for Meals on Wheels Community Center
REFRESH-INTERVAL;VALUE=DURATION:PT1H
X-Robots-Tag:noindex
X-PUBLISHED-TTL:PT1H
BEGIN:VTIMEZONE
TZID:America/Denver
BEGIN:DAYLIGHT
TZOFFSETFROM:-0700
TZOFFSETTO:-0600
TZNAME:MDT
DTSTART:20240310T090000
END:DAYLIGHT
BEGIN:STANDARD
TZOFFSETFROM:-0600
TZOFFSETTO:-0700
TZNAME:MST
DTSTART:20241103T080000
END:STANDARD
BEGIN:DAYLIGHT
TZOFFSETFROM:-0700
TZOFFSETTO:-0600
TZNAME:MDT
DTSTART:20250309T090000
END:DAYLIGHT
BEGIN:STANDARD
TZOFFSETFROM:-0600
TZOFFSETTO:-0700
TZNAME:MST
DTSTART:20251102T080000
END:STANDARD
BEGIN:DAYLIGHT
TZOFFSETFROM:-0700
TZOFFSETTO:-0600
TZNAME:MDT
DTSTART:20260308T090000
END:DAYLIGHT
BEGIN:STANDARD
TZOFFSETFROM:-0600
TZOFFSETTO:-0700
TZNAME:MST
DTSTART:20261101T080000
END:STANDARD
END:VTIMEZONE
BEGIN:VEVENT
DTSTART;TZID=America/Denver:20250903T083000
DTEND;TZID=America/Denver:20250903T220000
DTSTAMP:20260423T160531
CREATED:20250611T172828Z
LAST-MODIFIED:20251103T211155Z
UID:10013997-1756888200-1756936800@mowcommunitycenter.org
SUMMARY:Food Bank Distribution
DESCRIPTION:Stop by for fresh\, nutritious produce and bread—free of charge. Open to all Center members\, this weekly distribution helps support healthy eating and food security in our community. \n🥖 Supplies are limited\, so please take only what you need to ensure everyone has a chance to benefit. \n📍 First come\, first served.Let’s nourish our community—together.
URL:https://mowcommunitycenter.org/event/food-bank-distribution/2025-09-03/
LOCATION:Jewell Room @ Meals on Wheels Community Center\, 700 Jewell Avenue\, Pacific Grove\, CA\, 93950\, United States
CATEGORIES:Center Events
ATTACH;FMTTYPE=image/webp:https://mowcommunitycenter.org/wp-content/uploads/2025/06/Food-Distribution2.webp
END:VEVENT
BEGIN:VEVENT
DTSTART;TZID=America/Denver:20250903T083000
DTEND;TZID=America/Denver:20250903T220000
DTSTAMP:20260423T160531
CREATED:20250611T173102Z
LAST-MODIFIED:20251103T205347Z
UID:10010226-1756888200-1756936800@mowcommunitycenter.org
SUMMARY:Market Day Wednesdays
DESCRIPTION:Don’t miss our Market Day exclusive offers featuring the best in seasonal produce straight from local farms! It’s the perfect opportunity to stock your pantry with healthy\, farm-fresh goods for you and your loved ones. \nSupport local agriculture\, eat well\, and savor the flavors of the season—only on Wednesdays at the Center!
URL:https://mowcommunitycenter.org/event/market-day-wednesdays/2025-09-03/
LOCATION:Jewell Room @ Meals on Wheels Community Center\, 700 Jewell Avenue\, Pacific Grove\, CA\, 93950\, United States
CATEGORIES:Center Events
ATTACH;FMTTYPE=image/webp:https://mowcommunitycenter.org/wp-content/uploads/2025/06/market-day.webp
END:VEVENT
BEGIN:VEVENT
DTSTART;TZID=America/Denver:20250909T110000
DTEND;TZID=America/Denver:20250909T123000
DTSTAMP:20260423T160531
CREATED:20250902T144719Z
LAST-MODIFIED:20250902T144719Z
UID:10009267-1757415600-1757421000@mowcommunitycenter.org
SUMMARY:Group Dining - Irish Pork Stew
DESCRIPTION:arm up with a hearty bowl of Irish Pork Stew\, slow-simmered to perfection with tender pork\, root vegetables\, and savory herbs. Served alongside soft\, freshly baked bread\, this comforting meal is the perfect way to nourish your body and lift your spirits. \nBut it’s not just about the food — it’s about the company! Join friends old and new around our community table\, where conversation and laughter make every bite even more satisfying. \n📅 Time: \n\n\nSeating begins at 11:00 AM \n\n\nBeverages at 11:30 AM \n\n\nTable service 11:45 AM – 12:30 PM \n\n\n💲 Suggested Donation: \n\n\n$3.00 for seniors \n\n\n$7.50 for others(Donation is voluntary – all enrolled seniors welcome regardless of ability to donate) \n\n\n✨ Come hungry\, leave happy! Reservations encouraged – call us to secure your spot. Come for the food\, stay for the friendship — because good food is even better when shared with good company.
URL:https://mowcommunitycenter.org/event/group-dining-irish-pork-stew/
LOCATION:Dining Room @ Meals on Wheels Community Center\, 700 Jewell Avenue\, Pacific Grove\, CA\, 93950\, United States
CATEGORIES:Center Events,Group Dining
ATTACH;FMTTYPE=image/webp:https://mowcommunitycenter.org/wp-content/uploads/2025/09/GroupDining_Menu_-IrishPorkStew.webp
END:VEVENT
BEGIN:VEVENT
DTSTART;TZID=America/Denver:20250910T083000
DTEND;TZID=America/Denver:20250910T220000
DTSTAMP:20260423T160531
CREATED:20250611T172828Z
LAST-MODIFIED:20251103T211155Z
UID:10013998-1757493000-1757541600@mowcommunitycenter.org
SUMMARY:Food Bank Distribution
DESCRIPTION:Stop by for fresh\, nutritious produce and bread—free of charge. Open to all Center members\, this weekly distribution helps support healthy eating and food security in our community. \n🥖 Supplies are limited\, so please take only what you need to ensure everyone has a chance to benefit. \n📍 First come\, first served.Let’s nourish our community—together.
URL:https://mowcommunitycenter.org/event/food-bank-distribution/2025-09-10/
LOCATION:Jewell Room @ Meals on Wheels Community Center\, 700 Jewell Avenue\, Pacific Grove\, CA\, 93950\, United States
CATEGORIES:Center Events
ATTACH;FMTTYPE=image/webp:https://mowcommunitycenter.org/wp-content/uploads/2025/06/Food-Distribution2.webp
END:VEVENT
BEGIN:VEVENT
DTSTART;TZID=America/Denver:20250910T083000
DTEND;TZID=America/Denver:20250910T220000
DTSTAMP:20260423T160531
CREATED:20250611T173102Z
LAST-MODIFIED:20251103T205347Z
UID:10010227-1757493000-1757541600@mowcommunitycenter.org
SUMMARY:Market Day Wednesdays
DESCRIPTION:Don’t miss our Market Day exclusive offers featuring the best in seasonal produce straight from local farms! It’s the perfect opportunity to stock your pantry with healthy\, farm-fresh goods for you and your loved ones. \nSupport local agriculture\, eat well\, and savor the flavors of the season—only on Wednesdays at the Center!
URL:https://mowcommunitycenter.org/event/market-day-wednesdays/2025-09-10/
LOCATION:Jewell Room @ Meals on Wheels Community Center\, 700 Jewell Avenue\, Pacific Grove\, CA\, 93950\, United States
CATEGORIES:Center Events
ATTACH;FMTTYPE=image/webp:https://mowcommunitycenter.org/wp-content/uploads/2025/06/market-day.webp
END:VEVENT
BEGIN:VEVENT
DTSTART;TZID=America/Denver:20250911T103000
DTEND;TZID=America/Denver:20250911T113000
DTSTAMP:20260423T160531
CREATED:20250903T211405Z
LAST-MODIFIED:20250903T211405Z
UID:10009282-1757586600-1757590200@mowcommunitycenter.org
SUMMARY:ARC Talks Presents: ARTHRITIS 101 with Dr.
DESCRIPTION:Do you think you know everything you nee to know about arthritis? Come hear UCSF Clinical Professor of Medicine Dr. Lester Miller review the basics of arthritis and the latest treatments for each. Dr. Miller is a rheumatologist trained at Johns Hopkins University School of Medicine and was in private practice for nearly 40 years in Santa Cruz. He is currently a Clinical Professor of Medicine at UCSF on the voluntary\nfaculty\, teaching rheumatology fellows in training. Dr. Miller has been actively involved in fundraising for arthritis research for many years and will be continuing in this role while serving on Arthritis Research Coalition Board.
URL:https://mowcommunitycenter.org/event/arc-talks-presents-arthritis-101-with-dr/
LOCATION:Health & Fitness Room @ Meals on Wheels Community Center\, 700 Jewell Avenue\, Pacific Grove\, CA\, 93950\, United States
CATEGORIES:Center Events,Programs & Classes
ATTACH;FMTTYPE=image/jpeg:https://mowcommunitycenter.org/wp-content/uploads/2025/09/inset-ARCTalks-Arthritis101-AUG11-640px-01.jpg
END:VEVENT
BEGIN:VEVENT
DTSTART;TZID=America/Denver:20250917T083000
DTEND;TZID=America/Denver:20250917T220000
DTSTAMP:20260423T160531
CREATED:20250611T172828Z
LAST-MODIFIED:20251103T211155Z
UID:10013999-1758097800-1758146400@mowcommunitycenter.org
SUMMARY:Food Bank Distribution
DESCRIPTION:Stop by for fresh\, nutritious produce and bread—free of charge. Open to all Center members\, this weekly distribution helps support healthy eating and food security in our community. \n🥖 Supplies are limited\, so please take only what you need to ensure everyone has a chance to benefit. \n📍 First come\, first served.Let’s nourish our community—together.
URL:https://mowcommunitycenter.org/event/food-bank-distribution/2025-09-17/
LOCATION:Jewell Room @ Meals on Wheels Community Center\, 700 Jewell Avenue\, Pacific Grove\, CA\, 93950\, United States
CATEGORIES:Center Events
ATTACH;FMTTYPE=image/webp:https://mowcommunitycenter.org/wp-content/uploads/2025/06/Food-Distribution2.webp
END:VEVENT
BEGIN:VEVENT
DTSTART;TZID=America/Denver:20250917T083000
DTEND;TZID=America/Denver:20250917T220000
DTSTAMP:20260423T160531
CREATED:20250611T173102Z
LAST-MODIFIED:20251103T205347Z
UID:10010228-1758097800-1758146400@mowcommunitycenter.org
SUMMARY:Market Day Wednesdays
DESCRIPTION:Don’t miss our Market Day exclusive offers featuring the best in seasonal produce straight from local farms! It’s the perfect opportunity to stock your pantry with healthy\, farm-fresh goods for you and your loved ones. \nSupport local agriculture\, eat well\, and savor the flavors of the season—only on Wednesdays at the Center!
URL:https://mowcommunitycenter.org/event/market-day-wednesdays/2025-09-17/
LOCATION:Jewell Room @ Meals on Wheels Community Center\, 700 Jewell Avenue\, Pacific Grove\, CA\, 93950\, United States
CATEGORIES:Center Events
ATTACH;FMTTYPE=image/webp:https://mowcommunitycenter.org/wp-content/uploads/2025/06/market-day.webp
END:VEVENT
BEGIN:VEVENT
DTSTART;TZID=America/Denver:20250917T110000
DTEND;TZID=America/Denver:20250917T123000
DTSTAMP:20260423T160531
CREATED:20250902T154156Z
LAST-MODIFIED:20250902T154156Z
UID:10009269-1758106800-1758112200@mowcommunitycenter.org
SUMMARY:Group Dining - Chicken Alfredo
DESCRIPTION:Time:🕚 Seating begins at 11:00 AM🫖 Beverages served at 11:30 AM🍽️ Table service from 11:45 AM – 12:30 PM \nSuggested Donation:💛 $3.00 for seniors | $7.50 for others(Voluntary – all enrolled seniors welcome regardless of ability to donate.) \n\nIndulge in our creamy\, rich Chicken Alfredo\, made with tender slices of perfectly cooked chicken\, tossed in a luscious\, cheesy Alfredo sauce over al dente pasta and paired with a medley of fresh\, lightly steamed vegetables. Every bite is comfort on a plate — warm\, satisfying\, and full of flavor! \nBut our group dining is about more than just delicious meals. It’s a place to connect\, share stories\, and build friendships over the joy of a shared table. \nCome hungry\, leave happy!Reservations are encouraged — call us to secure your spot at the table! Come for the food\, stay for the friendship. There’s always room for one more at our community table. \nExperience the joy of dining together — because good food is even better when shared with good company.
URL:https://mowcommunitycenter.org/event/group-dining-chicken-alfredo/
LOCATION:Dining Room @ Meals on Wheels Community Center\, 700 Jewell Avenue\, Pacific Grove\, CA\, 93950\, United States
CATEGORIES:Center Events,Group Dining
ATTACH;FMTTYPE=image/webp:https://mowcommunitycenter.org/wp-content/uploads/2025/09/GroupDining_Menu_ChickenAlfredo.webp
END:VEVENT
BEGIN:VEVENT
DTSTART;TZID=America/Denver:20250918T110000
DTEND;TZID=America/Denver:20250918T123000
DTSTAMP:20260423T160531
CREATED:20250902T154611Z
LAST-MODIFIED:20250902T154611Z
UID:10009270-1758193200-1758198600@mowcommunitycenter.org
SUMMARY:Group Dining - Beef Short Rib Gnocchi & Vegetables
DESCRIPTION:Time:🕚 Seating begins at 11:00 AM🫖 Beverages at 11:30 AM🍽️ Table service 11:45 AM – 12:30 PM \nSuggested Donation:💛 $3.00 for seniors | $7.50 for others(Voluntary — all enrolled seniors welcome regardless of ability to donate.) \n\nSink your fork into tender\, fall-off-the-bone beef short ribs\, served atop pillowy gnocchi and paired with a colorful medley of perfectly roasted vegetables. Every bite is rich\, comforting\, and full of flavor — a true feast that warms the heart as much as it satisfies the appetite. \nBut group dining at the Meals on Wheels Community Center is about more than just the food. It’s a chance to connect with friends\, meet new neighbors\, and enjoy lively conversation around a welcoming community table. \nReservations encouraged — call us to secure your spot! \nCome for the mouthwatering meal\, stay for the laughter\, camaraderie\, and shared joy. There’s always room for one more at our table. \nExperience the joy of dining together — because good food is even better when shared with good company.
URL:https://mowcommunitycenter.org/event/group-dining-beef-short-rib-gnocchi-vegetables/
LOCATION:Dining Room @ Meals on Wheels Community Center\, 700 Jewell Avenue\, Pacific Grove\, CA\, 93950\, United States
CATEGORIES:Center Events,Group Dining
ATTACH;FMTTYPE=image/webp:https://mowcommunitycenter.org/wp-content/uploads/2025/09/GroupDining_Menu_BeefShortRibGnocchi.webp
END:VEVENT
BEGIN:VEVENT
DTSTART;TZID=America/Denver:20250919T110000
DTEND;TZID=America/Denver:20250919T123000
DTSTAMP:20260423T160531
CREATED:20260223T215057Z
LAST-MODIFIED:20260223T215057Z
UID:10026654-1758279600-1758285000@mowcommunitycenter.org
SUMMARY:Group Dining - Chicken Chili
DESCRIPTION:Time:🕚 Seating begins at 11:00 AM🫖 Beverages served at 11:30 AM🍽️ Table service from 11:45 AM – 12:30 PM \nSuggested Donation:💛 $3.00 for seniors | $7.50 for others(Voluntary — all enrolled seniors welcome regardless of ability to donate.) \n\n🌟 Today’s Main Dish: Warm and Hearty Chicken Chili\nOur Chicken Chili is simmered with tender\, seasoned chicken\, hearty beans\, ripe tomatoes\, and a savory blend of spices that bring just the right touch of warmth. 🌶️ \n\n🧡 Why Join Group Dining?\nCome hungry\, leave happy! There’s nothing quite like sharing a meal with wonderful company.Group dining isn’t just about the food — it’s about connection\, laughter\, and friendship. Enjoy conversation\, meet new friends\, and experience the joy of being part of a vibrant community table. \nReservations encouraged — call us to secure your spot! \nCome for the food\, stay for the friendship. There’s always room for one more at our community table.
URL:https://mowcommunitycenter.org/event/group-dining-chicken-chili/
LOCATION:Dining Room @ Meals on Wheels Community Center\, 700 Jewell Avenue\, Pacific Grove\, CA\, 93950\, United States
CATEGORIES:Center Events,Group Dining
ATTACH;FMTTYPE=image/webp:https://mowcommunitycenter.org/wp-content/uploads/2025/06/GroupDining_Menu_ThreeBeanChili.webp
END:VEVENT
BEGIN:VEVENT
DTSTART;TZID=America/Denver:20250924T083000
DTEND;TZID=America/Denver:20250924T220000
DTSTAMP:20260423T160531
CREATED:20250611T172828Z
LAST-MODIFIED:20251103T211155Z
UID:10014000-1758702600-1758751200@mowcommunitycenter.org
SUMMARY:Food Bank Distribution
DESCRIPTION:Stop by for fresh\, nutritious produce and bread—free of charge. Open to all Center members\, this weekly distribution helps support healthy eating and food security in our community. \n🥖 Supplies are limited\, so please take only what you need to ensure everyone has a chance to benefit. \n📍 First come\, first served.Let’s nourish our community—together.
URL:https://mowcommunitycenter.org/event/food-bank-distribution/2025-09-24/
LOCATION:Jewell Room @ Meals on Wheels Community Center\, 700 Jewell Avenue\, Pacific Grove\, CA\, 93950\, United States
CATEGORIES:Center Events
ATTACH;FMTTYPE=image/webp:https://mowcommunitycenter.org/wp-content/uploads/2025/06/Food-Distribution2.webp
END:VEVENT
BEGIN:VEVENT
DTSTART;TZID=America/Denver:20250924T083000
DTEND;TZID=America/Denver:20250924T220000
DTSTAMP:20260423T160531
CREATED:20250611T173102Z
LAST-MODIFIED:20251103T205347Z
UID:10010229-1758702600-1758751200@mowcommunitycenter.org
SUMMARY:Market Day Wednesdays
DESCRIPTION:Don’t miss our Market Day exclusive offers featuring the best in seasonal produce straight from local farms! It’s the perfect opportunity to stock your pantry with healthy\, farm-fresh goods for you and your loved ones. \nSupport local agriculture\, eat well\, and savor the flavors of the season—only on Wednesdays at the Center!
URL:https://mowcommunitycenter.org/event/market-day-wednesdays/2025-09-24/
LOCATION:Jewell Room @ Meals on Wheels Community Center\, 700 Jewell Avenue\, Pacific Grove\, CA\, 93950\, United States
CATEGORIES:Center Events
ATTACH;FMTTYPE=image/webp:https://mowcommunitycenter.org/wp-content/uploads/2025/06/market-day.webp
END:VEVENT
BEGIN:VEVENT
DTSTART;TZID=America/Denver:20250925T110000
DTEND;TZID=America/Denver:20250925T123000
DTSTAMP:20260423T160531
CREATED:20250902T155924Z
LAST-MODIFIED:20250902T155924Z
UID:10009273-1758798000-1758803400@mowcommunitycenter.org
SUMMARY:Group Dining - Teriyaki Salmon Bites. RSVP Required.
DESCRIPTION:Time:🕚 Seating begins at 11:00 AM🫖 Beverages served at 11:30 AM🍽️ Table service from 11:45 AM – 12:30 PM \nSuggested Donation:💛 $3.00 for seniors | $7.50 for others(Voluntary — all enrolled seniors welcome regardless of ability to donate) \n\n🌟 Today’s Feature: Teriyaki Salmon Bites\nSavor succulent salmon bites glazed with a rich\, savory-sweet teriyaki sauce\, perfectly seared for a tender\, flavorful finish. Served with a side of steamed vegetables and a hint of fresh herbs\, this dish is as delicious as it is nourishing — a true feast for the senses! \n\nCome Hungry\, Leave Happy!There’s nothing quite like sharing a freshly prepared meal with wonderful company. Enjoy the food\, make new friends\, and connect with your community. \nReservations Encouraged: Call us to secure your spot at the table — there’s always room for one more!
URL:https://mowcommunitycenter.org/event/group-dining-teriyaki-salmon-bites-rsvp-required/
LOCATION:Dining Room @ Meals on Wheels Community Center\, 700 Jewell Avenue\, Pacific Grove\, CA\, 93950\, United States
CATEGORIES:Center Events,Group Dining
ATTACH;FMTTYPE=image/webp:https://mowcommunitycenter.org/wp-content/uploads/2025/09/GroupDining_Menu_-TeryakiSalmonBites.webp
END:VEVENT
END:VCALENDAR