BEGIN:VCALENDAR
VERSION:2.0
PRODID:-//Meals on Wheels Community Center - ECPv6.15.20//NONSGML v1.0//EN
CALSCALE:GREGORIAN
METHOD:PUBLISH
X-ORIGINAL-URL:https://mowcommunitycenter.org
X-WR-CALDESC:Events for Meals on Wheels Community Center
REFRESH-INTERVAL;VALUE=DURATION:PT1H
X-Robots-Tag:noindex
X-PUBLISHED-TTL:PT1H
BEGIN:VTIMEZONE
TZID:America/Denver
BEGIN:DAYLIGHT
TZOFFSETFROM:-0700
TZOFFSETTO:-0600
TZNAME:MDT
DTSTART:20240310T090000
END:DAYLIGHT
BEGIN:STANDARD
TZOFFSETFROM:-0600
TZOFFSETTO:-0700
TZNAME:MST
DTSTART:20241103T080000
END:STANDARD
BEGIN:DAYLIGHT
TZOFFSETFROM:-0700
TZOFFSETTO:-0600
TZNAME:MDT
DTSTART:20250309T090000
END:DAYLIGHT
BEGIN:STANDARD
TZOFFSETFROM:-0600
TZOFFSETTO:-0700
TZNAME:MST
DTSTART:20251102T080000
END:STANDARD
BEGIN:DAYLIGHT
TZOFFSETFROM:-0700
TZOFFSETTO:-0600
TZNAME:MDT
DTSTART:20260308T090000
END:DAYLIGHT
BEGIN:STANDARD
TZOFFSETFROM:-0600
TZOFFSETTO:-0700
TZNAME:MST
DTSTART:20261101T080000
END:STANDARD
END:VTIMEZONE
BEGIN:VEVENT
DTSTART;TZID=America/Denver:20250701T110000
DTEND;TZID=America/Denver:20250701T123000
DTSTAMP:20260425T072613
CREATED:20250624T211513Z
LAST-MODIFIED:20250624T211513Z
UID:10009198-1751367600-1751373000@mowcommunitycenter.org
SUMMARY:Group Dining - Bratwurst Special
DESCRIPTION:🍽️ German-Style Lunch at the Community Center! 🍽️ \nJoin us for a hearty\, delicious meal featuring authentic bratwurst served with creamy mashed potatoes and tangy red cabbage – a classic comfort food combination that’s sure to warm your heart and satisfy your appetite! \nWhen: [Date]\nTime: Seating begins at 11:00 AM | Beverages at 11:30 AM | Table service 11:45 AM – 12:30 PM\nWhere: Meals on Wheels Community Center Dining Room \nCome hungry and leave happy! This three-course luncheon meets Federal nutrition standards while delivering the hearty flavors you crave. It’s more than just a meal – it’s your chance to catch up with friends\, make new connections\, and enjoy great conversation in our welcoming dining room. \nSuggested Donation: $3.00 for seniors | $7.50 for others\nDonation is voluntary – all enrolled seniors welcome regardless of ability to donate \nGood food\, great company\, guaranteed good time!
URL:https://mowcommunitycenter.org/event/group-dining-bratwurst-special/
LOCATION:Dining Room @ Meals on Wheels Community Center\, 700 Jewell Avenue\, Pacific Grove\, CA\, 93950\, United States
CATEGORIES:Center Events,Group Dining
ATTACH;FMTTYPE=image/webp:https://mowcommunitycenter.org/wp-content/uploads/2025/06/GroupDining_Menu_BratwurstRedCabbage.webp
END:VEVENT
END:VCALENDAR