BEGIN:VCALENDAR
VERSION:2.0
PRODID:-//Meals on Wheels Community Center - ECPv6.15.20//NONSGML v1.0//EN
CALSCALE:GREGORIAN
METHOD:PUBLISH
X-WR-CALNAME:Meals on Wheels Community Center
X-ORIGINAL-URL:https://mowcommunitycenter.org
X-WR-CALDESC:Events for Meals on Wheels Community Center
REFRESH-INTERVAL;VALUE=DURATION:PT1H
X-Robots-Tag:noindex
X-PUBLISHED-TTL:PT1H
BEGIN:VTIMEZONE
TZID:America/Denver
BEGIN:DAYLIGHT
TZOFFSETFROM:-0700
TZOFFSETTO:-0600
TZNAME:MDT
DTSTART:20240310T090000
END:DAYLIGHT
BEGIN:STANDARD
TZOFFSETFROM:-0600
TZOFFSETTO:-0700
TZNAME:MST
DTSTART:20241103T080000
END:STANDARD
BEGIN:DAYLIGHT
TZOFFSETFROM:-0700
TZOFFSETTO:-0600
TZNAME:MDT
DTSTART:20250309T090000
END:DAYLIGHT
BEGIN:STANDARD
TZOFFSETFROM:-0600
TZOFFSETTO:-0700
TZNAME:MST
DTSTART:20251102T080000
END:STANDARD
BEGIN:DAYLIGHT
TZOFFSETFROM:-0700
TZOFFSETTO:-0600
TZNAME:MDT
DTSTART:20260308T090000
END:DAYLIGHT
BEGIN:STANDARD
TZOFFSETFROM:-0600
TZOFFSETTO:-0700
TZNAME:MST
DTSTART:20261101T080000
END:STANDARD
END:VTIMEZONE
BEGIN:VEVENT
DTSTART;TZID=America/Denver:20250703T110000
DTEND;TZID=America/Denver:20250703T123000
DTSTAMP:20260425T061335
CREATED:20250624T211917Z
LAST-MODIFIED:20250625T173606Z
UID:10009200-1751540400-1751545800@mowcommunitycenter.org
SUMMARY:Group Dining - Spaghetti Primavera with Garlic Bread
DESCRIPTION:Join us for a delicious three-course lunch featuring fresh Spaghetti Primavera with warm\, buttery Garlic Bread! \nGather around our community table for good food and even better company. Our chef-prepared Spaghetti Primavera bursts with seasonal vegetables and perfectly cooked pasta\, paired with aromatic garlic bread that’s baked fresh daily. This complete meal meets Federal nutrition standards while delivering comfort food satisfaction. \nSchedule: \n\nSeating begins: 11:00 AM\nBeverage service: 11:30 AM\nTable service: 11:45 AM – 12:30 PM\n\nWhat to Expect: \n\nThree-course nutritious meal\nWarm\, welcoming atmosphere\nChance to meet new friends and reconnect with familiar faces\nPossible entertainment from local musicians\n\nCost: $3.00 suggested donation for seniors\, $7.50 for others (voluntary – all enrolled seniors welcome regardless of ability to donate) \nCome hungry\, leave happy\, and discover why our community dining is the highlight of so many people’s day.
URL:https://mowcommunitycenter.org/event/group-dining-spaghetti-primavera-with-garlic-bread/
LOCATION:Dining Room @ Meals on Wheels Community Center\, 700 Jewell Avenue\, Pacific Grove\, CA\, 93950\, United States
CATEGORIES:Center Events,Group Dining
ATTACH;FMTTYPE=image/webp:https://mowcommunitycenter.org/wp-content/uploads/2025/06/GroupDining_Menu_SpaghettiPrimavera.webp
END:VEVENT
END:VCALENDAR