BEGIN:VCALENDAR
VERSION:2.0
PRODID:-//Meals on Wheels Community Center - ECPv6.15.20//NONSGML v1.0//EN
CALSCALE:GREGORIAN
METHOD:PUBLISH
X-WR-CALNAME:Meals on Wheels Community Center
X-ORIGINAL-URL:https://mowcommunitycenter.org
X-WR-CALDESC:Events for Meals on Wheels Community Center
REFRESH-INTERVAL;VALUE=DURATION:PT1H
X-Robots-Tag:noindex
X-PUBLISHED-TTL:PT1H
BEGIN:VTIMEZONE
TZID:America/Denver
BEGIN:DAYLIGHT
TZOFFSETFROM:-0700
TZOFFSETTO:-0600
TZNAME:MDT
DTSTART:20240310T090000
END:DAYLIGHT
BEGIN:STANDARD
TZOFFSETFROM:-0600
TZOFFSETTO:-0700
TZNAME:MST
DTSTART:20241103T080000
END:STANDARD
BEGIN:DAYLIGHT
TZOFFSETFROM:-0700
TZOFFSETTO:-0600
TZNAME:MDT
DTSTART:20250309T090000
END:DAYLIGHT
BEGIN:STANDARD
TZOFFSETFROM:-0600
TZOFFSETTO:-0700
TZNAME:MST
DTSTART:20251102T080000
END:STANDARD
BEGIN:DAYLIGHT
TZOFFSETFROM:-0700
TZOFFSETTO:-0600
TZNAME:MDT
DTSTART:20260308T090000
END:DAYLIGHT
BEGIN:STANDARD
TZOFFSETFROM:-0600
TZOFFSETTO:-0700
TZNAME:MST
DTSTART:20261101T080000
END:STANDARD
END:VTIMEZONE
BEGIN:VEVENT
DTSTART;TZID=America/Denver:20251217T083000
DTEND;TZID=America/Denver:20251217T220000
DTSTAMP:20260420T184918
CREATED:20251125T201511Z
LAST-MODIFIED:20251125T201511Z
UID:10014012-1765960200-1766008800@mowcommunitycenter.org
SUMMARY:Food Bank Distribution
DESCRIPTION:Stop by for fresh\, nutritious produce and bread—free of charge. Open to all Center members\, this weekly distribution helps support healthy eating and food security in our community. \n🥖 Supplies are limited\, so please take only what you need to ensure everyone has a chance to benefit. \n📍 First come\, first served.Let’s nourish our community—together.
URL:https://mowcommunitycenter.org/event/food-bank-distribution-2/2025-12-17/
LOCATION:Jewell Room @ Meals on Wheels Community Center\, 700 Jewell Avenue\, Pacific Grove\, CA\, 93950\, United States
CATEGORIES:Center Events
ATTACH;FMTTYPE=image/webp:https://mowcommunitycenter.org/wp-content/uploads/2025/06/Food-Distribution2.webp
END:VEVENT
BEGIN:VEVENT
DTSTART;TZID=America/Denver:20251217T083000
DTEND;TZID=America/Denver:20251217T220000
DTSTAMP:20260420T184918
CREATED:20251216T194841Z
LAST-MODIFIED:20251216T200514Z
UID:10010241-1765960200-1766008800@mowcommunitycenter.org
SUMMARY:Market Day Wednesdays
DESCRIPTION:Don’t miss our Market Day exclusive offers featuring the best in seasonal produce straight from local farms! It’s the perfect opportunity to stock your pantry with healthy\, farm-fresh goods for you and your loved ones. \nSupport local agriculture\, eat well\, and savor the flavors of the season—only on Wednesdays at the Center!
URL:https://mowcommunitycenter.org/event/market-day-wednesdays-2/2025-12-17/
LOCATION:Jewell Room @ Meals on Wheels Community Center\, 700 Jewell Avenue\, Pacific Grove\, CA\, 93950\, United States
CATEGORIES:Center Events
ATTACH;FMTTYPE=image/webp:https://mowcommunitycenter.org/wp-content/uploads/2025/06/market-day.webp
END:VEVENT
BEGIN:VEVENT
DTSTART;TZID=America/Denver:20251217T110000
DTEND;TZID=America/Denver:20251217T123000
DTSTAMP:20260420T184918
CREATED:20250723T183757Z
LAST-MODIFIED:20251118T223051Z
UID:10009260-1765969200-1765974600@mowcommunitycenter.org
SUMMARY:Group Dining - Brazilian Fish Stew
DESCRIPTION:Moqueca-Style with Aromatic Basmati Rice \nDive into the vibrant flavors of Brazil with our signature fish stew! Tender\, flaky fish simmered in a rich coconut milk broth\, bursting with fresh tomatoes\, bell peppers\, and cilantro. Infused with traditional Brazilian spices and a hint of lime\, this soul-warming dish transports you straight to the tropical coastlines of Bahia. Served alongside fragrant basmati rice that perfectly soaks up every drop of this heavenly sauce. \n\nSCHEDULE\nSeating Begins: 11:00 AM\nBeverages Served: 11:30 AM\nTable Service: 11:45 AM – 12:30 PM \nSUGGESTED DONATION\n\nSeniors: $3.00\nOthers: $7.50\n\nDonation is voluntary – all enrolled seniors welcome regardless of ability to donate
URL:https://mowcommunitycenter.org/event/group-dining-brazilian-fish-stew/
LOCATION:Dining Room @ Meals on Wheels Community Center\, 700 Jewell Avenue\, Pacific Grove\, CA\, 93950\, United States
CATEGORIES:Center Events,Group Dining
ATTACH;FMTTYPE=image/webp:https://mowcommunitycenter.org/wp-content/uploads/2025/07/GroupDining_Menu_-BrazilianFishStew.webp
END:VEVENT
END:VCALENDAR