BEGIN:VCALENDAR
VERSION:2.0
PRODID:-//Meals on Wheels Community Center - ECPv6.15.20//NONSGML v1.0//EN
CALSCALE:GREGORIAN
METHOD:PUBLISH
X-ORIGINAL-URL:https://mowcommunitycenter.org
X-WR-CALDESC:Events for Meals on Wheels Community Center
REFRESH-INTERVAL;VALUE=DURATION:PT1H
X-Robots-Tag:noindex
X-PUBLISHED-TTL:PT1H
BEGIN:VTIMEZONE
TZID:America/Denver
BEGIN:DAYLIGHT
TZOFFSETFROM:-0700
TZOFFSETTO:-0600
TZNAME:MDT
DTSTART:20250309T090000
END:DAYLIGHT
BEGIN:STANDARD
TZOFFSETFROM:-0600
TZOFFSETTO:-0700
TZNAME:MST
DTSTART:20251102T080000
END:STANDARD
BEGIN:DAYLIGHT
TZOFFSETFROM:-0700
TZOFFSETTO:-0600
TZNAME:MDT
DTSTART:20260308T090000
END:DAYLIGHT
BEGIN:STANDARD
TZOFFSETFROM:-0600
TZOFFSETTO:-0700
TZNAME:MST
DTSTART:20261101T080000
END:STANDARD
BEGIN:DAYLIGHT
TZOFFSETFROM:-0700
TZOFFSETTO:-0600
TZNAME:MDT
DTSTART:20270314T090000
END:DAYLIGHT
BEGIN:STANDARD
TZOFFSETFROM:-0600
TZOFFSETTO:-0700
TZNAME:MST
DTSTART:20271107T080000
END:STANDARD
END:VTIMEZONE
BEGIN:VEVENT
DTSTART;VALUE=DATE:20260119
DTEND;VALUE=DATE:20260120
DTSTAMP:20260421T215936
CREATED:20251216T184512Z
LAST-MODIFIED:20251216T184512Z
UID:10026628-1768780800-1768867199@mowcommunitycenter.org
SUMMARY:CLOSED - MLK JR Day
DESCRIPTION:Date: Monday\, January 19th\nAll Day Event \nMeals on Wheels Community Center will be CLOSED Monday\, January 19th in observance of Martin Luther King Jr. Day. \nWhat this means: \n\nNo Group Dining service on Monday\, January 19th\nCommunity Center programs and activities suspended for the day\nRegular Home Delivered Meals recipients will receive their weekend meal on Friday\, January 16th\n\nWe’ll be back: Regular services resume Tuesday\, January 20th with normal hours and programming. \nFor any questions or concerns\, please contact us at [phone number] or email [email address]
URL:https://mowcommunitycenter.org/event/closed-mlk-jr-day/
LOCATION:Meals on Wheels Community Center\, 700 Jewell Avenue\, Pacific Grove\, CA\, 93950\, United States
CATEGORIES:Center Events,Group Dining,Programs & Classes
ATTACH;FMTTYPE=image/jpeg:https://mowcommunitycenter.org/wp-content/uploads/2025/12/GroupEvents_ClosedMLKJRDay-JAN19.jpg
END:VEVENT
END:VCALENDAR