BEGIN:VCALENDAR
VERSION:2.0
PRODID:-//Meals on Wheels Community Center - ECPv6.15.20//NONSGML v1.0//EN
CALSCALE:GREGORIAN
METHOD:PUBLISH
X-ORIGINAL-URL:https://mowcommunitycenter.org
X-WR-CALDESC:Events for Meals on Wheels Community Center
REFRESH-INTERVAL;VALUE=DURATION:PT1H
X-Robots-Tag:noindex
X-PUBLISHED-TTL:PT1H
BEGIN:VTIMEZONE
TZID:America/Denver
BEGIN:DAYLIGHT
TZOFFSETFROM:-0700
TZOFFSETTO:-0600
TZNAME:MDT
DTSTART:20250309T090000
END:DAYLIGHT
BEGIN:STANDARD
TZOFFSETFROM:-0600
TZOFFSETTO:-0700
TZNAME:MST
DTSTART:20251102T080000
END:STANDARD
BEGIN:DAYLIGHT
TZOFFSETFROM:-0700
TZOFFSETTO:-0600
TZNAME:MDT
DTSTART:20260308T090000
END:DAYLIGHT
BEGIN:STANDARD
TZOFFSETFROM:-0600
TZOFFSETTO:-0700
TZNAME:MST
DTSTART:20261101T080000
END:STANDARD
BEGIN:DAYLIGHT
TZOFFSETFROM:-0700
TZOFFSETTO:-0600
TZNAME:MDT
DTSTART:20270314T090000
END:DAYLIGHT
BEGIN:STANDARD
TZOFFSETFROM:-0600
TZOFFSETTO:-0700
TZNAME:MST
DTSTART:20271107T080000
END:STANDARD
END:VTIMEZONE
BEGIN:VEVENT
DTSTART;TZID=America/Denver:20260121T083000
DTEND;TZID=America/Denver:20260121T220000
DTSTAMP:20260420T172028
CREATED:20251125T201511Z
LAST-MODIFIED:20251125T201511Z
UID:10014017-1768984200-1769032800@mowcommunitycenter.org
SUMMARY:Food Bank Distribution
DESCRIPTION:Stop by for fresh\, nutritious produce and bread—free of charge. Open to all Center members\, this weekly distribution helps support healthy eating and food security in our community. \n🥖 Supplies are limited\, so please take only what you need to ensure everyone has a chance to benefit. \n📍 First come\, first served.Let’s nourish our community—together.
URL:https://mowcommunitycenter.org/event/food-bank-distribution-2/2026-01-21/
LOCATION:Jewell Room @ Meals on Wheels Community Center\, 700 Jewell Avenue\, Pacific Grove\, CA\, 93950\, United States
CATEGORIES:Center Events
ATTACH;FMTTYPE=image/webp:https://mowcommunitycenter.org/wp-content/uploads/2025/06/Food-Distribution2.webp
END:VEVENT
BEGIN:VEVENT
DTSTART;TZID=America/Denver:20260121T083000
DTEND;TZID=America/Denver:20260121T220000
DTSTAMP:20260420T172028
CREATED:20251216T194841Z
LAST-MODIFIED:20251216T200514Z
UID:10010246-1768984200-1769032800@mowcommunitycenter.org
SUMMARY:Market Day Wednesdays
DESCRIPTION:Don’t miss our Market Day exclusive offers featuring the best in seasonal produce straight from local farms! It’s the perfect opportunity to stock your pantry with healthy\, farm-fresh goods for you and your loved ones. \nSupport local agriculture\, eat well\, and savor the flavors of the season—only on Wednesdays at the Center!
URL:https://mowcommunitycenter.org/event/market-day-wednesdays-2/2026-01-21/
LOCATION:Jewell Room @ Meals on Wheels Community Center\, 700 Jewell Avenue\, Pacific Grove\, CA\, 93950\, United States
CATEGORIES:Center Events
ATTACH;FMTTYPE=image/webp:https://mowcommunitycenter.org/wp-content/uploads/2025/06/market-day.webp
END:VEVENT
BEGIN:VEVENT
DTSTART;TZID=America/Denver:20260121T110000
DTEND;TZID=America/Denver:20260121T123000
DTSTAMP:20260420T172028
CREATED:20250723T174548Z
LAST-MODIFIED:20251211T233030Z
UID:10009248-1768993200-1768998600@mowcommunitycenter.org
SUMMARY:Group Dining - Chili Verde
DESCRIPTION:Get ready for a meal that brings the heat and heart — tender\, slow-cooked Chili Verde simmered to perfection\, served with fluffy brown rice and all the good vibes of shared community dining. Whether you’re a longtime fan or trying it for the first time\, this zesty dish is sure to become your new favorite! \nTime:🕚 Seating Begins: 11:00 AM🥤 Beverages Served: 11:30 AM🍽️ Table Service: 11:45 AM – 12:30 PM \nSuggested Donation:👵 $3.00 for Seniors🧑‍🍳 $7.50 for Others(Donations are voluntary – all enrolled seniors are welcome\, no matter their ability to contribute.) \nCome for the food\, stay for the friendship.Great meals taste even better with great company. \n👉 Don’t miss it — mark your calendar and bring your appetite!Come hungry\, leave happy.
URL:https://mowcommunitycenter.org/event/group-dining-chili-verde/
LOCATION:Dining Room @ Meals on Wheels Community Center\, 700 Jewell Avenue\, Pacific Grove\, CA\, 93950\, United States
CATEGORIES:Center Events,Group Dining
ATTACH;FMTTYPE=image/webp:https://mowcommunitycenter.org/wp-content/uploads/2025/07/GroupDining_Menu_-ChiliVerde.webp
END:VEVENT
END:VCALENDAR