BEGIN:VCALENDAR
VERSION:2.0
PRODID:-//Meals on Wheels Community Center - ECPv6.15.20//NONSGML v1.0//EN
CALSCALE:GREGORIAN
METHOD:PUBLISH
X-WR-CALNAME:Meals on Wheels Community Center
X-ORIGINAL-URL:https://mowcommunitycenter.org
X-WR-CALDESC:Events for Meals on Wheels Community Center
REFRESH-INTERVAL;VALUE=DURATION:PT1H
X-Robots-Tag:noindex
X-PUBLISHED-TTL:PT1H
BEGIN:VTIMEZONE
TZID:America/Denver
BEGIN:DAYLIGHT
TZOFFSETFROM:-0700
TZOFFSETTO:-0600
TZNAME:MDT
DTSTART:20240310T090000
END:DAYLIGHT
BEGIN:STANDARD
TZOFFSETFROM:-0600
TZOFFSETTO:-0700
TZNAME:MST
DTSTART:20241103T080000
END:STANDARD
BEGIN:DAYLIGHT
TZOFFSETFROM:-0700
TZOFFSETTO:-0600
TZNAME:MDT
DTSTART:20250309T090000
END:DAYLIGHT
BEGIN:STANDARD
TZOFFSETFROM:-0600
TZOFFSETTO:-0700
TZNAME:MST
DTSTART:20251102T080000
END:STANDARD
BEGIN:DAYLIGHT
TZOFFSETFROM:-0700
TZOFFSETTO:-0600
TZNAME:MDT
DTSTART:20260308T090000
END:DAYLIGHT
BEGIN:STANDARD
TZOFFSETFROM:-0600
TZOFFSETTO:-0700
TZNAME:MST
DTSTART:20261101T080000
END:STANDARD
END:VTIMEZONE
BEGIN:VEVENT
DTSTART;TZID=America/Denver:20250721T110000
DTEND;TZID=America/Denver:20250721T123000
DTSTAMP:20260417T215159
CREATED:20250625T181358Z
LAST-MODIFIED:20250625T181358Z
UID:10009219-1753095600-1753101000@mowcommunitycenter.org
SUMMARY:Group Dining - Salmon Fillet & Lemon. RSVP Required.
DESCRIPTION:Join Us for Community Lunch! \nFeatured Menu: Delicious Salmon Fillet & Lemon with savory orzo pilaf and fresh seasonal vegetables \nWhen: Daily Lunch Service \n\nSeating begins: 11:00 AM\nBeverage service: 11:30 AM\nTable service: 11:45 AM – 12:30 PM\nDining room closes: 1:00 PM\n\nWhy Join Us? Enjoy a nutritious three-course meal that meets Federal nutrition standards while connecting with friends and neighbors in our warm\, welcoming dining room. Share stories\, make new connections\, and be part of our vibrant community family. \nSuggested Donation: $3.00 for seniors\, $7.50 for others (voluntary – all enrolled seniors welcome regardless of ability to donate) \nReservations Required – Call to reserve your spot for this delicious\, heart-healthy meal and wonderful company! \nCome hungry\, leave happy\, and feel nourished in body and spirit.
URL:https://mowcommunitycenter.org/event/group-dining-salmon-fillet-lemon-rsvp-required/
LOCATION:Dining Room @ Meals on Wheels Community Center\, 700 Jewell Avenue\, Pacific Grove\, CA\, 93950\, United States
CATEGORIES:Center Events,Group Dining
ATTACH;FMTTYPE=image/webp:https://mowcommunitycenter.org/wp-content/uploads/2025/06/GroupDining_Menu_Salmon-Fillet-With-Lemon.webp
END:VEVENT
BEGIN:VEVENT
DTSTART;TZID=America/Denver:20250723T083000
DTEND;TZID=America/Denver:20250723T220000
DTSTAMP:20260417T215159
CREATED:20250611T172828Z
LAST-MODIFIED:20251103T211155Z
UID:10013991-1753259400-1753308000@mowcommunitycenter.org
SUMMARY:Food Bank Distribution
DESCRIPTION:Stop by for fresh\, nutritious produce and bread—free of charge. Open to all Center members\, this weekly distribution helps support healthy eating and food security in our community. \n🥖 Supplies are limited\, so please take only what you need to ensure everyone has a chance to benefit. \n📍 First come\, first served.Let’s nourish our community—together.
URL:https://mowcommunitycenter.org/event/food-bank-distribution/2025-07-23/
LOCATION:Jewell Room @ Meals on Wheels Community Center\, 700 Jewell Avenue\, Pacific Grove\, CA\, 93950\, United States
CATEGORIES:Center Events
ATTACH;FMTTYPE=image/webp:https://mowcommunitycenter.org/wp-content/uploads/2025/06/Food-Distribution2.webp
END:VEVENT
BEGIN:VEVENT
DTSTART;TZID=America/Denver:20250723T083000
DTEND;TZID=America/Denver:20250723T220000
DTSTAMP:20260417T215159
CREATED:20250611T173102Z
LAST-MODIFIED:20251103T205347Z
UID:10010220-1753259400-1753308000@mowcommunitycenter.org
SUMMARY:Market Day Wednesdays
DESCRIPTION:Don’t miss our Market Day exclusive offers featuring the best in seasonal produce straight from local farms! It’s the perfect opportunity to stock your pantry with healthy\, farm-fresh goods for you and your loved ones. \nSupport local agriculture\, eat well\, and savor the flavors of the season—only on Wednesdays at the Center!
URL:https://mowcommunitycenter.org/event/market-day-wednesdays/2025-07-23/
LOCATION:Jewell Room @ Meals on Wheels Community Center\, 700 Jewell Avenue\, Pacific Grove\, CA\, 93950\, United States
CATEGORIES:Center Events
ATTACH;FMTTYPE=image/webp:https://mowcommunitycenter.org/wp-content/uploads/2025/06/market-day.webp
END:VEVENT
BEGIN:VEVENT
DTSTART;TZID=America/Denver:20250723T110000
DTEND;TZID=America/Denver:20250723T123000
DTSTAMP:20260417T215159
CREATED:20250625T181617Z
LAST-MODIFIED:20250625T181617Z
UID:10009221-1753268400-1753273800@mowcommunitycenter.org
SUMMARY:Group Dining - Chicken Enchilada Casserole
DESCRIPTION:Join us for a delicious three-course lunch featuring our mouth-watering Chicken Enchilada Casserole! \n🌶️ What’s on the menu? Our kitchen team has prepared a hearty\, flavorful casserole layered with tender chicken\, melted cheese\, and authentic seasonings that will warm your heart and satisfy your appetite. This complete meal meets Federal nutrition standards while delivering the comfort food flavors you crave. \n🤝 More than just a meal – Come for the food\, stay for the friendship! Our community dining room buzzes with laughter\, conversation\, and new connections. Whether you’re meeting old friends or making new ones\, there’s always a seat at our table. \nSchedule: \n\nSeating begins: 11:00 AM\nBeverage service: 11:30 AM\nTable service: 11:45 AM – 12:30 PM\n\nSuggested donation: $3.00 for seniors\, $7.50 for others (voluntary – all enrolled seniors welcome regardless of ability to donate) \nCome hungry\, leave happy\, and discover why our community table is the place to be on the Monterey Peninsula.
URL:https://mowcommunitycenter.org/event/group-dining-chicken-enchilada-casserole-2/
LOCATION:Dining Room @ Meals on Wheels Community Center\, 700 Jewell Avenue\, Pacific Grove\, CA\, 93950\, United States
CATEGORIES:Center Events,Group Dining
ATTACH;FMTTYPE=image/webp:https://mowcommunitycenter.org/wp-content/uploads/2025/06/GroupDining_Menu_Chicken-Enchilada.webp
END:VEVENT
END:VCALENDAR