BEGIN:VCALENDAR
VERSION:2.0
PRODID:-//Meals on Wheels Community Center - ECPv6.15.20//NONSGML v1.0//EN
CALSCALE:GREGORIAN
METHOD:PUBLISH
X-WR-CALNAME:Meals on Wheels Community Center
X-ORIGINAL-URL:https://mowcommunitycenter.org
X-WR-CALDESC:Events for Meals on Wheels Community Center
REFRESH-INTERVAL;VALUE=DURATION:PT1H
X-Robots-Tag:noindex
X-PUBLISHED-TTL:PT1H
BEGIN:VTIMEZONE
TZID:America/Denver
BEGIN:DAYLIGHT
TZOFFSETFROM:-0700
TZOFFSETTO:-0600
TZNAME:MDT
DTSTART:20240310T090000
END:DAYLIGHT
BEGIN:STANDARD
TZOFFSETFROM:-0600
TZOFFSETTO:-0700
TZNAME:MST
DTSTART:20241103T080000
END:STANDARD
BEGIN:DAYLIGHT
TZOFFSETFROM:-0700
TZOFFSETTO:-0600
TZNAME:MDT
DTSTART:20250309T090000
END:DAYLIGHT
BEGIN:STANDARD
TZOFFSETFROM:-0600
TZOFFSETTO:-0700
TZNAME:MST
DTSTART:20251102T080000
END:STANDARD
BEGIN:DAYLIGHT
TZOFFSETFROM:-0700
TZOFFSETTO:-0600
TZNAME:MDT
DTSTART:20260308T090000
END:DAYLIGHT
BEGIN:STANDARD
TZOFFSETFROM:-0600
TZOFFSETTO:-0700
TZNAME:MST
DTSTART:20261101T080000
END:STANDARD
END:VTIMEZONE
BEGIN:VEVENT
DTSTART;TZID=America/Denver:20250827T083000
DTEND;TZID=America/Denver:20250827T220000
DTSTAMP:20260423T175741
CREATED:20250611T172828Z
LAST-MODIFIED:20251103T211155Z
UID:10013996-1756283400-1756332000@mowcommunitycenter.org
SUMMARY:Food Bank Distribution
DESCRIPTION:Stop by for fresh\, nutritious produce and bread—free of charge. Open to all Center members\, this weekly distribution helps support healthy eating and food security in our community. \n🥖 Supplies are limited\, so please take only what you need to ensure everyone has a chance to benefit. \n📍 First come\, first served.Let’s nourish our community—together.
URL:https://mowcommunitycenter.org/event/food-bank-distribution/2025-08-27/
LOCATION:Jewell Room @ Meals on Wheels Community Center\, 700 Jewell Avenue\, Pacific Grove\, CA\, 93950\, United States
CATEGORIES:Center Events
ATTACH;FMTTYPE=image/webp:https://mowcommunitycenter.org/wp-content/uploads/2025/06/Food-Distribution2.webp
END:VEVENT
BEGIN:VEVENT
DTSTART;TZID=America/Denver:20250827T083000
DTEND;TZID=America/Denver:20250827T220000
DTSTAMP:20260423T175741
CREATED:20250611T173102Z
LAST-MODIFIED:20251103T205347Z
UID:10010225-1756283400-1756332000@mowcommunitycenter.org
SUMMARY:Market Day Wednesdays
DESCRIPTION:Don’t miss our Market Day exclusive offers featuring the best in seasonal produce straight from local farms! It’s the perfect opportunity to stock your pantry with healthy\, farm-fresh goods for you and your loved ones. \nSupport local agriculture\, eat well\, and savor the flavors of the season—only on Wednesdays at the Center!
URL:https://mowcommunitycenter.org/event/market-day-wednesdays/2025-08-27/
LOCATION:Jewell Room @ Meals on Wheels Community Center\, 700 Jewell Avenue\, Pacific Grove\, CA\, 93950\, United States
CATEGORIES:Center Events
ATTACH;FMTTYPE=image/webp:https://mowcommunitycenter.org/wp-content/uploads/2025/06/market-day.webp
END:VEVENT
BEGIN:VEVENT
DTSTART;TZID=America/Denver:20250827T110000
DTEND;TZID=America/Denver:20250827T123000
DTSTAMP:20260423T175741
CREATED:20250624T210644Z
LAST-MODIFIED:20250723T191527Z
UID:10009195-1756292400-1756297800@mowcommunitycenter.org
SUMMARY:Group Dining - Meatloaf
DESCRIPTION:Join us for a delicious three-course meal and great company! \nMenu: \n\nHearty homestyle meatloaf with savory seasonings\nCreamy mashed potatoes made from scratch\nFresh morning harvest vegetables bursting with flavor\nPlus salad and dessert to complete your meal\n\nSchedule: \n\nSeating begins: 11:00 AM\nBeverage service: 11:30 AM\nTable service: 11:45 AM – 12:30 PM\n\nWhy Join Us? Enjoy nutritious\, restaurant-quality dining in a warm\, welcoming atmosphere. Connect with neighbors\, make new friends\, and be part of our vibrant community. Our meals meet Federal nutrition standards\, so you can feel good about what you’re eating while having a wonderful time. \nSuggested Donation: $3.00 for seniors\, $7.50 for others (voluntary – all enrolled seniors welcome regardless of ability to donate) \nCome hungry\, leave happy\, and discover the joy of shared meals and meaningful connections.
URL:https://mowcommunitycenter.org/event/group-dining-meatloaf/
LOCATION:Dining Room @ Meals on Wheels Community Center\, 700 Jewell Avenue\, Pacific Grove\, CA\, 93950\, United States
CATEGORIES:Center Events,Group Dining
ATTACH;FMTTYPE=image/webp:https://mowcommunitycenter.org/wp-content/uploads/2025/06/GroupDining_Menu_meatloaf.webp
END:VEVENT
END:VCALENDAR