BEGIN:VCALENDAR
VERSION:2.0
PRODID:-//Meals on Wheels Community Center - ECPv6.15.20//NONSGML v1.0//EN
CALSCALE:GREGORIAN
METHOD:PUBLISH
X-WR-CALNAME:Meals on Wheels Community Center
X-ORIGINAL-URL:https://mowcommunitycenter.org
X-WR-CALDESC:Events for Meals on Wheels Community Center
REFRESH-INTERVAL;VALUE=DURATION:PT1H
X-Robots-Tag:noindex
X-PUBLISHED-TTL:PT1H
BEGIN:VTIMEZONE
TZID:America/Denver
BEGIN:DAYLIGHT
TZOFFSETFROM:-0700
TZOFFSETTO:-0600
TZNAME:MDT
DTSTART:20250309T090000
END:DAYLIGHT
BEGIN:STANDARD
TZOFFSETFROM:-0600
TZOFFSETTO:-0700
TZNAME:MST
DTSTART:20251102T080000
END:STANDARD
BEGIN:DAYLIGHT
TZOFFSETFROM:-0700
TZOFFSETTO:-0600
TZNAME:MDT
DTSTART:20260308T090000
END:DAYLIGHT
BEGIN:STANDARD
TZOFFSETFROM:-0600
TZOFFSETTO:-0700
TZNAME:MST
DTSTART:20261101T080000
END:STANDARD
BEGIN:DAYLIGHT
TZOFFSETFROM:-0700
TZOFFSETTO:-0600
TZNAME:MDT
DTSTART:20270314T090000
END:DAYLIGHT
BEGIN:STANDARD
TZOFFSETFROM:-0600
TZOFFSETTO:-0700
TZNAME:MST
DTSTART:20271107T080000
END:STANDARD
END:VTIMEZONE
BEGIN:VEVENT
DTSTART;TZID=America/Denver:20260317T110000
DTEND;TZID=America/Denver:20260317T123000
DTSTAMP:20260421T025747
CREATED:20251211T232629Z
LAST-MODIFIED:20260223T213834Z
UID:10026623-1773745200-1773750600@mowcommunitycenter.org
SUMMARY:Group Dining - Hungarian Pork Goulash
DESCRIPTION:Join Us for a Delicious Community Lunch!\nFeatured Menu: \n\nHungarian Pork Goulash – A hearty\, warming dish with tender pork in rich paprika sauce\nWhole Wheat Penne – Perfectly cooked pasta for a nutritious complement\nMorning Harvest Vegetables – Fresh\, seasonal vegetables to complete your meal\n\nTime: Seating begins 11:00 AM | Beverages 11:30 AM | Table service 11:45 AM – 12:30 PM \nCome hungry\, leave happy! Experience the warmth of community dining while enjoying a nutritious\, three-course meal that meets Federal nutrition standards. Share stories\, make new friends\, and savor the comfort of home-style cooking in great company. \nSuggested Donation: $3.00 for seniors | $7.50 for others Donation is voluntary – all enrolled seniors welcome regardless of ability to donate \nLocated at the Meals on Wheels Community Center dining room
URL:https://mowcommunitycenter.org/event/group-dining-hungarian-pork-goulash-2/
LOCATION:Dining Room @ Meals on Wheels Community Center\, 700 Jewell Avenue\, Pacific Grove\, CA\, 93950\, United States
CATEGORIES:Center Events,Group Dining
ATTACH;FMTTYPE=image/jpeg:https://mowcommunitycenter.org/wp-content/uploads/2025/12/Website_Lunch-HungarianPorkGoulash-JAN2026.jpg
END:VEVENT
BEGIN:VEVENT
DTSTART;TZID=America/Denver:20260318T083000
DTEND;TZID=America/Denver:20260318T220000
DTSTAMP:20260421T025747
CREATED:20251125T201511Z
LAST-MODIFIED:20251125T201511Z
UID:10014025-1773822600-1773871200@mowcommunitycenter.org
SUMMARY:Food Bank Distribution
DESCRIPTION:Stop by for fresh\, nutritious produce and bread—free of charge. Open to all Center members\, this weekly distribution helps support healthy eating and food security in our community. \n🥖 Supplies are limited\, so please take only what you need to ensure everyone has a chance to benefit. \n📍 First come\, first served.Let’s nourish our community—together.
URL:https://mowcommunitycenter.org/event/food-bank-distribution-2/2026-03-18/
LOCATION:Jewell Room @ Meals on Wheels Community Center\, 700 Jewell Avenue\, Pacific Grove\, CA\, 93950\, United States
CATEGORIES:Center Events
ATTACH;FMTTYPE=image/webp:https://mowcommunitycenter.org/wp-content/uploads/2025/06/Food-Distribution2.webp
END:VEVENT
BEGIN:VEVENT
DTSTART;TZID=America/Denver:20260318T083000
DTEND;TZID=America/Denver:20260318T220000
DTSTAMP:20260421T025747
CREATED:20251216T194841Z
LAST-MODIFIED:20251216T200514Z
UID:10010254-1773822600-1773871200@mowcommunitycenter.org
SUMMARY:Market Day Wednesdays
DESCRIPTION:Don’t miss our Market Day exclusive offers featuring the best in seasonal produce straight from local farms! It’s the perfect opportunity to stock your pantry with healthy\, farm-fresh goods for you and your loved ones. \nSupport local agriculture\, eat well\, and savor the flavors of the season—only on Wednesdays at the Center!
URL:https://mowcommunitycenter.org/event/market-day-wednesdays-2/2026-03-18/
LOCATION:Jewell Room @ Meals on Wheels Community Center\, 700 Jewell Avenue\, Pacific Grove\, CA\, 93950\, United States
CATEGORIES:Center Events
ATTACH;FMTTYPE=image/webp:https://mowcommunitycenter.org/wp-content/uploads/2025/06/market-day.webp
END:VEVENT
BEGIN:VEVENT
DTSTART;TZID=America/Denver:20260319T110000
DTEND;TZID=America/Denver:20260319T123000
DTSTAMP:20260421T025747
CREATED:20260223T215414Z
LAST-MODIFIED:20260227T201752Z
UID:10026655-1773918000-1773923400@mowcommunitycenter.org
SUMMARY:Group Dining - Salmon Fillet & Mango Salsa
DESCRIPTION:🌴🌊 Today’s meal is Salmon & Mango Salsa!🐟🥭 Fresh Salmon fillet served with a tropical mango salsa over rice. It’s a seaside paradise of coastal & tropical flavors\, a burst of sunshine on your plate! \n🕚 Time:\n• Seating begins at 11:00 AM\n• Beverages served at 11:30 AM\n• Table service: 11:45 AM – 12:30 PM \n💵 Suggested Donation:\n• $3.00 for seniors\n• $7.50 for others\n(Voluntary – all enrolled seniors are welcome\, regardless of ability to donate) \n✨ Come hungry\, leave happy!\nEnjoy not only a delicious lunch but also the joy of connection\, laughter\, and good company in our vibrant community dining room. \n👉 Reserve your seat and be part of something wonderful!
URL:https://mowcommunitycenter.org/event/salmon-fillet-mango-salsa/
LOCATION:Dining Room @ Meals on Wheels Community Center\, 700 Jewell Avenue\, Pacific Grove\, CA\, 93950\, United States
CATEGORIES:Center Events,Group Dining
ATTACH;FMTTYPE=image/jpeg:https://mowcommunitycenter.org/wp-content/uploads/2026/02/Website_Lunch-SalmonFilletMangoSalsa.jpg
END:VEVENT
BEGIN:VEVENT
DTSTART;TZID=America/Denver:20260320T110000
DTEND;TZID=America/Denver:20260320T123000
DTSTAMP:20260421T025747
CREATED:20251216T184958Z
LAST-MODIFIED:20260227T201658Z
UID:10026629-1774004400-1774009800@mowcommunitycenter.org
SUMMARY:Group Dining - Eggplant & Lentil Stew
DESCRIPTION:Join Us for a Delicious Community Lunch!\nFeatured Menu: \n\nEggplant & Lentil Stew – A hearty\, warming dish with tender pork in rich paprika sauce\nRice – Perfectly cooked pasta for a nutritious complement\n\nTime: Seating begins 11:00 AM | Beverages 11:30 AM | Table service 11:45 AM – 12:30 PM \nCome hungry\, leave happy! Experience the warmth of community dining while enjoying a nutritious\, three-course meal that meets Federal nutrition standards. Share stories\, make new friends\, and savor the comfort of home-style cooking in great company. \nSuggested Donation: $3.00 for seniors | $7.50 for others Donation is voluntary – all enrolled seniors welcome regardless of ability to donate \nLocated at the Meals on Wheels Community Center dining room
URL:https://mowcommunitycenter.org/event/eggplant-lentil-stew/
LOCATION:Dining Room @ Meals on Wheels Community Center\, 700 Jewell Avenue\, Pacific Grove\, CA\, 93950\, United States
CATEGORIES:Center Events,Group Dining
ATTACH;FMTTYPE=image/jpeg:https://mowcommunitycenter.org/wp-content/uploads/2025/12/Website_Lunch-Eggplant-Lentil-Stew-JAN2026.jpg
END:VEVENT
END:VCALENDAR