BEGIN:VCALENDAR
VERSION:2.0
PRODID:-//Meals on Wheels Community Center - ECPv6.15.20//NONSGML v1.0//EN
CALSCALE:GREGORIAN
METHOD:PUBLISH
X-WR-CALNAME:Meals on Wheels Community Center
X-ORIGINAL-URL:https://mowcommunitycenter.org
X-WR-CALDESC:Events for Meals on Wheels Community Center
REFRESH-INTERVAL;VALUE=DURATION:PT1H
X-Robots-Tag:noindex
X-PUBLISHED-TTL:PT1H
BEGIN:VTIMEZONE
TZID:America/Denver
BEGIN:DAYLIGHT
TZOFFSETFROM:-0700
TZOFFSETTO:-0600
TZNAME:MDT
DTSTART:20250309T090000
END:DAYLIGHT
BEGIN:STANDARD
TZOFFSETFROM:-0600
TZOFFSETTO:-0700
TZNAME:MST
DTSTART:20251102T080000
END:STANDARD
BEGIN:DAYLIGHT
TZOFFSETFROM:-0700
TZOFFSETTO:-0600
TZNAME:MDT
DTSTART:20260308T090000
END:DAYLIGHT
BEGIN:STANDARD
TZOFFSETFROM:-0600
TZOFFSETTO:-0700
TZNAME:MST
DTSTART:20261101T080000
END:STANDARD
BEGIN:DAYLIGHT
TZOFFSETFROM:-0700
TZOFFSETTO:-0600
TZNAME:MDT
DTSTART:20270314T090000
END:DAYLIGHT
BEGIN:STANDARD
TZOFFSETFROM:-0600
TZOFFSETTO:-0700
TZNAME:MST
DTSTART:20271107T080000
END:STANDARD
END:VTIMEZONE
BEGIN:VEVENT
DTSTART;TZID=America/Denver:20260601T110000
DTEND;TZID=America/Denver:20260601T123000
DTSTAMP:20260422T215413
CREATED:20260417T221640Z
LAST-MODIFIED:20260417T221640Z
UID:10026705-1780311600-1780317000@mowcommunitycenter.org
SUMMARY:Group Dining -BBQ Meatballs
DESCRIPTION:BBQ Meatballs with Rice & Vegetables \nJoin us at Group Dining and share this delicious meal with wonderful friends and neighbors. Our talented kitchen staff has prepared tender\, juicy meatballs smothered in a rich\, smoky BBQ glaze\, served over fluffy rice and colorful fresh vegetables. 🍖✨ Every bite is pure comfort food at its finest! \nSchedule: \n\nSeating begins: 11:00 AM\nBeverage service: 11:30 AM\nTable service: 11:45 AM – 12:30 PM\nDining room closes: 1:00 PM\n\nSuggested Donation: $3.00 for seniors\, $7.50 for others Voluntary donation helps keep our program open. All enrolled seniors welcome regardless of ability to donate. \nMore than just a meal – it’s community! Share stories\, make new friends\, and enjoy the warmth of gathering together. Reservations encouraged but walk-ins welcome.
URL:https://mowcommunitycenter.org/event/group-dining-bbq-meatballs/
LOCATION:Dining Room @ Meals on Wheels Community Center\, 700 Jewell Avenue\, Pacific Grove\, CA\, 93950\, United States
CATEGORIES:Center Events,Group Dining
ATTACH;FMTTYPE=image/jpeg:https://mowcommunitycenter.org/wp-content/uploads/2026/04/Website_Events-BBQMeatballs.jpg
END:VEVENT
BEGIN:VEVENT
DTSTART;TZID=America/Denver:20260602T110000
DTEND;TZID=America/Denver:20260602T123000
DTSTAMP:20260422T215413
CREATED:20260417T181827Z
LAST-MODIFIED:20260417T181827Z
UID:10026704-1780398000-1780403400@mowcommunitycenter.org
SUMMARY:Group Dining - Pork Pozole
DESCRIPTION:Pork Pozole & Mexican Rice \nTime:🕚 Seating begins at 11:00 AM🥤 Beverages served at 11:30 AM🍽️ Table service from 11:45 AM – 12:30 PM \nLocation: Meals on Wheels Community Center \nGet ready for a bold and comforting meal you won’t want to miss! Our kitchen is serving up a hearty bowl of Pork Pozole — slow-simmered with savory spices and tender pork — paired perfectly with flavorful Mexican rice. It’s a dish that warms the heart and brings everyone to the table. \nSuggested Donation:$3.00 for seniors | $7.50 for all others(Donations are voluntary – all enrolled seniors are welcome regardless of ability to donate) \nCome hungry\, leave happy!Enjoy good food\, great conversation\, and the joy of dining together.
URL:https://mowcommunitycenter.org/event/group-dining-pork-pozole-2/
LOCATION:Dining Room @ Meals on Wheels Community Center\, 700 Jewell Avenue\, Pacific Grove\, CA\, 93950\, United States
CATEGORIES:Center Events,Group Dining
ATTACH;FMTTYPE=image/webp:https://mowcommunitycenter.org/wp-content/uploads/2025/07/GroupDining_Menu_PorkPozole.webp
END:VEVENT
BEGIN:VEVENT
DTSTART;TZID=America/Denver:20260603T083000
DTEND;TZID=America/Denver:20260603T220000
DTSTAMP:20260422T215413
CREATED:20251125T201511Z
LAST-MODIFIED:20251125T201511Z
UID:10014036-1780475400-1780524000@mowcommunitycenter.org
SUMMARY:Food Bank Distribution
DESCRIPTION:Stop by for fresh\, nutritious produce and bread—free of charge. Open to all Center members\, this weekly distribution helps support healthy eating and food security in our community. \n🥖 Supplies are limited\, so please take only what you need to ensure everyone has a chance to benefit. \n📍 First come\, first served.Let’s nourish our community—together.
URL:https://mowcommunitycenter.org/event/food-bank-distribution-2/2026-06-03/
LOCATION:Jewell Room @ Meals on Wheels Community Center\, 700 Jewell Avenue\, Pacific Grove\, CA\, 93950\, United States
CATEGORIES:Center Events
ATTACH;FMTTYPE=image/webp:https://mowcommunitycenter.org/wp-content/uploads/2025/06/Food-Distribution2.webp
END:VEVENT
BEGIN:VEVENT
DTSTART;TZID=America/Denver:20260603T083000
DTEND;TZID=America/Denver:20260603T220000
DTSTAMP:20260422T215413
CREATED:20251216T194841Z
LAST-MODIFIED:20251216T200514Z
UID:10010265-1780475400-1780524000@mowcommunitycenter.org
SUMMARY:Market Day Wednesdays
DESCRIPTION:Don’t miss our Market Day exclusive offers featuring the best in seasonal produce straight from local farms! It’s the perfect opportunity to stock your pantry with healthy\, farm-fresh goods for you and your loved ones. \nSupport local agriculture\, eat well\, and savor the flavors of the season—only on Wednesdays at the Center!
URL:https://mowcommunitycenter.org/event/market-day-wednesdays-2/2026-06-03/
LOCATION:Jewell Room @ Meals on Wheels Community Center\, 700 Jewell Avenue\, Pacific Grove\, CA\, 93950\, United States
CATEGORIES:Center Events
ATTACH;FMTTYPE=image/webp:https://mowcommunitycenter.org/wp-content/uploads/2025/06/market-day.webp
END:VEVENT
BEGIN:VEVENT
DTSTART;TZID=America/Denver:20260603T110000
DTEND;TZID=America/Denver:20260603T123000
DTSTAMP:20260422T215413
CREATED:20260227T210125Z
LAST-MODIFIED:20260417T181906Z
UID:10026657-1780484400-1780489800@mowcommunitycenter.org
SUMMARY:Group Dining - Rockfish Patty with Green Goddess Dressing
DESCRIPTION:🍽️ Today’s Group Dining Menu: Rockfish Patty with Green Goddess Dressing\nJoin us today at Meals on Wheels of the Monterey Peninsula for a delicious and nourishing lunch featuring a savory Rockfish Patty topped with creamy Green Goddess Dressing. \nOur rockfish patty is perfectly seasoned and lightly crisped\, served with a fresh\, herb-forward Green Goddess dressing that adds a bright and flavorful finish. It’s a wholesome\, coastal-inspired meal prepared with care to nourish both body and spirit. \nDining Schedule: \n\nSeating Begins: 11:00 AM\nBeverages Served: 11:30 AM\nTable Service: 11:45 AM – 12:30 PM\n\nSuggested Donation: \n\n$3.00 for seniors\n$7.50 for all others(All enrolled seniors are welcome — donation is voluntary.)\n\nCome hungry and leave happy! Enjoy a chef-prepared meal\, friendly faces\, and meaningful connection in a welcoming community setting. Invite a neighbor\, spread the word\, and join us for a lunch that brings people together. 💙
URL:https://mowcommunitycenter.org/event/group-dining-rockfish-patty-with-green-goddess-dressing/
LOCATION:Dining Room @ Meals on Wheels Community Center\, 700 Jewell Avenue\, Pacific Grove\, CA\, 93950\, United States
CATEGORIES:Center Events,Group Dining
ATTACH;FMTTYPE=image/jpeg:https://mowcommunitycenter.org/wp-content/uploads/2026/02/Website_Lunch-RockfishPattyGreenGoddess.jpg
END:VEVENT
BEGIN:VEVENT
DTSTART;TZID=America/Denver:20260604T110000
DTEND;TZID=America/Denver:20260604T123000
DTSTAMP:20260422T215413
CREATED:20260227T215859Z
LAST-MODIFIED:20260417T181940Z
UID:10026658-1780570800-1780576200@mowcommunitycenter.org
SUMMARY:Group Dining - Chicken Chili
DESCRIPTION:🌶️ Today’s Group Dining Menu: Chicken Chili\nWarm up your day with a hearty bowl of our savory Chicken Chili—tender chicken simmered with beans\, tomatoes\, and a blend of comforting spices for just the right kick. It’s wholesome\, satisfying\, and made fresh to nourish both body and spirit. \nDining Schedule:🕚 Seating Begins: 11:00 AM🥤 Beverages Served: 11:30 AM🍽️ Table Service: 11:45 AM – 12:30 PM \nSuggested Donation:💛 $3.00 for seniors💛 $7.50 for all others(All enrolled seniors are welcome — donation is voluntary.) \nJoin us for a delicious meal\, friendly faces\, and meaningful connection. Bring a friend\, share the warmth\, and make lunchtime the highlight of your day! \nWe can’t wait to welcome you to the table. 🌟
URL:https://mowcommunitycenter.org/event/group-dining-chicken-chili-2/
LOCATION:Dining Room @ Meals on Wheels Community Center\, 700 Jewell Avenue\, Pacific Grove\, CA\, 93950\, United States
CATEGORIES:Center Events,Group Dining
ATTACH;FMTTYPE=image/jpeg:https://mowcommunitycenter.org/wp-content/uploads/2026/02/Website_Lunch-ChickenChili.jpg
END:VEVENT
BEGIN:VEVENT
DTSTART;TZID=America/Denver:20260605T110000
DTEND;TZID=America/Denver:20260605T123000
DTSTAMP:20260422T215413
CREATED:20260417T182024Z
LAST-MODIFIED:20260417T182024Z
UID:10026703-1780657200-1780662600@mowcommunitycenter.org
SUMMARY:Group Dining - Spaghetti Primavera
DESCRIPTION:Join us for a delicious three-course lunch featuring fresh Spaghetti Primavera with warm\, buttery Garlic Bread! \nGather around our community table for good food and even better company. Our chef-prepared Spaghetti Primavera bursts with seasonal vegetables and perfectly cooked pasta\, paired with aromatic garlic bread that’s baked fresh daily. This complete meal meets Federal nutrition standards while delivering comfort food satisfaction. \nSchedule: \n\nSeating begins: 11:00 AM\nBeverage service: 11:30 AM\nTable service: 11:45 AM – 12:30 PM\n\nWhat to Expect: \n\nThree-course nutritious meal\nWarm\, welcoming atmosphere\nChance to meet new friends and reconnect with familiar faces\nPossible entertainment from local musicians\n\nCost: $3.00 suggested donation for seniors\, $7.50 for others (voluntary – all enrolled seniors welcome regardless of ability to donate) \nCome hungry\, leave happy\, and discover why our community dining is the highlight of so many people’s day.
URL:https://mowcommunitycenter.org/event/group-dining-spaghetti-primavera/
LOCATION:Dining Room @ Meals on Wheels Community Center\, 700 Jewell Avenue\, Pacific Grove\, CA\, 93950\, United States
CATEGORIES:Center Events,Group Dining
ATTACH;FMTTYPE=image/webp:https://mowcommunitycenter.org/wp-content/uploads/2025/06/GroupDining_Menu_SpaghettiPrimavera.webp
END:VEVENT
END:VCALENDAR