BEGIN:VCALENDAR
VERSION:2.0
PRODID:-//Meals on Wheels Community Center - ECPv6.15.20//NONSGML v1.0//EN
CALSCALE:GREGORIAN
METHOD:PUBLISH
X-ORIGINAL-URL:https://mowcommunitycenter.org
X-WR-CALDESC:Events for Meals on Wheels Community Center
REFRESH-INTERVAL;VALUE=DURATION:PT1H
X-Robots-Tag:noindex
X-PUBLISHED-TTL:PT1H
BEGIN:VTIMEZONE
TZID:America/Denver
BEGIN:DAYLIGHT
TZOFFSETFROM:-0700
TZOFFSETTO:-0600
TZNAME:MDT
DTSTART:20240310T090000
END:DAYLIGHT
BEGIN:STANDARD
TZOFFSETFROM:-0600
TZOFFSETTO:-0700
TZNAME:MST
DTSTART:20241103T080000
END:STANDARD
BEGIN:DAYLIGHT
TZOFFSETFROM:-0700
TZOFFSETTO:-0600
TZNAME:MDT
DTSTART:20250309T090000
END:DAYLIGHT
BEGIN:STANDARD
TZOFFSETFROM:-0600
TZOFFSETTO:-0700
TZNAME:MST
DTSTART:20251102T080000
END:STANDARD
BEGIN:DAYLIGHT
TZOFFSETFROM:-0700
TZOFFSETTO:-0600
TZNAME:MDT
DTSTART:20260308T090000
END:DAYLIGHT
BEGIN:STANDARD
TZOFFSETFROM:-0600
TZOFFSETTO:-0700
TZNAME:MST
DTSTART:20261101T080000
END:STANDARD
END:VTIMEZONE
BEGIN:VEVENT
DTSTART;TZID=America/Denver:20251117T110000
DTEND;TZID=America/Denver:20251117T123000
DTSTAMP:20260425T072355
CREATED:20250611T142753Z
LAST-MODIFIED:20251103T211049Z
UID:10012690-1763377200-1763382600@mowcommunitycenter.org
SUMMARY:Group Dining Luncheon
DESCRIPTION:Daily Lunch Service\nMonday through Friday | 11:00 AM – 1:00 PM \n\nSeating begins: 11:00 AM\nBeverage service: 11:30 AM\nTable service: 11:45 AM – 12:30 PM\nSuggested donation: $3.00 for seniors\, $7.50 for others\n\nEnjoy a delicious three-course luncheon that meets Federal nutrition standards in a warm\, welcoming atmosphere. Make new friends\, catch up with neighbors\, and savor chef-prepared meals featuring fresh\, local ingredients. \nWhy Join Us?\n✨ Nutritious & Delicious: Chef-prepared meals meeting Federal nutrition guidelines\n✨ Affordable: Voluntary donations help keep our doors open\n✨ Social Connection: End isolation and build lasting friendships\n✨ Entertainment: Live music and special events throughout the week\n✨ Welcoming: All enrolled seniors can enjoy meals regardless of ability to donate\n✨ Convenient: Reservations encouraged but walk-ins welcome \nReady to join our table family? Call us to make a reservation or simply come by – we’d love to meet you! Experience the joy of sharing good food and great company in the heart of our community.
URL:https://mowcommunitycenter.org/event/group-dining-luncheon/2025-11-17/
LOCATION:Dining Room @ Meals on Wheels Community Center\, 700 Jewell Avenue\, Pacific Grove\, CA\, 93950\, United States
CATEGORIES:Group Dining
ATTACH;FMTTYPE=image/webp:https://mowcommunitycenter.org/wp-content/uploads/2025/06/groupdining_setting.webp
END:VEVENT
BEGIN:VEVENT
DTSTART;TZID=America/Denver:20251117T110000
DTEND;TZID=America/Denver:20251117T123000
DTSTAMP:20260425T072355
CREATED:20251027T181945Z
LAST-MODIFIED:20260227T202833Z
UID:10009313-1763377200-1763382600@mowcommunitycenter.org
SUMMARY:Group Dining - Chicken Marsala
DESCRIPTION:🌟🍗 Today’s meal is Chicken Marsala! 🍗🍄Tender chicken bathed Marsala sauce\, complemented by sautéed mushrooms. \n🕚 Time:\n• Seating begins at 11:00 AM\n• Beverages served at 11:30 AM\n• Table service: 11:45 AM – 12:30 PM \n💵 Suggested Donation:\n• $3.00 for seniors\n• $7.50 for others\n(Voluntary – all enrolled seniors are welcome\, regardless of ability to donate) \n✨ Come hungry\, leave happy!\nEnjoy not only a delicious lunch but also the joy of connection\, laughter\, and good company in our vibrant community dining room. \n👉 Reserve your seat and be part of something wonderful! \n 
URL:https://mowcommunitycenter.org/event/chicken-marsala/
LOCATION:Dining Room @ Meals on Wheels Community Center\, 700 Jewell Avenue\, Pacific Grove\, CA\, 93950\, United States
CATEGORIES:Center Events,Group Dining
ATTACH;FMTTYPE=image/webp:https://mowcommunitycenter.org/wp-content/uploads/2025/10/GroupDining_Menu_ChickenMarsala.webp
END:VEVENT
END:VCALENDAR