BEGIN:VCALENDAR
VERSION:2.0
PRODID:-//Meals on Wheels Community Center - ECPv6.15.20//NONSGML v1.0//EN
CALSCALE:GREGORIAN
METHOD:PUBLISH
X-ORIGINAL-URL:https://mowcommunitycenter.org
X-WR-CALDESC:Events for Meals on Wheels Community Center
REFRESH-INTERVAL;VALUE=DURATION:PT1H
X-Robots-Tag:noindex
X-PUBLISHED-TTL:PT1H
BEGIN:VTIMEZONE
TZID:America/Denver
BEGIN:DAYLIGHT
TZOFFSETFROM:-0700
TZOFFSETTO:-0600
TZNAME:MDT
DTSTART:20250309T090000
END:DAYLIGHT
BEGIN:STANDARD
TZOFFSETFROM:-0600
TZOFFSETTO:-0700
TZNAME:MST
DTSTART:20251102T080000
END:STANDARD
BEGIN:DAYLIGHT
TZOFFSETFROM:-0700
TZOFFSETTO:-0600
TZNAME:MDT
DTSTART:20260308T090000
END:DAYLIGHT
BEGIN:STANDARD
TZOFFSETFROM:-0600
TZOFFSETTO:-0700
TZNAME:MST
DTSTART:20261101T080000
END:STANDARD
BEGIN:DAYLIGHT
TZOFFSETFROM:-0700
TZOFFSETTO:-0600
TZNAME:MDT
DTSTART:20270314T090000
END:DAYLIGHT
BEGIN:STANDARD
TZOFFSETFROM:-0600
TZOFFSETTO:-0700
TZNAME:MST
DTSTART:20271107T080000
END:STANDARD
END:VTIMEZONE
BEGIN:VEVENT
DTSTART;TZID=America/Denver:20260511T110000
DTEND;TZID=America/Denver:20260511T123000
DTSTAMP:20260419T081410
CREATED:20250723T174058Z
LAST-MODIFIED:20260417T180321Z
UID:10009247-1778497200-1778502600@mowcommunitycenter.org
SUMMARY:Group Dining - Fish Fillet Asian Style
DESCRIPTION:Fish Fillet Asian Style with Rice & Mixed VegetablesTime:🕚 Seating begins at 11:00 AM🥤 Beverages served at 11:30 AM🍽️ Table service from 11:45 AM – 12:30 PM \nGet ready for a flavor-packed lunch you won’t want to miss! Join us for a savory Fish Fillet Asian Style — flaky\, tender\, and glazed to perfection — served alongside fragrant rice and a colorful medley of seasoned vegetables. \n🧡 More Than a Meal:\nThis is your chance to enjoy great food\, make new friends\, and soak in the uplifting energy of our vibrant community. Whether you come for the flavors or the fellowship\, you’ll leave full and smiling. \nSuggested Donation:• $3.00 for seniors• $7.50 for non-seniors(Donations are voluntary – all enrolled seniors are welcome\, regardless of ability to donate.) \n✨ Come hungry\, leave happy — and discover the joy of dining together.
URL:https://mowcommunitycenter.org/event/group-dining-fish-fillet-asian-style/
LOCATION:Dining Room @ Meals on Wheels Community Center\, 700 Jewell Avenue\, Pacific Grove\, CA\, 93950\, United States
CATEGORIES:Center Events,Group Dining
ATTACH;FMTTYPE=image/webp:https://mowcommunitycenter.org/wp-content/uploads/2025/07/GroupDining_Menu_-AsianFish.webp
END:VEVENT
BEGIN:VEVENT
DTSTART;TZID=America/Denver:20260511T110000
DTEND;TZID=America/Denver:20260511T123000
DTSTAMP:20260419T081410
CREATED:20251125T201305Z
LAST-MODIFIED:20251125T201306Z
UID:10012815-1778497200-1778502600@mowcommunitycenter.org
SUMMARY:Group Dining Luncheon
DESCRIPTION:Daily Lunch Service\nMonday through Friday | 11:00 AM – 1:00 PM \n\nSeating begins: 11:00 AM\nBeverage service: 11:30 AM\nTable service: 11:45 AM – 12:30 PM\nSuggested donation: $3.00 for seniors\, $7.50 for others\n\nEnjoy a delicious three-course luncheon that meets Federal nutrition standards in a warm\, welcoming atmosphere. Make new friends\, catch up with neighbors\, and savor chef-prepared meals featuring fresh\, local ingredients. \nWhy Join Us?\n✨ Nutritious & Delicious: Chef-prepared meals meeting Federal nutrition guidelines\n✨ Affordable: Voluntary donations help keep our doors open\n✨ Social Connection: End isolation and build lasting friendships\n✨ Entertainment: Live music and special events throughout the week\n✨ Welcoming: All enrolled seniors can enjoy meals regardless of ability to donate\n✨ Convenient: Reservations encouraged but walk-ins welcome \nReady to join our table family? Call us to make a reservation or simply come by – we’d love to meet you! Experience the joy of sharing good food and great company in the heart of our community.
URL:https://mowcommunitycenter.org/event/group-dining-luncheon-3/2026-05-11/
LOCATION:Dining Room @ Meals on Wheels Community Center\, 700 Jewell Avenue\, Pacific Grove\, CA\, 93950\, United States
CATEGORIES:Group Dining
ATTACH;FMTTYPE=image/webp:https://mowcommunitycenter.org/wp-content/uploads/2025/06/groupdining_setting.webp
END:VEVENT
BEGIN:VEVENT
DTSTART;TZID=America/Denver:20260512T110000
DTEND;TZID=America/Denver:20260512T123000
DTSTAMP:20260419T081410
CREATED:20250723T175847Z
LAST-MODIFIED:20260417T180402Z
UID:10009252-1778583600-1778589000@mowcommunitycenter.org
SUMMARY:Group Dining - Chinese-Style Braised Beef
DESCRIPTION:Chinese-Style Braised Beef with Rice \nSavor the rich\, savory flavors of tender\, slow-braised beef in a fragrant blend of soy\, ginger\, and garlic — perfectly paired with fluffy rice. This is comfort food with a kick\, served with heart and shared among friends. \nTime:🕚 Seating begins at 11:00 AM☕ Beverages at 11:30 AM🍽 Table service from 11:45 AM – 12:30 PM \nSuggested Donation:💛 $3.00 for seniors💛 $7.50 for all others(All enrolled seniors are welcome — donation is voluntary.) \n\nCome hungry\, leave happy!There’s nothing quite like enjoying a warm\, delicious meal surrounded by great people and even better conversation. Group dining nourishes more than just the body — it feeds the soul. \n👉 Mark your calendar and join us!
URL:https://mowcommunitycenter.org/event/group-dining-chinese-style-braised-beef/
LOCATION:Dining Room @ Meals on Wheels Community Center\, 700 Jewell Avenue\, Pacific Grove\, CA\, 93950\, United States
CATEGORIES:Center Events,Group Dining
ATTACH;FMTTYPE=image/webp:https://mowcommunitycenter.org/wp-content/uploads/2025/07/GroupDining_Menu_-ChineseBraisedBeef.webp
END:VEVENT
BEGIN:VEVENT
DTSTART;TZID=America/Denver:20260512T110000
DTEND;TZID=America/Denver:20260512T123000
DTSTAMP:20260419T081410
CREATED:20251125T201305Z
LAST-MODIFIED:20251125T201306Z
UID:10012816-1778583600-1778589000@mowcommunitycenter.org
SUMMARY:Group Dining Luncheon
DESCRIPTION:Daily Lunch Service\nMonday through Friday | 11:00 AM – 1:00 PM \n\nSeating begins: 11:00 AM\nBeverage service: 11:30 AM\nTable service: 11:45 AM – 12:30 PM\nSuggested donation: $3.00 for seniors\, $7.50 for others\n\nEnjoy a delicious three-course luncheon that meets Federal nutrition standards in a warm\, welcoming atmosphere. Make new friends\, catch up with neighbors\, and savor chef-prepared meals featuring fresh\, local ingredients. \nWhy Join Us?\n✨ Nutritious & Delicious: Chef-prepared meals meeting Federal nutrition guidelines\n✨ Affordable: Voluntary donations help keep our doors open\n✨ Social Connection: End isolation and build lasting friendships\n✨ Entertainment: Live music and special events throughout the week\n✨ Welcoming: All enrolled seniors can enjoy meals regardless of ability to donate\n✨ Convenient: Reservations encouraged but walk-ins welcome \nReady to join our table family? Call us to make a reservation or simply come by – we’d love to meet you! Experience the joy of sharing good food and great company in the heart of our community.
URL:https://mowcommunitycenter.org/event/group-dining-luncheon-3/2026-05-12/
LOCATION:Dining Room @ Meals on Wheels Community Center\, 700 Jewell Avenue\, Pacific Grove\, CA\, 93950\, United States
CATEGORIES:Group Dining
ATTACH;FMTTYPE=image/webp:https://mowcommunitycenter.org/wp-content/uploads/2025/06/groupdining_setting.webp
END:VEVENT
BEGIN:VEVENT
DTSTART;TZID=America/Denver:20260513T110000
DTEND;TZID=America/Denver:20260513T123000
DTSTAMP:20260419T081410
CREATED:20250902T161228Z
LAST-MODIFIED:20260417T180428Z
UID:10009275-1778670000-1778675400@mowcommunitycenter.org
SUMMARY:Group Dining - Ratatouille & Rice
DESCRIPTION:Time:🕚 Seating begins at 11:00 AM🫖 Beverages at 11:30 AM🍽️ Table service 11:45 AM – 12:30 PM \nSuggested Donation:💛 $3.00 for seniors | $7.50 for others(Voluntary — all enrolled seniors welcome\, regardless of ability to donate.) \n\n🌟 Today’s Delicious Highlight: Ratatouille\nSavor the vibrant flavors of garden-fresh vegetables\, gently roasted and simmered to perfection in a fragrant tomato and herb sauce paired with rice\, this dish is a wholesome\, colorful\, and mouthwatering celebration of flavor and nutrition. Every bite is bursting with freshness — and made to bring a smile to your table. \n\nWhy Join Us?\nGroup dining isn’t just about the food — it’s about connection\, friendship\, and community. Share a meal\, enjoy lively conversation\, celebrate birthdays\, and make new friends. \nCome hungry\, leave happy! Reservations are encouraged — call us to secure your spot at the table. Come for the food\, stay for the friendship. There’s always room for one more at our community table. \nExperience the joy of dining together — because good food is even better when shared with good company.
URL:https://mowcommunitycenter.org/event/group-dining-ratatouille-with-edamame-brown-rice/
LOCATION:Dining Room @ Meals on Wheels Community Center\, 700 Jewell Avenue\, Pacific Grove\, CA\, 93950\, United States
CATEGORIES:Center Events,Group Dining
ATTACH;FMTTYPE=image/jpeg:https://mowcommunitycenter.org/wp-content/uploads/2025/09/Website_Lunch-Ratatouille2.jpg
END:VEVENT
BEGIN:VEVENT
DTSTART;TZID=America/Denver:20260513T110000
DTEND;TZID=America/Denver:20260513T123000
DTSTAMP:20260419T081410
CREATED:20251125T201305Z
LAST-MODIFIED:20251125T201306Z
UID:10012817-1778670000-1778675400@mowcommunitycenter.org
SUMMARY:Group Dining Luncheon
DESCRIPTION:Daily Lunch Service\nMonday through Friday | 11:00 AM – 1:00 PM \n\nSeating begins: 11:00 AM\nBeverage service: 11:30 AM\nTable service: 11:45 AM – 12:30 PM\nSuggested donation: $3.00 for seniors\, $7.50 for others\n\nEnjoy a delicious three-course luncheon that meets Federal nutrition standards in a warm\, welcoming atmosphere. Make new friends\, catch up with neighbors\, and savor chef-prepared meals featuring fresh\, local ingredients. \nWhy Join Us?\n✨ Nutritious & Delicious: Chef-prepared meals meeting Federal nutrition guidelines\n✨ Affordable: Voluntary donations help keep our doors open\n✨ Social Connection: End isolation and build lasting friendships\n✨ Entertainment: Live music and special events throughout the week\n✨ Welcoming: All enrolled seniors can enjoy meals regardless of ability to donate\n✨ Convenient: Reservations encouraged but walk-ins welcome \nReady to join our table family? Call us to make a reservation or simply come by – we’d love to meet you! Experience the joy of sharing good food and great company in the heart of our community.
URL:https://mowcommunitycenter.org/event/group-dining-luncheon-3/2026-05-13/
LOCATION:Dining Room @ Meals on Wheels Community Center\, 700 Jewell Avenue\, Pacific Grove\, CA\, 93950\, United States
CATEGORIES:Group Dining
ATTACH;FMTTYPE=image/webp:https://mowcommunitycenter.org/wp-content/uploads/2025/06/groupdining_setting.webp
END:VEVENT
BEGIN:VEVENT
DTSTART;TZID=America/Denver:20260514T110000
DTEND;TZID=America/Denver:20260514T123000
DTSTAMP:20260419T081410
CREATED:20251118T224126Z
LAST-MODIFIED:20260417T180520Z
UID:10026314-1778756400-1778761800@mowcommunitycenter.org
SUMMARY:Group Dining - Sweet & Sour Pork
DESCRIPTION:Join us for delicious food and wonderful company! \nMenu: Savory Sweet & Sour Pork served with wholesome brown rice – a perfectly balanced\, nutritious three-course meal that meets Federal nutrition standards. \nWhen: \n\nSeating begins: 11:00 AM\nBeverage service: 11:30 AM\nTable service: 11:45 AM – 12:30 PM\n\nWhy Join Us? Connect with neighbors\, make new friends\, and enjoy a chef-prepared meal in our welcoming dining room. Whether you’re new to the area or a longtime resident\, our community table offers the perfect opportunity to socialize while nourishing your body with a delicious\, healthy meal. \nSuggested Donation: $3.00 for seniors\, $7.50 for others (voluntary – all enrolled seniors welcome regardless of ability to donate) \nCome hungry\, leave happy\, and discover the joy of dining with friends at Meals on Wheels Community Center.
URL:https://mowcommunitycenter.org/event/group-dining-sweet-sour-pork-2/
LOCATION:Dining Room @ Meals on Wheels Community Center\, 700 Jewell Avenue\, Pacific Grove\, CA\, 93950\, United States
CATEGORIES:Center Events,Group Dining
ATTACH;FMTTYPE=image/webp:https://mowcommunitycenter.org/wp-content/uploads/2025/06/GroupDining_Menu_SweetSour.webp
END:VEVENT
BEGIN:VEVENT
DTSTART;TZID=America/Denver:20260514T110000
DTEND;TZID=America/Denver:20260514T123000
DTSTAMP:20260419T081410
CREATED:20251125T201305Z
LAST-MODIFIED:20251125T201306Z
UID:10012818-1778756400-1778761800@mowcommunitycenter.org
SUMMARY:Group Dining Luncheon
DESCRIPTION:Daily Lunch Service\nMonday through Friday | 11:00 AM – 1:00 PM \n\nSeating begins: 11:00 AM\nBeverage service: 11:30 AM\nTable service: 11:45 AM – 12:30 PM\nSuggested donation: $3.00 for seniors\, $7.50 for others\n\nEnjoy a delicious three-course luncheon that meets Federal nutrition standards in a warm\, welcoming atmosphere. Make new friends\, catch up with neighbors\, and savor chef-prepared meals featuring fresh\, local ingredients. \nWhy Join Us?\n✨ Nutritious & Delicious: Chef-prepared meals meeting Federal nutrition guidelines\n✨ Affordable: Voluntary donations help keep our doors open\n✨ Social Connection: End isolation and build lasting friendships\n✨ Entertainment: Live music and special events throughout the week\n✨ Welcoming: All enrolled seniors can enjoy meals regardless of ability to donate\n✨ Convenient: Reservations encouraged but walk-ins welcome \nReady to join our table family? Call us to make a reservation or simply come by – we’d love to meet you! Experience the joy of sharing good food and great company in the heart of our community.
URL:https://mowcommunitycenter.org/event/group-dining-luncheon-3/2026-05-14/
LOCATION:Dining Room @ Meals on Wheels Community Center\, 700 Jewell Avenue\, Pacific Grove\, CA\, 93950\, United States
CATEGORIES:Group Dining
ATTACH;FMTTYPE=image/webp:https://mowcommunitycenter.org/wp-content/uploads/2025/06/groupdining_setting.webp
END:VEVENT
BEGIN:VEVENT
DTSTART;TZID=America/Denver:20260515T110000
DTEND;TZID=America/Denver:20260515T123000
DTSTAMP:20260419T081410
CREATED:20251125T201305Z
LAST-MODIFIED:20251125T201306Z
UID:10012819-1778842800-1778848200@mowcommunitycenter.org
SUMMARY:Group Dining Luncheon
DESCRIPTION:Daily Lunch Service\nMonday through Friday | 11:00 AM – 1:00 PM \n\nSeating begins: 11:00 AM\nBeverage service: 11:30 AM\nTable service: 11:45 AM – 12:30 PM\nSuggested donation: $3.00 for seniors\, $7.50 for others\n\nEnjoy a delicious three-course luncheon that meets Federal nutrition standards in a warm\, welcoming atmosphere. Make new friends\, catch up with neighbors\, and savor chef-prepared meals featuring fresh\, local ingredients. \nWhy Join Us?\n✨ Nutritious & Delicious: Chef-prepared meals meeting Federal nutrition guidelines\n✨ Affordable: Voluntary donations help keep our doors open\n✨ Social Connection: End isolation and build lasting friendships\n✨ Entertainment: Live music and special events throughout the week\n✨ Welcoming: All enrolled seniors can enjoy meals regardless of ability to donate\n✨ Convenient: Reservations encouraged but walk-ins welcome \nReady to join our table family? Call us to make a reservation or simply come by – we’d love to meet you! Experience the joy of sharing good food and great company in the heart of our community.
URL:https://mowcommunitycenter.org/event/group-dining-luncheon-3/2026-05-15/
LOCATION:Dining Room @ Meals on Wheels Community Center\, 700 Jewell Avenue\, Pacific Grove\, CA\, 93950\, United States
CATEGORIES:Group Dining
ATTACH;FMTTYPE=image/webp:https://mowcommunitycenter.org/wp-content/uploads/2025/06/groupdining_setting.webp
END:VEVENT
BEGIN:VEVENT
DTSTART;TZID=America/Denver:20260515T110000
DTEND;TZID=America/Denver:20260515T123000
DTSTAMP:20260419T081410
CREATED:20260323T214029Z
LAST-MODIFIED:20260417T180546Z
UID:10026694-1778842800-1778848200@mowcommunitycenter.org
SUMMARY:Group Dining - Chicken Fettuccine
DESCRIPTION:Today’s meal is a classic Italian favorite—Chicken Fettuccine! Tender\, juicy chicken nestled in silky fettuccine pasta\, bathed in a rich\, creamy sauce seasoned to perfection. This creamy pasta dish became famous for its rich\, velvety sauce made from butter\, cream\, and Parmesan cheese. \n🕚 Time:\n• Seating begins at 11:00 AM\n• Beverages served at 11:30 AM\n• Table service: 11:45 AM – 12:30 PM \n💵 Suggested Donation:\n• $3.00 for seniors\n• $7.50 for others\n(Voluntary – all enrolled seniors are welcome\, regardless of ability to donate) \n✨ Come hungry\, leave happy!\nEnjoy not only a delicious lunch but also the joy of connection\, laughter\, and good company in our vibrant community dining room. \n👉 Reserve your seat and be part of something wonderful!
URL:https://mowcommunitycenter.org/event/group-dining-chicken-fettuccine/
LOCATION:Dining Room @ Meals on Wheels Community Center\, 700 Jewell Avenue\, Pacific Grove\, CA\, 93950\, United States
CATEGORIES:Center Events,Group Dining
ATTACH;FMTTYPE=image/jpeg:https://mowcommunitycenter.org/wp-content/uploads/2026/03/Website_Lunch-ChickenFettucini.jpg
END:VEVENT
END:VCALENDAR