BEGIN:VCALENDAR
VERSION:2.0
PRODID:-//Meals on Wheels Community Center - ECPv6.15.20//NONSGML v1.0//EN
CALSCALE:GREGORIAN
METHOD:PUBLISH
X-ORIGINAL-URL:https://mowcommunitycenter.org
X-WR-CALDESC:Events for Meals on Wheels Community Center
REFRESH-INTERVAL;VALUE=DURATION:PT1H
X-Robots-Tag:noindex
X-PUBLISHED-TTL:PT1H
BEGIN:VTIMEZONE
TZID:America/Denver
BEGIN:DAYLIGHT
TZOFFSETFROM:-0700
TZOFFSETTO:-0600
TZNAME:MDT
DTSTART:20240310T090000
END:DAYLIGHT
BEGIN:STANDARD
TZOFFSETFROM:-0600
TZOFFSETTO:-0700
TZNAME:MST
DTSTART:20241103T080000
END:STANDARD
BEGIN:DAYLIGHT
TZOFFSETFROM:-0700
TZOFFSETTO:-0600
TZNAME:MDT
DTSTART:20250309T090000
END:DAYLIGHT
BEGIN:STANDARD
TZOFFSETFROM:-0600
TZOFFSETTO:-0700
TZNAME:MST
DTSTART:20251102T080000
END:STANDARD
BEGIN:DAYLIGHT
TZOFFSETFROM:-0700
TZOFFSETTO:-0600
TZNAME:MDT
DTSTART:20260308T090000
END:DAYLIGHT
BEGIN:STANDARD
TZOFFSETFROM:-0600
TZOFFSETTO:-0700
TZNAME:MST
DTSTART:20261101T080000
END:STANDARD
BEGIN:DAYLIGHT
TZOFFSETFROM:-0700
TZOFFSETTO:-0600
TZNAME:MDT
DTSTART:20270314T090000
END:DAYLIGHT
BEGIN:STANDARD
TZOFFSETFROM:-0600
TZOFFSETTO:-0700
TZNAME:MST
DTSTART:20271107T080000
END:STANDARD
END:VTIMEZONE
BEGIN:VEVENT
DTSTART;TZID=America/Denver:20251203T130000
DTEND;TZID=America/Denver:20251217T150000
DTSTAMP:20260419T083556
CREATED:20251031T201254Z
LAST-MODIFIED:20251203T162305Z
UID:10009320-1764766800-1765983600@mowcommunitycenter.org
SUMMARY:MY Well-Being Series
DESCRIPTION:Join us for the MY Well-Being Series sponsored by Aspire Health. \nReserve your spot today at the Front Desk.
URL:https://mowcommunitycenter.org/event/my-well-being-series/
LOCATION:View Room @ Meals on Wheels Community Center\, 700 Jewell Avenue\, Pacific Grove\, CA\, 93950\, United States
CATEGORIES:Programs & Classes
ATTACH;FMTTYPE=image/jpeg:https://mowcommunitycenter.org/wp-content/uploads/2025/09/Website_Events-MyWellBeing-1080x.jpg
END:VEVENT
BEGIN:VEVENT
DTSTART;TZID=America/Denver:20251210T080000
DTEND;TZID=America/Denver:20251210T090000
DTSTAMP:20260419T083556
CREATED:20250611T154806Z
LAST-MODIFIED:20251103T220338Z
UID:10021372-1765353600-1765357200@mowcommunitycenter.org
SUMMARY:Walk for Health
DESCRIPTION:Start your morning with movement\, fresh air\, and friendly faces! Join fellow walkers for a fun and energizing way to boost your fitness\, improve your mood\, and connect with your community—one step at a time. \n📍 Meet at the Front DeskCenter membership required \nLet’s walk toward better health—together!
URL:https://mowcommunitycenter.org/event/walk-for-health-2/2025-12-10/
LOCATION:Meals on Wheels Community Center\, 700 Jewell Avenue\, Pacific Grove\, CA\, 93950\, United States
CATEGORIES:Programs & Classes
ATTACH;FMTTYPE=image/webp:https://mowcommunitycenter.org/wp-content/uploads/2025/06/communitycenter6.webp
END:VEVENT
BEGIN:VEVENT
DTSTART;TZID=America/Denver:20251210T100000
DTEND;TZID=America/Denver:20251210T110000
DTSTAMP:20260419T083556
CREATED:20250611T175402Z
LAST-MODIFIED:20251103T215422Z
UID:10017691-1765360800-1765364400@mowcommunitycenter.org
SUMMARY:Light Aerobics\, Strength & Balance
DESCRIPTION:Jumpstart your day with a full-spectrum fitness class designed to boost energy and mobility. This 55-minute session includes 40 minutes of low-impact cardio\, strength\, and stretching—followed by 15 minutes of seated conditioning using light weights. A perfect blend of movement and mindfulness for active aging. REGISTER HERE \n📍 In-person or hybrid at the Center
URL:https://mowcommunitycenter.org/event/light-aerobics-strength-balance-2/2025-12-10/
LOCATION:Health & Fitness Room @ Meals on Wheels Community Center\, 700 Jewell Avenue\, Pacific Grove\, CA\, 93950\, United States
CATEGORIES:Programs & Classes
ATTACH;FMTTYPE=image/webp:https://mowcommunitycenter.org/wp-content/uploads/2025/06/Light-Aerobics.webp
END:VEVENT
BEGIN:VEVENT
DTSTART;TZID=America/Denver:20251210T130000
DTEND;TZID=America/Denver:20260114T150000
DTSTAMP:20260419T083556
CREATED:20250903T171910Z
LAST-MODIFIED:20251203T163112Z
UID:10009278-1765371600-1768402800@mowcommunitycenter.org
SUMMARY:MY Well-Being Series
DESCRIPTION:Join us for the MY Well-Being Series sponsored by Aspire Health.\nClasses are free\, open to all fitness levels\, and led by an expert health coach.\nReserve your spot today at the Front Desk.
URL:https://mowcommunitycenter.org/event/my-well-being-food-logging/
LOCATION:View Room @ Meals on Wheels Community Center\, 700 Jewell Avenue\, Pacific Grove\, CA\, 93950\, United States
CATEGORIES:Programs & Classes
ATTACH;FMTTYPE=image/jpeg:https://mowcommunitycenter.org/wp-content/uploads/2025/09/Website_Events-MyWellBeing-1080x.jpg
END:VEVENT
END:VCALENDAR