BEGIN:VCALENDAR
VERSION:2.0
PRODID:-//Meals on Wheels Community Center - ECPv6.15.20//NONSGML v1.0//EN
CALSCALE:GREGORIAN
METHOD:PUBLISH
X-WR-CALNAME:Meals on Wheels Community Center
X-ORIGINAL-URL:https://mowcommunitycenter.org
X-WR-CALDESC:Events for Meals on Wheels Community Center
REFRESH-INTERVAL;VALUE=DURATION:PT1H
X-Robots-Tag:noindex
X-PUBLISHED-TTL:PT1H
BEGIN:VTIMEZONE
TZID:America/Denver
BEGIN:DAYLIGHT
TZOFFSETFROM:-0700
TZOFFSETTO:-0600
TZNAME:MDT
DTSTART:20250309T090000
END:DAYLIGHT
BEGIN:STANDARD
TZOFFSETFROM:-0600
TZOFFSETTO:-0700
TZNAME:MST
DTSTART:20251102T080000
END:STANDARD
BEGIN:DAYLIGHT
TZOFFSETFROM:-0700
TZOFFSETTO:-0600
TZNAME:MDT
DTSTART:20260308T090000
END:DAYLIGHT
BEGIN:STANDARD
TZOFFSETFROM:-0600
TZOFFSETTO:-0700
TZNAME:MST
DTSTART:20261101T080000
END:STANDARD
BEGIN:DAYLIGHT
TZOFFSETFROM:-0700
TZOFFSETTO:-0600
TZNAME:MDT
DTSTART:20270314T090000
END:DAYLIGHT
BEGIN:STANDARD
TZOFFSETFROM:-0600
TZOFFSETTO:-0700
TZNAME:MST
DTSTART:20271107T080000
END:STANDARD
END:VTIMEZONE
BEGIN:VEVENT
DTSTART;TZID=America/Denver:20260326T124500
DTEND;TZID=America/Denver:20260528T141500
DTSTAMP:20260419T100530
CREATED:20250930T211847Z
LAST-MODIFIED:20260223T220947Z
UID:10009308-1774529100-1779977700@mowcommunitycenter.org
SUMMARY:Friends of Meals on Wheels
DESCRIPTION:Join the Friends of Meals on Wheels!\nAre you seeking a meaningful way to give back to your community and connect with like-minded individuals?\nWe invite you to become a vital part of the Friends of Meals on Wheels.\n\nWhat do we do? • Fundraising • Advocacy • Community Outreach • Special Projects\n \nYou’ll make a real impact\, enjoy camaraderie\, and stay engaged. Your experience is invaluable! \nInterested? Contact Nikki to learn more. Center Membership is required. \n 
URL:https://mowcommunitycenter.org/event/friends-of-meals-on-wheels/
LOCATION:View Room @ Meals on Wheels Community Center\, 700 Jewell Avenue\, Pacific Grove\, CA\, 93950\, United States
CATEGORIES:Center Events,Programs & Classes
ATTACH;FMTTYPE=image/jpeg:https://mowcommunitycenter.org/wp-content/uploads/2025/09/GroupEvents_WEB-FriendsofMOWMP.jpg
END:VEVENT
BEGIN:VEVENT
DTSTART;TZID=America/Denver:20260421T130000
DTEND;TZID=America/Denver:20260519T150000
DTSTAMP:20260419T100530
CREATED:20250903T173144Z
LAST-MODIFIED:20260319T183850Z
UID:10009279-1776776400-1779202800@mowcommunitycenter.org
SUMMARY:Golden Connections
DESCRIPTION:Through engaging discussions\, inspiring stories\, & interactive activities\, we aim to highlight the significance of building & maintaining meaningful relationships. Our meetings feature valuable resources\, and networking opportunities with like-minded individuals committed to creating affordable housing through sharing. This is your chance to ask questions & gain practical tips!
URL:https://mowcommunitycenter.org/event/golden-connections/
LOCATION:View Room @ Meals on Wheels Community Center\, 700 Jewell Avenue\, Pacific Grove\, CA\, 93950\, United States
CATEGORIES:Programs & Classes
ATTACH;FMTTYPE=image/jpeg:https://mowcommunitycenter.org/wp-content/uploads/2025/09/Website_Events-GoldenConnections-SEP-e1756921874926.jpg
END:VEVENT
BEGIN:VEVENT
DTSTART;TZID=America/Denver:20260513T080000
DTEND;TZID=America/Denver:20260513T090000
DTSTAMP:20260419T100530
CREATED:20250611T154806Z
LAST-MODIFIED:20251103T220338Z
UID:10021438-1778659200-1778662800@mowcommunitycenter.org
SUMMARY:Walk for Health
DESCRIPTION:Start your morning with movement\, fresh air\, and friendly faces! Join fellow walkers for a fun and energizing way to boost your fitness\, improve your mood\, and connect with your community—one step at a time. \n📍 Meet at the Front DeskCenter membership required \nLet’s walk toward better health—together!
URL:https://mowcommunitycenter.org/event/walk-for-health-2/2026-05-13/
LOCATION:Meals on Wheels Community Center\, 700 Jewell Avenue\, Pacific Grove\, CA\, 93950\, United States
CATEGORIES:Programs & Classes
ATTACH;FMTTYPE=image/webp:https://mowcommunitycenter.org/wp-content/uploads/2025/06/communitycenter6.webp
END:VEVENT
BEGIN:VEVENT
DTSTART;TZID=America/Denver:20260513T100000
DTEND;TZID=America/Denver:20260513T110000
DTSTAMP:20260419T100530
CREATED:20250611T175402Z
LAST-MODIFIED:20251103T215422Z
UID:10017735-1778666400-1778670000@mowcommunitycenter.org
SUMMARY:Light Aerobics\, Strength & Balance
DESCRIPTION:Jumpstart your day with a full-spectrum fitness class designed to boost energy and mobility. This 55-minute session includes 40 minutes of low-impact cardio\, strength\, and stretching—followed by 15 minutes of seated conditioning using light weights. A perfect blend of movement and mindfulness for active aging. REGISTER HERE \n📍 In-person or hybrid at the Center
URL:https://mowcommunitycenter.org/event/light-aerobics-strength-balance-2/2026-05-13/
LOCATION:Health & Fitness Room @ Meals on Wheels Community Center\, 700 Jewell Avenue\, Pacific Grove\, CA\, 93950\, United States
CATEGORIES:Programs & Classes
ATTACH;FMTTYPE=image/webp:https://mowcommunitycenter.org/wp-content/uploads/2025/06/Light-Aerobics.webp
END:VEVENT
END:VCALENDAR