BEGIN:VCALENDAR
VERSION:2.0
PRODID:-//Meals on Wheels Community Center - ECPv6.15.20//NONSGML v1.0//EN
CALSCALE:GREGORIAN
METHOD:PUBLISH
X-ORIGINAL-URL:https://mowcommunitycenter.org
X-WR-CALDESC:Events for Meals on Wheels Community Center
REFRESH-INTERVAL;VALUE=DURATION:PT1H
X-Robots-Tag:noindex
X-PUBLISHED-TTL:PT1H
BEGIN:VTIMEZONE
TZID:America/Denver
BEGIN:DAYLIGHT
TZOFFSETFROM:-0700
TZOFFSETTO:-0600
TZNAME:MDT
DTSTART:20260308T090000
END:DAYLIGHT
BEGIN:STANDARD
TZOFFSETFROM:-0600
TZOFFSETTO:-0700
TZNAME:MST
DTSTART:20261101T080000
END:STANDARD
BEGIN:DAYLIGHT
TZOFFSETFROM:-0700
TZOFFSETTO:-0600
TZNAME:MDT
DTSTART:20270314T090000
END:DAYLIGHT
BEGIN:STANDARD
TZOFFSETFROM:-0600
TZOFFSETTO:-0700
TZNAME:MST
DTSTART:20271107T080000
END:STANDARD
BEGIN:DAYLIGHT
TZOFFSETFROM:-0700
TZOFFSETTO:-0600
TZNAME:MDT
DTSTART:20280312T090000
END:DAYLIGHT
BEGIN:STANDARD
TZOFFSETFROM:-0600
TZOFFSETTO:-0700
TZNAME:MST
DTSTART:20281105T080000
END:STANDARD
END:VTIMEZONE
BEGIN:VEVENT
DTSTART;TZID=America/Denver:20270302T120000
DTEND;TZID=America/Denver:20270302T130000
DTSTAMP:20260423T033533
CREATED:20251216T225730Z
LAST-MODIFIED:20251216T225730Z
UID:10025859-1803988800-1803992400@mowcommunitycenter.org
SUMMARY:Yoga & Fitness Training with Gina
DESCRIPTION:Breathe\, stretch\, and restore with this gentle\, low-impact yoga class designed for all bodies and abilities. Whether you’re new to yoga or looking for a relaxing midday reset\, Chair Yoga with Gina offers a welcoming space to improve flexibility\, balance\, and mindfulness — all from the comfort of a chair. \nNo experience necessary. Just bring yourself and a willingness to feel good!
URL:https://mowcommunitycenter.org/event/chair-yoga-with-gina-2/2027-03-02/
LOCATION:Meals on Wheels Community Center\, 700 Jewell Avenue\, Pacific Grove\, CA\, 93950\, United States
CATEGORIES:Programs & Classes
ATTACH;FMTTYPE=image/jpeg:https://mowcommunitycenter.org/wp-content/uploads/2025/12/Website_Events-YogaFitnessTrainingwGina-JAN2026.jpg
END:VEVENT
BEGIN:VEVENT
DTSTART;TZID=America/Denver:20270303T080000
DTEND;TZID=America/Denver:20270303T090000
DTSTAMP:20260423T033533
CREATED:20250611T154806Z
LAST-MODIFIED:20251103T220338Z
UID:10021564-1804060800-1804064400@mowcommunitycenter.org
SUMMARY:Walk for Health
DESCRIPTION:Start your morning with movement\, fresh air\, and friendly faces! Join fellow walkers for a fun and energizing way to boost your fitness\, improve your mood\, and connect with your community—one step at a time. \n📍 Meet at the Front DeskCenter membership required \nLet’s walk toward better health—together!
URL:https://mowcommunitycenter.org/event/walk-for-health-2/2027-03-03/
LOCATION:Meals on Wheels Community Center\, 700 Jewell Avenue\, Pacific Grove\, CA\, 93950\, United States
CATEGORIES:Programs & Classes
ATTACH;FMTTYPE=image/webp:https://mowcommunitycenter.org/wp-content/uploads/2025/06/communitycenter6.webp
END:VEVENT
BEGIN:VEVENT
DTSTART;TZID=America/Denver:20270305T080000
DTEND;TZID=America/Denver:20270305T090000
DTSTAMP:20260423T033533
CREATED:20250611T154806Z
LAST-MODIFIED:20251103T220338Z
UID:10021565-1804233600-1804237200@mowcommunitycenter.org
SUMMARY:Walk for Health
DESCRIPTION:Start your morning with movement\, fresh air\, and friendly faces! Join fellow walkers for a fun and energizing way to boost your fitness\, improve your mood\, and connect with your community—one step at a time. \n📍 Meet at the Front DeskCenter membership required \nLet’s walk toward better health—together!
URL:https://mowcommunitycenter.org/event/walk-for-health-2/2027-03-05/
LOCATION:Meals on Wheels Community Center\, 700 Jewell Avenue\, Pacific Grove\, CA\, 93950\, United States
CATEGORIES:Programs & Classes
ATTACH;FMTTYPE=image/webp:https://mowcommunitycenter.org/wp-content/uploads/2025/06/communitycenter6.webp
END:VEVENT
BEGIN:VEVENT
DTSTART;TZID=America/Denver:20270308T080000
DTEND;TZID=America/Denver:20270308T090000
DTSTAMP:20260423T033533
CREATED:20250611T154806Z
LAST-MODIFIED:20251103T220338Z
UID:10021566-1804492800-1804496400@mowcommunitycenter.org
SUMMARY:Walk for Health
DESCRIPTION:Start your morning with movement\, fresh air\, and friendly faces! Join fellow walkers for a fun and energizing way to boost your fitness\, improve your mood\, and connect with your community—one step at a time. \n📍 Meet at the Front DeskCenter membership required \nLet’s walk toward better health—together!
URL:https://mowcommunitycenter.org/event/walk-for-health-2/2027-03-08/
LOCATION:Meals on Wheels Community Center\, 700 Jewell Avenue\, Pacific Grove\, CA\, 93950\, United States
CATEGORIES:Programs & Classes
ATTACH;FMTTYPE=image/webp:https://mowcommunitycenter.org/wp-content/uploads/2025/06/communitycenter6.webp
END:VEVENT
BEGIN:VEVENT
DTSTART;TZID=America/Denver:20270309T120000
DTEND;TZID=America/Denver:20270309T130000
DTSTAMP:20260423T033533
CREATED:20251216T225730Z
LAST-MODIFIED:20251216T225730Z
UID:10025860-1804593600-1804597200@mowcommunitycenter.org
SUMMARY:Yoga & Fitness Training with Gina
DESCRIPTION:Breathe\, stretch\, and restore with this gentle\, low-impact yoga class designed for all bodies and abilities. Whether you’re new to yoga or looking for a relaxing midday reset\, Chair Yoga with Gina offers a welcoming space to improve flexibility\, balance\, and mindfulness — all from the comfort of a chair. \nNo experience necessary. Just bring yourself and a willingness to feel good!
URL:https://mowcommunitycenter.org/event/chair-yoga-with-gina-2/2027-03-09/
LOCATION:Meals on Wheels Community Center\, 700 Jewell Avenue\, Pacific Grove\, CA\, 93950\, United States
CATEGORIES:Programs & Classes
ATTACH;FMTTYPE=image/jpeg:https://mowcommunitycenter.org/wp-content/uploads/2025/12/Website_Events-YogaFitnessTrainingwGina-JAN2026.jpg
END:VEVENT
BEGIN:VEVENT
DTSTART;TZID=America/Denver:20270310T080000
DTEND;TZID=America/Denver:20270310T090000
DTSTAMP:20260423T033533
CREATED:20250611T154806Z
LAST-MODIFIED:20251103T220338Z
UID:10021567-1804665600-1804669200@mowcommunitycenter.org
SUMMARY:Walk for Health
DESCRIPTION:Start your morning with movement\, fresh air\, and friendly faces! Join fellow walkers for a fun and energizing way to boost your fitness\, improve your mood\, and connect with your community—one step at a time. \n📍 Meet at the Front DeskCenter membership required \nLet’s walk toward better health—together!
URL:https://mowcommunitycenter.org/event/walk-for-health-2/2027-03-10/
LOCATION:Meals on Wheels Community Center\, 700 Jewell Avenue\, Pacific Grove\, CA\, 93950\, United States
CATEGORIES:Programs & Classes
ATTACH;FMTTYPE=image/webp:https://mowcommunitycenter.org/wp-content/uploads/2025/06/communitycenter6.webp
END:VEVENT
BEGIN:VEVENT
DTSTART;TZID=America/Denver:20270312T080000
DTEND;TZID=America/Denver:20270312T090000
DTSTAMP:20260423T033533
CREATED:20250611T154806Z
LAST-MODIFIED:20251103T220338Z
UID:10021568-1804838400-1804842000@mowcommunitycenter.org
SUMMARY:Walk for Health
DESCRIPTION:Start your morning with movement\, fresh air\, and friendly faces! Join fellow walkers for a fun and energizing way to boost your fitness\, improve your mood\, and connect with your community—one step at a time. \n📍 Meet at the Front DeskCenter membership required \nLet’s walk toward better health—together!
URL:https://mowcommunitycenter.org/event/walk-for-health-2/2027-03-12/
LOCATION:Meals on Wheels Community Center\, 700 Jewell Avenue\, Pacific Grove\, CA\, 93950\, United States
CATEGORIES:Programs & Classes
ATTACH;FMTTYPE=image/webp:https://mowcommunitycenter.org/wp-content/uploads/2025/06/communitycenter6.webp
END:VEVENT
BEGIN:VEVENT
DTSTART;TZID=America/Denver:20270315T080000
DTEND;TZID=America/Denver:20270315T090000
DTSTAMP:20260423T033533
CREATED:20250611T154806Z
LAST-MODIFIED:20251103T220338Z
UID:10021569-1805097600-1805101200@mowcommunitycenter.org
SUMMARY:Walk for Health
DESCRIPTION:Start your morning with movement\, fresh air\, and friendly faces! Join fellow walkers for a fun and energizing way to boost your fitness\, improve your mood\, and connect with your community—one step at a time. \n📍 Meet at the Front DeskCenter membership required \nLet’s walk toward better health—together!
URL:https://mowcommunitycenter.org/event/walk-for-health-2/2027-03-15/
LOCATION:Meals on Wheels Community Center\, 700 Jewell Avenue\, Pacific Grove\, CA\, 93950\, United States
CATEGORIES:Programs & Classes
ATTACH;FMTTYPE=image/webp:https://mowcommunitycenter.org/wp-content/uploads/2025/06/communitycenter6.webp
END:VEVENT
BEGIN:VEVENT
DTSTART;TZID=America/Denver:20270316T120000
DTEND;TZID=America/Denver:20270316T130000
DTSTAMP:20260423T033533
CREATED:20251216T225730Z
LAST-MODIFIED:20251216T225730Z
UID:10025861-1805198400-1805202000@mowcommunitycenter.org
SUMMARY:Yoga & Fitness Training with Gina
DESCRIPTION:Breathe\, stretch\, and restore with this gentle\, low-impact yoga class designed for all bodies and abilities. Whether you’re new to yoga or looking for a relaxing midday reset\, Chair Yoga with Gina offers a welcoming space to improve flexibility\, balance\, and mindfulness — all from the comfort of a chair. \nNo experience necessary. Just bring yourself and a willingness to feel good!
URL:https://mowcommunitycenter.org/event/chair-yoga-with-gina-2/2027-03-16/
LOCATION:Meals on Wheels Community Center\, 700 Jewell Avenue\, Pacific Grove\, CA\, 93950\, United States
CATEGORIES:Programs & Classes
ATTACH;FMTTYPE=image/jpeg:https://mowcommunitycenter.org/wp-content/uploads/2025/12/Website_Events-YogaFitnessTrainingwGina-JAN2026.jpg
END:VEVENT
BEGIN:VEVENT
DTSTART;TZID=America/Denver:20270317T080000
DTEND;TZID=America/Denver:20270317T090000
DTSTAMP:20260423T033533
CREATED:20250611T154806Z
LAST-MODIFIED:20251103T220338Z
UID:10021570-1805270400-1805274000@mowcommunitycenter.org
SUMMARY:Walk for Health
DESCRIPTION:Start your morning with movement\, fresh air\, and friendly faces! Join fellow walkers for a fun and energizing way to boost your fitness\, improve your mood\, and connect with your community—one step at a time. \n📍 Meet at the Front DeskCenter membership required \nLet’s walk toward better health—together!
URL:https://mowcommunitycenter.org/event/walk-for-health-2/2027-03-17/
LOCATION:Meals on Wheels Community Center\, 700 Jewell Avenue\, Pacific Grove\, CA\, 93950\, United States
CATEGORIES:Programs & Classes
ATTACH;FMTTYPE=image/webp:https://mowcommunitycenter.org/wp-content/uploads/2025/06/communitycenter6.webp
END:VEVENT
BEGIN:VEVENT
DTSTART;TZID=America/Denver:20270319T080000
DTEND;TZID=America/Denver:20270319T090000
DTSTAMP:20260423T033533
CREATED:20250611T154806Z
LAST-MODIFIED:20251103T220338Z
UID:10021571-1805443200-1805446800@mowcommunitycenter.org
SUMMARY:Walk for Health
DESCRIPTION:Start your morning with movement\, fresh air\, and friendly faces! Join fellow walkers for a fun and energizing way to boost your fitness\, improve your mood\, and connect with your community—one step at a time. \n📍 Meet at the Front DeskCenter membership required \nLet’s walk toward better health—together!
URL:https://mowcommunitycenter.org/event/walk-for-health-2/2027-03-19/
LOCATION:Meals on Wheels Community Center\, 700 Jewell Avenue\, Pacific Grove\, CA\, 93950\, United States
CATEGORIES:Programs & Classes
ATTACH;FMTTYPE=image/webp:https://mowcommunitycenter.org/wp-content/uploads/2025/06/communitycenter6.webp
END:VEVENT
BEGIN:VEVENT
DTSTART;TZID=America/Denver:20270322T080000
DTEND;TZID=America/Denver:20270322T090000
DTSTAMP:20260423T033533
CREATED:20250611T154806Z
LAST-MODIFIED:20251103T220338Z
UID:10021572-1805702400-1805706000@mowcommunitycenter.org
SUMMARY:Walk for Health
DESCRIPTION:Start your morning with movement\, fresh air\, and friendly faces! Join fellow walkers for a fun and energizing way to boost your fitness\, improve your mood\, and connect with your community—one step at a time. \n📍 Meet at the Front DeskCenter membership required \nLet’s walk toward better health—together!
URL:https://mowcommunitycenter.org/event/walk-for-health-2/2027-03-22/
LOCATION:Meals on Wheels Community Center\, 700 Jewell Avenue\, Pacific Grove\, CA\, 93950\, United States
CATEGORIES:Programs & Classes
ATTACH;FMTTYPE=image/webp:https://mowcommunitycenter.org/wp-content/uploads/2025/06/communitycenter6.webp
END:VEVENT
BEGIN:VEVENT
DTSTART;TZID=America/Denver:20270323T120000
DTEND;TZID=America/Denver:20270323T130000
DTSTAMP:20260423T033533
CREATED:20251216T225730Z
LAST-MODIFIED:20251216T225730Z
UID:10025862-1805803200-1805806800@mowcommunitycenter.org
SUMMARY:Yoga & Fitness Training with Gina
DESCRIPTION:Breathe\, stretch\, and restore with this gentle\, low-impact yoga class designed for all bodies and abilities. Whether you’re new to yoga or looking for a relaxing midday reset\, Chair Yoga with Gina offers a welcoming space to improve flexibility\, balance\, and mindfulness — all from the comfort of a chair. \nNo experience necessary. Just bring yourself and a willingness to feel good!
URL:https://mowcommunitycenter.org/event/chair-yoga-with-gina-2/2027-03-23/
LOCATION:Meals on Wheels Community Center\, 700 Jewell Avenue\, Pacific Grove\, CA\, 93950\, United States
CATEGORIES:Programs & Classes
ATTACH;FMTTYPE=image/jpeg:https://mowcommunitycenter.org/wp-content/uploads/2025/12/Website_Events-YogaFitnessTrainingwGina-JAN2026.jpg
END:VEVENT
BEGIN:VEVENT
DTSTART;TZID=America/Denver:20270324T080000
DTEND;TZID=America/Denver:20270324T090000
DTSTAMP:20260423T033533
CREATED:20250611T154806Z
LAST-MODIFIED:20251103T220338Z
UID:10021573-1805875200-1805878800@mowcommunitycenter.org
SUMMARY:Walk for Health
DESCRIPTION:Start your morning with movement\, fresh air\, and friendly faces! Join fellow walkers for a fun and energizing way to boost your fitness\, improve your mood\, and connect with your community—one step at a time. \n📍 Meet at the Front DeskCenter membership required \nLet’s walk toward better health—together!
URL:https://mowcommunitycenter.org/event/walk-for-health-2/2027-03-24/
LOCATION:Meals on Wheels Community Center\, 700 Jewell Avenue\, Pacific Grove\, CA\, 93950\, United States
CATEGORIES:Programs & Classes
ATTACH;FMTTYPE=image/webp:https://mowcommunitycenter.org/wp-content/uploads/2025/06/communitycenter6.webp
END:VEVENT
BEGIN:VEVENT
DTSTART;TZID=America/Denver:20270326T080000
DTEND;TZID=America/Denver:20270326T090000
DTSTAMP:20260423T033533
CREATED:20250611T154806Z
LAST-MODIFIED:20251103T220338Z
UID:10021574-1806048000-1806051600@mowcommunitycenter.org
SUMMARY:Walk for Health
DESCRIPTION:Start your morning with movement\, fresh air\, and friendly faces! Join fellow walkers for a fun and energizing way to boost your fitness\, improve your mood\, and connect with your community—one step at a time. \n📍 Meet at the Front DeskCenter membership required \nLet’s walk toward better health—together!
URL:https://mowcommunitycenter.org/event/walk-for-health-2/2027-03-26/
LOCATION:Meals on Wheels Community Center\, 700 Jewell Avenue\, Pacific Grove\, CA\, 93950\, United States
CATEGORIES:Programs & Classes
ATTACH;FMTTYPE=image/webp:https://mowcommunitycenter.org/wp-content/uploads/2025/06/communitycenter6.webp
END:VEVENT
BEGIN:VEVENT
DTSTART;TZID=America/Denver:20270329T080000
DTEND;TZID=America/Denver:20270329T090000
DTSTAMP:20260423T033533
CREATED:20250611T154806Z
LAST-MODIFIED:20251103T220338Z
UID:10021575-1806307200-1806310800@mowcommunitycenter.org
SUMMARY:Walk for Health
DESCRIPTION:Start your morning with movement\, fresh air\, and friendly faces! Join fellow walkers for a fun and energizing way to boost your fitness\, improve your mood\, and connect with your community—one step at a time. \n📍 Meet at the Front DeskCenter membership required \nLet’s walk toward better health—together!
URL:https://mowcommunitycenter.org/event/walk-for-health-2/2027-03-29/
LOCATION:Meals on Wheels Community Center\, 700 Jewell Avenue\, Pacific Grove\, CA\, 93950\, United States
CATEGORIES:Programs & Classes
ATTACH;FMTTYPE=image/webp:https://mowcommunitycenter.org/wp-content/uploads/2025/06/communitycenter6.webp
END:VEVENT
BEGIN:VEVENT
DTSTART;TZID=America/Denver:20270330T120000
DTEND;TZID=America/Denver:20270330T130000
DTSTAMP:20260423T033533
CREATED:20251216T225730Z
LAST-MODIFIED:20251216T225730Z
UID:10025863-1806408000-1806411600@mowcommunitycenter.org
SUMMARY:Yoga & Fitness Training with Gina
DESCRIPTION:Breathe\, stretch\, and restore with this gentle\, low-impact yoga class designed for all bodies and abilities. Whether you’re new to yoga or looking for a relaxing midday reset\, Chair Yoga with Gina offers a welcoming space to improve flexibility\, balance\, and mindfulness — all from the comfort of a chair. \nNo experience necessary. Just bring yourself and a willingness to feel good!
URL:https://mowcommunitycenter.org/event/chair-yoga-with-gina-2/2027-03-30/
LOCATION:Meals on Wheels Community Center\, 700 Jewell Avenue\, Pacific Grove\, CA\, 93950\, United States
CATEGORIES:Programs & Classes
ATTACH;FMTTYPE=image/jpeg:https://mowcommunitycenter.org/wp-content/uploads/2025/12/Website_Events-YogaFitnessTrainingwGina-JAN2026.jpg
END:VEVENT
BEGIN:VEVENT
DTSTART;TZID=America/Denver:20270331T080000
DTEND;TZID=America/Denver:20270331T090000
DTSTAMP:20260423T033533
CREATED:20250611T154806Z
LAST-MODIFIED:20251103T220338Z
UID:10021576-1806480000-1806483600@mowcommunitycenter.org
SUMMARY:Walk for Health
DESCRIPTION:Start your morning with movement\, fresh air\, and friendly faces! Join fellow walkers for a fun and energizing way to boost your fitness\, improve your mood\, and connect with your community—one step at a time. \n📍 Meet at the Front DeskCenter membership required \nLet’s walk toward better health—together!
URL:https://mowcommunitycenter.org/event/walk-for-health-2/2027-03-31/
LOCATION:Meals on Wheels Community Center\, 700 Jewell Avenue\, Pacific Grove\, CA\, 93950\, United States
CATEGORIES:Programs & Classes
ATTACH;FMTTYPE=image/webp:https://mowcommunitycenter.org/wp-content/uploads/2025/06/communitycenter6.webp
END:VEVENT
BEGIN:VEVENT
DTSTART;TZID=America/Denver:20270402T080000
DTEND;TZID=America/Denver:20270402T090000
DTSTAMP:20260423T033533
CREATED:20250611T154806Z
LAST-MODIFIED:20251103T220338Z
UID:10021577-1806652800-1806656400@mowcommunitycenter.org
SUMMARY:Walk for Health
DESCRIPTION:Start your morning with movement\, fresh air\, and friendly faces! Join fellow walkers for a fun and energizing way to boost your fitness\, improve your mood\, and connect with your community—one step at a time. \n📍 Meet at the Front DeskCenter membership required \nLet’s walk toward better health—together!
URL:https://mowcommunitycenter.org/event/walk-for-health-2/2027-04-02/
LOCATION:Meals on Wheels Community Center\, 700 Jewell Avenue\, Pacific Grove\, CA\, 93950\, United States
CATEGORIES:Programs & Classes
ATTACH;FMTTYPE=image/webp:https://mowcommunitycenter.org/wp-content/uploads/2025/06/communitycenter6.webp
END:VEVENT
BEGIN:VEVENT
DTSTART;TZID=America/Denver:20270405T080000
DTEND;TZID=America/Denver:20270405T090000
DTSTAMP:20260423T033533
CREATED:20250611T154806Z
LAST-MODIFIED:20251103T220338Z
UID:10021578-1806912000-1806915600@mowcommunitycenter.org
SUMMARY:Walk for Health
DESCRIPTION:Start your morning with movement\, fresh air\, and friendly faces! Join fellow walkers for a fun and energizing way to boost your fitness\, improve your mood\, and connect with your community—one step at a time. \n📍 Meet at the Front DeskCenter membership required \nLet’s walk toward better health—together!
URL:https://mowcommunitycenter.org/event/walk-for-health-2/2027-04-05/
LOCATION:Meals on Wheels Community Center\, 700 Jewell Avenue\, Pacific Grove\, CA\, 93950\, United States
CATEGORIES:Programs & Classes
ATTACH;FMTTYPE=image/webp:https://mowcommunitycenter.org/wp-content/uploads/2025/06/communitycenter6.webp
END:VEVENT
BEGIN:VEVENT
DTSTART;TZID=America/Denver:20270406T120000
DTEND;TZID=America/Denver:20270406T130000
DTSTAMP:20260423T033533
CREATED:20251216T225730Z
LAST-MODIFIED:20251216T225730Z
UID:10025864-1807012800-1807016400@mowcommunitycenter.org
SUMMARY:Yoga & Fitness Training with Gina
DESCRIPTION:Breathe\, stretch\, and restore with this gentle\, low-impact yoga class designed for all bodies and abilities. Whether you’re new to yoga or looking for a relaxing midday reset\, Chair Yoga with Gina offers a welcoming space to improve flexibility\, balance\, and mindfulness — all from the comfort of a chair. \nNo experience necessary. Just bring yourself and a willingness to feel good!
URL:https://mowcommunitycenter.org/event/chair-yoga-with-gina-2/2027-04-06/
LOCATION:Meals on Wheels Community Center\, 700 Jewell Avenue\, Pacific Grove\, CA\, 93950\, United States
CATEGORIES:Programs & Classes
ATTACH;FMTTYPE=image/jpeg:https://mowcommunitycenter.org/wp-content/uploads/2025/12/Website_Events-YogaFitnessTrainingwGina-JAN2026.jpg
END:VEVENT
BEGIN:VEVENT
DTSTART;TZID=America/Denver:20270407T080000
DTEND;TZID=America/Denver:20270407T090000
DTSTAMP:20260423T033533
CREATED:20250611T154806Z
LAST-MODIFIED:20251103T220338Z
UID:10021579-1807084800-1807088400@mowcommunitycenter.org
SUMMARY:Walk for Health
DESCRIPTION:Start your morning with movement\, fresh air\, and friendly faces! Join fellow walkers for a fun and energizing way to boost your fitness\, improve your mood\, and connect with your community—one step at a time. \n📍 Meet at the Front DeskCenter membership required \nLet’s walk toward better health—together!
URL:https://mowcommunitycenter.org/event/walk-for-health-2/2027-04-07/
LOCATION:Meals on Wheels Community Center\, 700 Jewell Avenue\, Pacific Grove\, CA\, 93950\, United States
CATEGORIES:Programs & Classes
ATTACH;FMTTYPE=image/webp:https://mowcommunitycenter.org/wp-content/uploads/2025/06/communitycenter6.webp
END:VEVENT
BEGIN:VEVENT
DTSTART;TZID=America/Denver:20270409T080000
DTEND;TZID=America/Denver:20270409T090000
DTSTAMP:20260423T033533
CREATED:20250611T154806Z
LAST-MODIFIED:20251103T220338Z
UID:10021580-1807257600-1807261200@mowcommunitycenter.org
SUMMARY:Walk for Health
DESCRIPTION:Start your morning with movement\, fresh air\, and friendly faces! Join fellow walkers for a fun and energizing way to boost your fitness\, improve your mood\, and connect with your community—one step at a time. \n📍 Meet at the Front DeskCenter membership required \nLet’s walk toward better health—together!
URL:https://mowcommunitycenter.org/event/walk-for-health-2/2027-04-09/
LOCATION:Meals on Wheels Community Center\, 700 Jewell Avenue\, Pacific Grove\, CA\, 93950\, United States
CATEGORIES:Programs & Classes
ATTACH;FMTTYPE=image/webp:https://mowcommunitycenter.org/wp-content/uploads/2025/06/communitycenter6.webp
END:VEVENT
BEGIN:VEVENT
DTSTART;TZID=America/Denver:20270412T080000
DTEND;TZID=America/Denver:20270412T090000
DTSTAMP:20260423T033533
CREATED:20250611T154806Z
LAST-MODIFIED:20251103T220338Z
UID:10021581-1807516800-1807520400@mowcommunitycenter.org
SUMMARY:Walk for Health
DESCRIPTION:Start your morning with movement\, fresh air\, and friendly faces! Join fellow walkers for a fun and energizing way to boost your fitness\, improve your mood\, and connect with your community—one step at a time. \n📍 Meet at the Front DeskCenter membership required \nLet’s walk toward better health—together!
URL:https://mowcommunitycenter.org/event/walk-for-health-2/2027-04-12/
LOCATION:Meals on Wheels Community Center\, 700 Jewell Avenue\, Pacific Grove\, CA\, 93950\, United States
CATEGORIES:Programs & Classes
ATTACH;FMTTYPE=image/webp:https://mowcommunitycenter.org/wp-content/uploads/2025/06/communitycenter6.webp
END:VEVENT
BEGIN:VEVENT
DTSTART;TZID=America/Denver:20270413T120000
DTEND;TZID=America/Denver:20270413T130000
DTSTAMP:20260423T033533
CREATED:20251216T225730Z
LAST-MODIFIED:20251216T225730Z
UID:10025865-1807617600-1807621200@mowcommunitycenter.org
SUMMARY:Yoga & Fitness Training with Gina
DESCRIPTION:Breathe\, stretch\, and restore with this gentle\, low-impact yoga class designed for all bodies and abilities. Whether you’re new to yoga or looking for a relaxing midday reset\, Chair Yoga with Gina offers a welcoming space to improve flexibility\, balance\, and mindfulness — all from the comfort of a chair. \nNo experience necessary. Just bring yourself and a willingness to feel good!
URL:https://mowcommunitycenter.org/event/chair-yoga-with-gina-2/2027-04-13/
LOCATION:Meals on Wheels Community Center\, 700 Jewell Avenue\, Pacific Grove\, CA\, 93950\, United States
CATEGORIES:Programs & Classes
ATTACH;FMTTYPE=image/jpeg:https://mowcommunitycenter.org/wp-content/uploads/2025/12/Website_Events-YogaFitnessTrainingwGina-JAN2026.jpg
END:VEVENT
BEGIN:VEVENT
DTSTART;TZID=America/Denver:20270414T080000
DTEND;TZID=America/Denver:20270414T090000
DTSTAMP:20260423T033533
CREATED:20250611T154806Z
LAST-MODIFIED:20251103T220338Z
UID:10021582-1807689600-1807693200@mowcommunitycenter.org
SUMMARY:Walk for Health
DESCRIPTION:Start your morning with movement\, fresh air\, and friendly faces! Join fellow walkers for a fun and energizing way to boost your fitness\, improve your mood\, and connect with your community—one step at a time. \n📍 Meet at the Front DeskCenter membership required \nLet’s walk toward better health—together!
URL:https://mowcommunitycenter.org/event/walk-for-health-2/2027-04-14/
LOCATION:Meals on Wheels Community Center\, 700 Jewell Avenue\, Pacific Grove\, CA\, 93950\, United States
CATEGORIES:Programs & Classes
ATTACH;FMTTYPE=image/webp:https://mowcommunitycenter.org/wp-content/uploads/2025/06/communitycenter6.webp
END:VEVENT
BEGIN:VEVENT
DTSTART;TZID=America/Denver:20270416T080000
DTEND;TZID=America/Denver:20270416T090000
DTSTAMP:20260423T033533
CREATED:20250611T154806Z
LAST-MODIFIED:20251103T220338Z
UID:10021583-1807862400-1807866000@mowcommunitycenter.org
SUMMARY:Walk for Health
DESCRIPTION:Start your morning with movement\, fresh air\, and friendly faces! Join fellow walkers for a fun and energizing way to boost your fitness\, improve your mood\, and connect with your community—one step at a time. \n📍 Meet at the Front DeskCenter membership required \nLet’s walk toward better health—together!
URL:https://mowcommunitycenter.org/event/walk-for-health-2/2027-04-16/
LOCATION:Meals on Wheels Community Center\, 700 Jewell Avenue\, Pacific Grove\, CA\, 93950\, United States
CATEGORIES:Programs & Classes
ATTACH;FMTTYPE=image/webp:https://mowcommunitycenter.org/wp-content/uploads/2025/06/communitycenter6.webp
END:VEVENT
BEGIN:VEVENT
DTSTART;TZID=America/Denver:20270419T080000
DTEND;TZID=America/Denver:20270419T090000
DTSTAMP:20260423T033533
CREATED:20250611T154806Z
LAST-MODIFIED:20251103T220338Z
UID:10021584-1808121600-1808125200@mowcommunitycenter.org
SUMMARY:Walk for Health
DESCRIPTION:Start your morning with movement\, fresh air\, and friendly faces! Join fellow walkers for a fun and energizing way to boost your fitness\, improve your mood\, and connect with your community—one step at a time. \n📍 Meet at the Front DeskCenter membership required \nLet’s walk toward better health—together!
URL:https://mowcommunitycenter.org/event/walk-for-health-2/2027-04-19/
LOCATION:Meals on Wheels Community Center\, 700 Jewell Avenue\, Pacific Grove\, CA\, 93950\, United States
CATEGORIES:Programs & Classes
ATTACH;FMTTYPE=image/webp:https://mowcommunitycenter.org/wp-content/uploads/2025/06/communitycenter6.webp
END:VEVENT
BEGIN:VEVENT
DTSTART;TZID=America/Denver:20270420T120000
DTEND;TZID=America/Denver:20270420T130000
DTSTAMP:20260423T033533
CREATED:20251216T225730Z
LAST-MODIFIED:20251216T225730Z
UID:10025866-1808222400-1808226000@mowcommunitycenter.org
SUMMARY:Yoga & Fitness Training with Gina
DESCRIPTION:Breathe\, stretch\, and restore with this gentle\, low-impact yoga class designed for all bodies and abilities. Whether you’re new to yoga or looking for a relaxing midday reset\, Chair Yoga with Gina offers a welcoming space to improve flexibility\, balance\, and mindfulness — all from the comfort of a chair. \nNo experience necessary. Just bring yourself and a willingness to feel good!
URL:https://mowcommunitycenter.org/event/chair-yoga-with-gina-2/2027-04-20/
LOCATION:Meals on Wheels Community Center\, 700 Jewell Avenue\, Pacific Grove\, CA\, 93950\, United States
CATEGORIES:Programs & Classes
ATTACH;FMTTYPE=image/jpeg:https://mowcommunitycenter.org/wp-content/uploads/2025/12/Website_Events-YogaFitnessTrainingwGina-JAN2026.jpg
END:VEVENT
BEGIN:VEVENT
DTSTART;TZID=America/Denver:20270421T080000
DTEND;TZID=America/Denver:20270421T090000
DTSTAMP:20260423T033533
CREATED:20250611T154806Z
LAST-MODIFIED:20251103T220338Z
UID:10021585-1808294400-1808298000@mowcommunitycenter.org
SUMMARY:Walk for Health
DESCRIPTION:Start your morning with movement\, fresh air\, and friendly faces! Join fellow walkers for a fun and energizing way to boost your fitness\, improve your mood\, and connect with your community—one step at a time. \n📍 Meet at the Front DeskCenter membership required \nLet’s walk toward better health—together!
URL:https://mowcommunitycenter.org/event/walk-for-health-2/2027-04-21/
LOCATION:Meals on Wheels Community Center\, 700 Jewell Avenue\, Pacific Grove\, CA\, 93950\, United States
CATEGORIES:Programs & Classes
ATTACH;FMTTYPE=image/webp:https://mowcommunitycenter.org/wp-content/uploads/2025/06/communitycenter6.webp
END:VEVENT
END:VCALENDAR