BEGIN:VCALENDAR
VERSION:2.0
PRODID:-//Meals on Wheels Community Center - ECPv6.15.20//NONSGML v1.0//EN
CALSCALE:GREGORIAN
METHOD:PUBLISH
X-WR-CALNAME:Meals on Wheels Community Center
X-ORIGINAL-URL:https://mowcommunitycenter.org
X-WR-CALDESC:Events for Meals on Wheels Community Center
REFRESH-INTERVAL;VALUE=DURATION:PT1H
X-Robots-Tag:noindex
X-PUBLISHED-TTL:PT1H
BEGIN:VTIMEZONE
TZID:America/Denver
BEGIN:DAYLIGHT
TZOFFSETFROM:-0700
TZOFFSETTO:-0600
TZNAME:MDT
DTSTART:20260308T090000
END:DAYLIGHT
BEGIN:STANDARD
TZOFFSETFROM:-0600
TZOFFSETTO:-0700
TZNAME:MST
DTSTART:20261101T080000
END:STANDARD
BEGIN:DAYLIGHT
TZOFFSETFROM:-0700
TZOFFSETTO:-0600
TZNAME:MDT
DTSTART:20270314T090000
END:DAYLIGHT
BEGIN:STANDARD
TZOFFSETFROM:-0600
TZOFFSETTO:-0700
TZNAME:MST
DTSTART:20271107T080000
END:STANDARD
BEGIN:DAYLIGHT
TZOFFSETFROM:-0700
TZOFFSETTO:-0600
TZNAME:MDT
DTSTART:20280312T090000
END:DAYLIGHT
BEGIN:STANDARD
TZOFFSETFROM:-0600
TZOFFSETTO:-0700
TZNAME:MST
DTSTART:20281105T080000
END:STANDARD
END:VTIMEZONE
BEGIN:VEVENT
DTSTART;TZID=America/Denver:20270413T120000
DTEND;TZID=America/Denver:20270413T130000
DTSTAMP:20260422T174159
CREATED:20251216T225730Z
LAST-MODIFIED:20251216T225730Z
UID:10025865-1807617600-1807621200@mowcommunitycenter.org
SUMMARY:Yoga & Fitness Training with Gina
DESCRIPTION:Breathe\, stretch\, and restore with this gentle\, low-impact yoga class designed for all bodies and abilities. Whether you’re new to yoga or looking for a relaxing midday reset\, Chair Yoga with Gina offers a welcoming space to improve flexibility\, balance\, and mindfulness — all from the comfort of a chair. \nNo experience necessary. Just bring yourself and a willingness to feel good!
URL:https://mowcommunitycenter.org/event/chair-yoga-with-gina-2/2027-04-13/
LOCATION:Meals on Wheels Community Center\, 700 Jewell Avenue\, Pacific Grove\, CA\, 93950\, United States
CATEGORIES:Programs & Classes
ATTACH;FMTTYPE=image/jpeg:https://mowcommunitycenter.org/wp-content/uploads/2025/12/Website_Events-YogaFitnessTrainingwGina-JAN2026.jpg
END:VEVENT
BEGIN:VEVENT
DTSTART;TZID=America/Denver:20270414T080000
DTEND;TZID=America/Denver:20270414T090000
DTSTAMP:20260422T174159
CREATED:20250611T154806Z
LAST-MODIFIED:20251103T220338Z
UID:10021582-1807689600-1807693200@mowcommunitycenter.org
SUMMARY:Walk for Health
DESCRIPTION:Start your morning with movement\, fresh air\, and friendly faces! Join fellow walkers for a fun and energizing way to boost your fitness\, improve your mood\, and connect with your community—one step at a time. \n📍 Meet at the Front DeskCenter membership required \nLet’s walk toward better health—together!
URL:https://mowcommunitycenter.org/event/walk-for-health-2/2027-04-14/
LOCATION:Meals on Wheels Community Center\, 700 Jewell Avenue\, Pacific Grove\, CA\, 93950\, United States
CATEGORIES:Programs & Classes
ATTACH;FMTTYPE=image/webp:https://mowcommunitycenter.org/wp-content/uploads/2025/06/communitycenter6.webp
END:VEVENT
BEGIN:VEVENT
DTSTART;TZID=America/Denver:20270416T080000
DTEND;TZID=America/Denver:20270416T090000
DTSTAMP:20260422T174159
CREATED:20250611T154806Z
LAST-MODIFIED:20251103T220338Z
UID:10021583-1807862400-1807866000@mowcommunitycenter.org
SUMMARY:Walk for Health
DESCRIPTION:Start your morning with movement\, fresh air\, and friendly faces! Join fellow walkers for a fun and energizing way to boost your fitness\, improve your mood\, and connect with your community—one step at a time. \n📍 Meet at the Front DeskCenter membership required \nLet’s walk toward better health—together!
URL:https://mowcommunitycenter.org/event/walk-for-health-2/2027-04-16/
LOCATION:Meals on Wheels Community Center\, 700 Jewell Avenue\, Pacific Grove\, CA\, 93950\, United States
CATEGORIES:Programs & Classes
ATTACH;FMTTYPE=image/webp:https://mowcommunitycenter.org/wp-content/uploads/2025/06/communitycenter6.webp
END:VEVENT
BEGIN:VEVENT
DTSTART;TZID=America/Denver:20270419T080000
DTEND;TZID=America/Denver:20270419T090000
DTSTAMP:20260422T174159
CREATED:20250611T154806Z
LAST-MODIFIED:20251103T220338Z
UID:10021584-1808121600-1808125200@mowcommunitycenter.org
SUMMARY:Walk for Health
DESCRIPTION:Start your morning with movement\, fresh air\, and friendly faces! Join fellow walkers for a fun and energizing way to boost your fitness\, improve your mood\, and connect with your community—one step at a time. \n📍 Meet at the Front DeskCenter membership required \nLet’s walk toward better health—together!
URL:https://mowcommunitycenter.org/event/walk-for-health-2/2027-04-19/
LOCATION:Meals on Wheels Community Center\, 700 Jewell Avenue\, Pacific Grove\, CA\, 93950\, United States
CATEGORIES:Programs & Classes
ATTACH;FMTTYPE=image/webp:https://mowcommunitycenter.org/wp-content/uploads/2025/06/communitycenter6.webp
END:VEVENT
BEGIN:VEVENT
DTSTART;TZID=America/Denver:20270420T120000
DTEND;TZID=America/Denver:20270420T130000
DTSTAMP:20260422T174159
CREATED:20251216T225730Z
LAST-MODIFIED:20251216T225730Z
UID:10025866-1808222400-1808226000@mowcommunitycenter.org
SUMMARY:Yoga & Fitness Training with Gina
DESCRIPTION:Breathe\, stretch\, and restore with this gentle\, low-impact yoga class designed for all bodies and abilities. Whether you’re new to yoga or looking for a relaxing midday reset\, Chair Yoga with Gina offers a welcoming space to improve flexibility\, balance\, and mindfulness — all from the comfort of a chair. \nNo experience necessary. Just bring yourself and a willingness to feel good!
URL:https://mowcommunitycenter.org/event/chair-yoga-with-gina-2/2027-04-20/
LOCATION:Meals on Wheels Community Center\, 700 Jewell Avenue\, Pacific Grove\, CA\, 93950\, United States
CATEGORIES:Programs & Classes
ATTACH;FMTTYPE=image/jpeg:https://mowcommunitycenter.org/wp-content/uploads/2025/12/Website_Events-YogaFitnessTrainingwGina-JAN2026.jpg
END:VEVENT
BEGIN:VEVENT
DTSTART;TZID=America/Denver:20270421T080000
DTEND;TZID=America/Denver:20270421T090000
DTSTAMP:20260422T174159
CREATED:20250611T154806Z
LAST-MODIFIED:20251103T220338Z
UID:10021585-1808294400-1808298000@mowcommunitycenter.org
SUMMARY:Walk for Health
DESCRIPTION:Start your morning with movement\, fresh air\, and friendly faces! Join fellow walkers for a fun and energizing way to boost your fitness\, improve your mood\, and connect with your community—one step at a time. \n📍 Meet at the Front DeskCenter membership required \nLet’s walk toward better health—together!
URL:https://mowcommunitycenter.org/event/walk-for-health-2/2027-04-21/
LOCATION:Meals on Wheels Community Center\, 700 Jewell Avenue\, Pacific Grove\, CA\, 93950\, United States
CATEGORIES:Programs & Classes
ATTACH;FMTTYPE=image/webp:https://mowcommunitycenter.org/wp-content/uploads/2025/06/communitycenter6.webp
END:VEVENT
BEGIN:VEVENT
DTSTART;TZID=America/Denver:20270423T080000
DTEND;TZID=America/Denver:20270423T090000
DTSTAMP:20260422T174159
CREATED:20250611T154806Z
LAST-MODIFIED:20251103T220338Z
UID:10021586-1808467200-1808470800@mowcommunitycenter.org
SUMMARY:Walk for Health
DESCRIPTION:Start your morning with movement\, fresh air\, and friendly faces! Join fellow walkers for a fun and energizing way to boost your fitness\, improve your mood\, and connect with your community—one step at a time. \n📍 Meet at the Front DeskCenter membership required \nLet’s walk toward better health—together!
URL:https://mowcommunitycenter.org/event/walk-for-health-2/2027-04-23/
LOCATION:Meals on Wheels Community Center\, 700 Jewell Avenue\, Pacific Grove\, CA\, 93950\, United States
CATEGORIES:Programs & Classes
ATTACH;FMTTYPE=image/webp:https://mowcommunitycenter.org/wp-content/uploads/2025/06/communitycenter6.webp
END:VEVENT
BEGIN:VEVENT
DTSTART;TZID=America/Denver:20270426T080000
DTEND;TZID=America/Denver:20270426T090000
DTSTAMP:20260422T174159
CREATED:20250611T154806Z
LAST-MODIFIED:20251103T220338Z
UID:10021587-1808726400-1808730000@mowcommunitycenter.org
SUMMARY:Walk for Health
DESCRIPTION:Start your morning with movement\, fresh air\, and friendly faces! Join fellow walkers for a fun and energizing way to boost your fitness\, improve your mood\, and connect with your community—one step at a time. \n📍 Meet at the Front DeskCenter membership required \nLet’s walk toward better health—together!
URL:https://mowcommunitycenter.org/event/walk-for-health-2/2027-04-26/
LOCATION:Meals on Wheels Community Center\, 700 Jewell Avenue\, Pacific Grove\, CA\, 93950\, United States
CATEGORIES:Programs & Classes
ATTACH;FMTTYPE=image/webp:https://mowcommunitycenter.org/wp-content/uploads/2025/06/communitycenter6.webp
END:VEVENT
BEGIN:VEVENT
DTSTART;TZID=America/Denver:20270427T120000
DTEND;TZID=America/Denver:20270427T130000
DTSTAMP:20260422T174159
CREATED:20251216T225730Z
LAST-MODIFIED:20251216T225730Z
UID:10025867-1808827200-1808830800@mowcommunitycenter.org
SUMMARY:Yoga & Fitness Training with Gina
DESCRIPTION:Breathe\, stretch\, and restore with this gentle\, low-impact yoga class designed for all bodies and abilities. Whether you’re new to yoga or looking for a relaxing midday reset\, Chair Yoga with Gina offers a welcoming space to improve flexibility\, balance\, and mindfulness — all from the comfort of a chair. \nNo experience necessary. Just bring yourself and a willingness to feel good!
URL:https://mowcommunitycenter.org/event/chair-yoga-with-gina-2/2027-04-27/
LOCATION:Meals on Wheels Community Center\, 700 Jewell Avenue\, Pacific Grove\, CA\, 93950\, United States
CATEGORIES:Programs & Classes
ATTACH;FMTTYPE=image/jpeg:https://mowcommunitycenter.org/wp-content/uploads/2025/12/Website_Events-YogaFitnessTrainingwGina-JAN2026.jpg
END:VEVENT
BEGIN:VEVENT
DTSTART;TZID=America/Denver:20270428T080000
DTEND;TZID=America/Denver:20270428T090000
DTSTAMP:20260422T174159
CREATED:20250611T154806Z
LAST-MODIFIED:20251103T220338Z
UID:10021588-1808899200-1808902800@mowcommunitycenter.org
SUMMARY:Walk for Health
DESCRIPTION:Start your morning with movement\, fresh air\, and friendly faces! Join fellow walkers for a fun and energizing way to boost your fitness\, improve your mood\, and connect with your community—one step at a time. \n📍 Meet at the Front DeskCenter membership required \nLet’s walk toward better health—together!
URL:https://mowcommunitycenter.org/event/walk-for-health-2/2027-04-28/
LOCATION:Meals on Wheels Community Center\, 700 Jewell Avenue\, Pacific Grove\, CA\, 93950\, United States
CATEGORIES:Programs & Classes
ATTACH;FMTTYPE=image/webp:https://mowcommunitycenter.org/wp-content/uploads/2025/06/communitycenter6.webp
END:VEVENT
BEGIN:VEVENT
DTSTART;TZID=America/Denver:20270430T080000
DTEND;TZID=America/Denver:20270430T090000
DTSTAMP:20260422T174159
CREATED:20250611T154806Z
LAST-MODIFIED:20251103T220338Z
UID:10021589-1809072000-1809075600@mowcommunitycenter.org
SUMMARY:Walk for Health
DESCRIPTION:Start your morning with movement\, fresh air\, and friendly faces! Join fellow walkers for a fun and energizing way to boost your fitness\, improve your mood\, and connect with your community—one step at a time. \n📍 Meet at the Front DeskCenter membership required \nLet’s walk toward better health—together!
URL:https://mowcommunitycenter.org/event/walk-for-health-2/2027-04-30/
LOCATION:Meals on Wheels Community Center\, 700 Jewell Avenue\, Pacific Grove\, CA\, 93950\, United States
CATEGORIES:Programs & Classes
ATTACH;FMTTYPE=image/webp:https://mowcommunitycenter.org/wp-content/uploads/2025/06/communitycenter6.webp
END:VEVENT
BEGIN:VEVENT
DTSTART;TZID=America/Denver:20270503T080000
DTEND;TZID=America/Denver:20270503T090000
DTSTAMP:20260422T174159
CREATED:20250611T154806Z
LAST-MODIFIED:20251103T220338Z
UID:10021590-1809331200-1809334800@mowcommunitycenter.org
SUMMARY:Walk for Health
DESCRIPTION:Start your morning with movement\, fresh air\, and friendly faces! Join fellow walkers for a fun and energizing way to boost your fitness\, improve your mood\, and connect with your community—one step at a time. \n📍 Meet at the Front DeskCenter membership required \nLet’s walk toward better health—together!
URL:https://mowcommunitycenter.org/event/walk-for-health-2/2027-05-03/
LOCATION:Meals on Wheels Community Center\, 700 Jewell Avenue\, Pacific Grove\, CA\, 93950\, United States
CATEGORIES:Programs & Classes
ATTACH;FMTTYPE=image/webp:https://mowcommunitycenter.org/wp-content/uploads/2025/06/communitycenter6.webp
END:VEVENT
BEGIN:VEVENT
DTSTART;TZID=America/Denver:20270504T120000
DTEND;TZID=America/Denver:20270504T130000
DTSTAMP:20260422T174159
CREATED:20251216T225730Z
LAST-MODIFIED:20251216T225730Z
UID:10025868-1809432000-1809435600@mowcommunitycenter.org
SUMMARY:Yoga & Fitness Training with Gina
DESCRIPTION:Breathe\, stretch\, and restore with this gentle\, low-impact yoga class designed for all bodies and abilities. Whether you’re new to yoga or looking for a relaxing midday reset\, Chair Yoga with Gina offers a welcoming space to improve flexibility\, balance\, and mindfulness — all from the comfort of a chair. \nNo experience necessary. Just bring yourself and a willingness to feel good!
URL:https://mowcommunitycenter.org/event/chair-yoga-with-gina-2/2027-05-04/
LOCATION:Meals on Wheels Community Center\, 700 Jewell Avenue\, Pacific Grove\, CA\, 93950\, United States
CATEGORIES:Programs & Classes
ATTACH;FMTTYPE=image/jpeg:https://mowcommunitycenter.org/wp-content/uploads/2025/12/Website_Events-YogaFitnessTrainingwGina-JAN2026.jpg
END:VEVENT
BEGIN:VEVENT
DTSTART;TZID=America/Denver:20270505T080000
DTEND;TZID=America/Denver:20270505T090000
DTSTAMP:20260422T174159
CREATED:20250611T154806Z
LAST-MODIFIED:20251103T220338Z
UID:10021591-1809504000-1809507600@mowcommunitycenter.org
SUMMARY:Walk for Health
DESCRIPTION:Start your morning with movement\, fresh air\, and friendly faces! Join fellow walkers for a fun and energizing way to boost your fitness\, improve your mood\, and connect with your community—one step at a time. \n📍 Meet at the Front DeskCenter membership required \nLet’s walk toward better health—together!
URL:https://mowcommunitycenter.org/event/walk-for-health-2/2027-05-05/
LOCATION:Meals on Wheels Community Center\, 700 Jewell Avenue\, Pacific Grove\, CA\, 93950\, United States
CATEGORIES:Programs & Classes
ATTACH;FMTTYPE=image/webp:https://mowcommunitycenter.org/wp-content/uploads/2025/06/communitycenter6.webp
END:VEVENT
BEGIN:VEVENT
DTSTART;TZID=America/Denver:20270507T080000
DTEND;TZID=America/Denver:20270507T090000
DTSTAMP:20260422T174159
CREATED:20250611T154806Z
LAST-MODIFIED:20251103T220338Z
UID:10021592-1809676800-1809680400@mowcommunitycenter.org
SUMMARY:Walk for Health
DESCRIPTION:Start your morning with movement\, fresh air\, and friendly faces! Join fellow walkers for a fun and energizing way to boost your fitness\, improve your mood\, and connect with your community—one step at a time. \n📍 Meet at the Front DeskCenter membership required \nLet’s walk toward better health—together!
URL:https://mowcommunitycenter.org/event/walk-for-health-2/2027-05-07/
LOCATION:Meals on Wheels Community Center\, 700 Jewell Avenue\, Pacific Grove\, CA\, 93950\, United States
CATEGORIES:Programs & Classes
ATTACH;FMTTYPE=image/webp:https://mowcommunitycenter.org/wp-content/uploads/2025/06/communitycenter6.webp
END:VEVENT
BEGIN:VEVENT
DTSTART;TZID=America/Denver:20270510T080000
DTEND;TZID=America/Denver:20270510T090000
DTSTAMP:20260422T174159
CREATED:20250611T154806Z
LAST-MODIFIED:20251103T220338Z
UID:10021593-1809936000-1809939600@mowcommunitycenter.org
SUMMARY:Walk for Health
DESCRIPTION:Start your morning with movement\, fresh air\, and friendly faces! Join fellow walkers for a fun and energizing way to boost your fitness\, improve your mood\, and connect with your community—one step at a time. \n📍 Meet at the Front DeskCenter membership required \nLet’s walk toward better health—together!
URL:https://mowcommunitycenter.org/event/walk-for-health-2/2027-05-10/
LOCATION:Meals on Wheels Community Center\, 700 Jewell Avenue\, Pacific Grove\, CA\, 93950\, United States
CATEGORIES:Programs & Classes
ATTACH;FMTTYPE=image/webp:https://mowcommunitycenter.org/wp-content/uploads/2025/06/communitycenter6.webp
END:VEVENT
BEGIN:VEVENT
DTSTART;TZID=America/Denver:20270511T120000
DTEND;TZID=America/Denver:20270511T130000
DTSTAMP:20260422T174159
CREATED:20251216T225730Z
LAST-MODIFIED:20251216T225730Z
UID:10025869-1810036800-1810040400@mowcommunitycenter.org
SUMMARY:Yoga & Fitness Training with Gina
DESCRIPTION:Breathe\, stretch\, and restore with this gentle\, low-impact yoga class designed for all bodies and abilities. Whether you’re new to yoga or looking for a relaxing midday reset\, Chair Yoga with Gina offers a welcoming space to improve flexibility\, balance\, and mindfulness — all from the comfort of a chair. \nNo experience necessary. Just bring yourself and a willingness to feel good!
URL:https://mowcommunitycenter.org/event/chair-yoga-with-gina-2/2027-05-11/
LOCATION:Meals on Wheels Community Center\, 700 Jewell Avenue\, Pacific Grove\, CA\, 93950\, United States
CATEGORIES:Programs & Classes
ATTACH;FMTTYPE=image/jpeg:https://mowcommunitycenter.org/wp-content/uploads/2025/12/Website_Events-YogaFitnessTrainingwGina-JAN2026.jpg
END:VEVENT
BEGIN:VEVENT
DTSTART;TZID=America/Denver:20270512T080000
DTEND;TZID=America/Denver:20270512T090000
DTSTAMP:20260422T174159
CREATED:20250611T154806Z
LAST-MODIFIED:20251103T220338Z
UID:10021594-1810108800-1810112400@mowcommunitycenter.org
SUMMARY:Walk for Health
DESCRIPTION:Start your morning with movement\, fresh air\, and friendly faces! Join fellow walkers for a fun and energizing way to boost your fitness\, improve your mood\, and connect with your community—one step at a time. \n📍 Meet at the Front DeskCenter membership required \nLet’s walk toward better health—together!
URL:https://mowcommunitycenter.org/event/walk-for-health-2/2027-05-12/
LOCATION:Meals on Wheels Community Center\, 700 Jewell Avenue\, Pacific Grove\, CA\, 93950\, United States
CATEGORIES:Programs & Classes
ATTACH;FMTTYPE=image/webp:https://mowcommunitycenter.org/wp-content/uploads/2025/06/communitycenter6.webp
END:VEVENT
BEGIN:VEVENT
DTSTART;TZID=America/Denver:20270514T080000
DTEND;TZID=America/Denver:20270514T090000
DTSTAMP:20260422T174159
CREATED:20250611T154806Z
LAST-MODIFIED:20251103T220338Z
UID:10021595-1810281600-1810285200@mowcommunitycenter.org
SUMMARY:Walk for Health
DESCRIPTION:Start your morning with movement\, fresh air\, and friendly faces! Join fellow walkers for a fun and energizing way to boost your fitness\, improve your mood\, and connect with your community—one step at a time. \n📍 Meet at the Front DeskCenter membership required \nLet’s walk toward better health—together!
URL:https://mowcommunitycenter.org/event/walk-for-health-2/2027-05-14/
LOCATION:Meals on Wheels Community Center\, 700 Jewell Avenue\, Pacific Grove\, CA\, 93950\, United States
CATEGORIES:Programs & Classes
ATTACH;FMTTYPE=image/webp:https://mowcommunitycenter.org/wp-content/uploads/2025/06/communitycenter6.webp
END:VEVENT
BEGIN:VEVENT
DTSTART;TZID=America/Denver:20270517T080000
DTEND;TZID=America/Denver:20270517T090000
DTSTAMP:20260422T174159
CREATED:20250611T154806Z
LAST-MODIFIED:20251103T220338Z
UID:10021596-1810540800-1810544400@mowcommunitycenter.org
SUMMARY:Walk for Health
DESCRIPTION:Start your morning with movement\, fresh air\, and friendly faces! Join fellow walkers for a fun and energizing way to boost your fitness\, improve your mood\, and connect with your community—one step at a time. \n📍 Meet at the Front DeskCenter membership required \nLet’s walk toward better health—together!
URL:https://mowcommunitycenter.org/event/walk-for-health-2/2027-05-17/
LOCATION:Meals on Wheels Community Center\, 700 Jewell Avenue\, Pacific Grove\, CA\, 93950\, United States
CATEGORIES:Programs & Classes
ATTACH;FMTTYPE=image/webp:https://mowcommunitycenter.org/wp-content/uploads/2025/06/communitycenter6.webp
END:VEVENT
BEGIN:VEVENT
DTSTART;TZID=America/Denver:20270518T120000
DTEND;TZID=America/Denver:20270518T130000
DTSTAMP:20260422T174159
CREATED:20251216T225730Z
LAST-MODIFIED:20251216T225730Z
UID:10025870-1810641600-1810645200@mowcommunitycenter.org
SUMMARY:Yoga & Fitness Training with Gina
DESCRIPTION:Breathe\, stretch\, and restore with this gentle\, low-impact yoga class designed for all bodies and abilities. Whether you’re new to yoga or looking for a relaxing midday reset\, Chair Yoga with Gina offers a welcoming space to improve flexibility\, balance\, and mindfulness — all from the comfort of a chair. \nNo experience necessary. Just bring yourself and a willingness to feel good!
URL:https://mowcommunitycenter.org/event/chair-yoga-with-gina-2/2027-05-18/
LOCATION:Meals on Wheels Community Center\, 700 Jewell Avenue\, Pacific Grove\, CA\, 93950\, United States
CATEGORIES:Programs & Classes
ATTACH;FMTTYPE=image/jpeg:https://mowcommunitycenter.org/wp-content/uploads/2025/12/Website_Events-YogaFitnessTrainingwGina-JAN2026.jpg
END:VEVENT
BEGIN:VEVENT
DTSTART;TZID=America/Denver:20270519T080000
DTEND;TZID=America/Denver:20270519T090000
DTSTAMP:20260422T174159
CREATED:20250611T154806Z
LAST-MODIFIED:20251103T220338Z
UID:10021597-1810713600-1810717200@mowcommunitycenter.org
SUMMARY:Walk for Health
DESCRIPTION:Start your morning with movement\, fresh air\, and friendly faces! Join fellow walkers for a fun and energizing way to boost your fitness\, improve your mood\, and connect with your community—one step at a time. \n📍 Meet at the Front DeskCenter membership required \nLet’s walk toward better health—together!
URL:https://mowcommunitycenter.org/event/walk-for-health-2/2027-05-19/
LOCATION:Meals on Wheels Community Center\, 700 Jewell Avenue\, Pacific Grove\, CA\, 93950\, United States
CATEGORIES:Programs & Classes
ATTACH;FMTTYPE=image/webp:https://mowcommunitycenter.org/wp-content/uploads/2025/06/communitycenter6.webp
END:VEVENT
BEGIN:VEVENT
DTSTART;TZID=America/Denver:20270521T080000
DTEND;TZID=America/Denver:20270521T090000
DTSTAMP:20260422T174159
CREATED:20250611T154806Z
LAST-MODIFIED:20251103T220338Z
UID:10021598-1810886400-1810890000@mowcommunitycenter.org
SUMMARY:Walk for Health
DESCRIPTION:Start your morning with movement\, fresh air\, and friendly faces! Join fellow walkers for a fun and energizing way to boost your fitness\, improve your mood\, and connect with your community—one step at a time. \n📍 Meet at the Front DeskCenter membership required \nLet’s walk toward better health—together!
URL:https://mowcommunitycenter.org/event/walk-for-health-2/2027-05-21/
LOCATION:Meals on Wheels Community Center\, 700 Jewell Avenue\, Pacific Grove\, CA\, 93950\, United States
CATEGORIES:Programs & Classes
ATTACH;FMTTYPE=image/webp:https://mowcommunitycenter.org/wp-content/uploads/2025/06/communitycenter6.webp
END:VEVENT
BEGIN:VEVENT
DTSTART;TZID=America/Denver:20270524T080000
DTEND;TZID=America/Denver:20270524T090000
DTSTAMP:20260422T174159
CREATED:20250611T154806Z
LAST-MODIFIED:20251103T220338Z
UID:10021599-1811145600-1811149200@mowcommunitycenter.org
SUMMARY:Walk for Health
DESCRIPTION:Start your morning with movement\, fresh air\, and friendly faces! Join fellow walkers for a fun and energizing way to boost your fitness\, improve your mood\, and connect with your community—one step at a time. \n📍 Meet at the Front DeskCenter membership required \nLet’s walk toward better health—together!
URL:https://mowcommunitycenter.org/event/walk-for-health-2/2027-05-24/
LOCATION:Meals on Wheels Community Center\, 700 Jewell Avenue\, Pacific Grove\, CA\, 93950\, United States
CATEGORIES:Programs & Classes
ATTACH;FMTTYPE=image/webp:https://mowcommunitycenter.org/wp-content/uploads/2025/06/communitycenter6.webp
END:VEVENT
BEGIN:VEVENT
DTSTART;TZID=America/Denver:20270525T120000
DTEND;TZID=America/Denver:20270525T130000
DTSTAMP:20260422T174159
CREATED:20251216T225730Z
LAST-MODIFIED:20251216T225730Z
UID:10025871-1811246400-1811250000@mowcommunitycenter.org
SUMMARY:Yoga & Fitness Training with Gina
DESCRIPTION:Breathe\, stretch\, and restore with this gentle\, low-impact yoga class designed for all bodies and abilities. Whether you’re new to yoga or looking for a relaxing midday reset\, Chair Yoga with Gina offers a welcoming space to improve flexibility\, balance\, and mindfulness — all from the comfort of a chair. \nNo experience necessary. Just bring yourself and a willingness to feel good!
URL:https://mowcommunitycenter.org/event/chair-yoga-with-gina-2/2027-05-25/
LOCATION:Meals on Wheels Community Center\, 700 Jewell Avenue\, Pacific Grove\, CA\, 93950\, United States
CATEGORIES:Programs & Classes
ATTACH;FMTTYPE=image/jpeg:https://mowcommunitycenter.org/wp-content/uploads/2025/12/Website_Events-YogaFitnessTrainingwGina-JAN2026.jpg
END:VEVENT
BEGIN:VEVENT
DTSTART;TZID=America/Denver:20270526T080000
DTEND;TZID=America/Denver:20270526T090000
DTSTAMP:20260422T174159
CREATED:20250611T154806Z
LAST-MODIFIED:20251103T220338Z
UID:10021600-1811318400-1811322000@mowcommunitycenter.org
SUMMARY:Walk for Health
DESCRIPTION:Start your morning with movement\, fresh air\, and friendly faces! Join fellow walkers for a fun and energizing way to boost your fitness\, improve your mood\, and connect with your community—one step at a time. \n📍 Meet at the Front DeskCenter membership required \nLet’s walk toward better health—together!
URL:https://mowcommunitycenter.org/event/walk-for-health-2/2027-05-26/
LOCATION:Meals on Wheels Community Center\, 700 Jewell Avenue\, Pacific Grove\, CA\, 93950\, United States
CATEGORIES:Programs & Classes
ATTACH;FMTTYPE=image/webp:https://mowcommunitycenter.org/wp-content/uploads/2025/06/communitycenter6.webp
END:VEVENT
BEGIN:VEVENT
DTSTART;TZID=America/Denver:20270528T080000
DTEND;TZID=America/Denver:20270528T090000
DTSTAMP:20260422T174159
CREATED:20250611T154806Z
LAST-MODIFIED:20251103T220338Z
UID:10021601-1811491200-1811494800@mowcommunitycenter.org
SUMMARY:Walk for Health
DESCRIPTION:Start your morning with movement\, fresh air\, and friendly faces! Join fellow walkers for a fun and energizing way to boost your fitness\, improve your mood\, and connect with your community—one step at a time. \n📍 Meet at the Front DeskCenter membership required \nLet’s walk toward better health—together!
URL:https://mowcommunitycenter.org/event/walk-for-health-2/2027-05-28/
LOCATION:Meals on Wheels Community Center\, 700 Jewell Avenue\, Pacific Grove\, CA\, 93950\, United States
CATEGORIES:Programs & Classes
ATTACH;FMTTYPE=image/webp:https://mowcommunitycenter.org/wp-content/uploads/2025/06/communitycenter6.webp
END:VEVENT
BEGIN:VEVENT
DTSTART;TZID=America/Denver:20270531T080000
DTEND;TZID=America/Denver:20270531T090000
DTSTAMP:20260422T174159
CREATED:20250611T154806Z
LAST-MODIFIED:20251103T220338Z
UID:10021602-1811750400-1811754000@mowcommunitycenter.org
SUMMARY:Walk for Health
DESCRIPTION:Start your morning with movement\, fresh air\, and friendly faces! Join fellow walkers for a fun and energizing way to boost your fitness\, improve your mood\, and connect with your community—one step at a time. \n📍 Meet at the Front DeskCenter membership required \nLet’s walk toward better health—together!
URL:https://mowcommunitycenter.org/event/walk-for-health-2/2027-05-31/
LOCATION:Meals on Wheels Community Center\, 700 Jewell Avenue\, Pacific Grove\, CA\, 93950\, United States
CATEGORIES:Programs & Classes
ATTACH;FMTTYPE=image/webp:https://mowcommunitycenter.org/wp-content/uploads/2025/06/communitycenter6.webp
END:VEVENT
BEGIN:VEVENT
DTSTART;TZID=America/Denver:20270601T120000
DTEND;TZID=America/Denver:20270601T130000
DTSTAMP:20260422T174159
CREATED:20251216T225730Z
LAST-MODIFIED:20251216T225730Z
UID:10025872-1811851200-1811854800@mowcommunitycenter.org
SUMMARY:Yoga & Fitness Training with Gina
DESCRIPTION:Breathe\, stretch\, and restore with this gentle\, low-impact yoga class designed for all bodies and abilities. Whether you’re new to yoga or looking for a relaxing midday reset\, Chair Yoga with Gina offers a welcoming space to improve flexibility\, balance\, and mindfulness — all from the comfort of a chair. \nNo experience necessary. Just bring yourself and a willingness to feel good!
URL:https://mowcommunitycenter.org/event/chair-yoga-with-gina-2/2027-06-01/
LOCATION:Meals on Wheels Community Center\, 700 Jewell Avenue\, Pacific Grove\, CA\, 93950\, United States
CATEGORIES:Programs & Classes
ATTACH;FMTTYPE=image/jpeg:https://mowcommunitycenter.org/wp-content/uploads/2025/12/Website_Events-YogaFitnessTrainingwGina-JAN2026.jpg
END:VEVENT
BEGIN:VEVENT
DTSTART;TZID=America/Denver:20270602T080000
DTEND;TZID=America/Denver:20270602T090000
DTSTAMP:20260422T174159
CREATED:20250611T154806Z
LAST-MODIFIED:20251103T220338Z
UID:10021603-1811923200-1811926800@mowcommunitycenter.org
SUMMARY:Walk for Health
DESCRIPTION:Start your morning with movement\, fresh air\, and friendly faces! Join fellow walkers for a fun and energizing way to boost your fitness\, improve your mood\, and connect with your community—one step at a time. \n📍 Meet at the Front DeskCenter membership required \nLet’s walk toward better health—together!
URL:https://mowcommunitycenter.org/event/walk-for-health-2/2027-06-02/
LOCATION:Meals on Wheels Community Center\, 700 Jewell Avenue\, Pacific Grove\, CA\, 93950\, United States
CATEGORIES:Programs & Classes
ATTACH;FMTTYPE=image/webp:https://mowcommunitycenter.org/wp-content/uploads/2025/06/communitycenter6.webp
END:VEVENT
END:VCALENDAR